{"text_format":"1","workbook":"xlsx","n_sheets":3,"sheets":["HISTO","PARAMETRES","BILAN"],"not_rendered":{"charts":2,"images":1,"macros":1,"external_links":0,"defined_names":2,"comments":1,"pivot_tables":0},"unopened":[],"bounds":{"document_bytes":16777216,"sheet_cells":100000,"rows_first":2000,"rows_last":500,"rows_between":2000,"halvings":0,"cell_chars":16384,"cell_head_chars":4096},"cells_cut":0,"cells_raw":0,"read":"whole","date_system":"1900"}

{"sheet":"HISTO","index":0,"n_rows":1,"n_cols":18,"rows_kept":1,"cut":false,"hidden":false,"merged":[]}
["ETABLIS","EXERCICE","REJET","BORDEREAU","MANDAT","SERVICE","COMPTE","FOURNIS","LIQUID","DATE","REFERENCE","REAFFECT","CATEGORIE","C.RUBRIQUE","RUBRIQUE","PROCEDURE","EPCP","MTEPCP"]

{"sheet":"PARAMETRES","index":1,"n_rows":5,"n_cols":2,"rows_kept":5,"cut":false,"hidden":false,"merged":[]}
[]
[]
[null,"ÉTABLISSEMENT"]
[null,"ADRESSE (VOIE)"]
[null,"CODE POSTAL - COMMUNE"]

{"sheet":"BILAN","index":2,"n_rows":2001,"n_cols":30,"rows_kept":2001,"cut":false,"hidden":false,"merged":[[22,0,22,1],[8,0,8,5],[5,0,5,5],[3,0,3,5],[0,0,0,5],[1,0,1,5],[2,0,2,5],[6,0,6,5]]}
[{"$f":"PARAMETRES!C3","v":0},null,null,null,null,null,null,null,null,null,null,null,null,null,null,null,null,null,null,null,null,null,null,null,null,null,null,null,null,"GROUP. CDES"]
[{"$f":"PARAMETRES!C4","v":0},null,null,null,null,null,null,null,null,null,null,null,null,null,null,null,null,null,null,null,null,null,null,null,null,null,null,{"$f":"HISTO!P2","v":0},{"$f":"AB2","v":0},"MAPA+PA"]
[{"$f":"PARAMETRES!C5","v":0},null,null,null,null,null,null,null,null,null,null,null,null,null,null,null,null,null,null,null,null,null,null,null,null,null,null,{"$f":"HISTO!P3","v":0},{"$f":"IF(AC2=\"\",\"Zonard\",INDEX(AB3:AB$2008,MIN(IF(COUNTIF(AC$2:AC2,AB3:AB$2008),ROW(AB$2008)-ROW()+1,ROW(AB3:AB$2008)-ROW()+1))))","v":0},"MAPA+PF"]
[{"$f":"HISTO!A2","v":0},null,null,null,null,null,null,null,null,null,null,null,null,null,null,null,null,null,null,null,null,null,null,null,null,null,null,{"$f":"HISTO!P4","v":0},{"$f":"IF(AC3=\"\",\"Zonard\",INDEX(AB4:AB$2008,MIN(IF(COUNTIF(AC$2:AC3,AB4:AB$2008),ROW(AB$2008)-ROW()+1,ROW(AB4:AB$2008)-ROW()+1))))","v":0},"MAPNF"]
[null,null,null,null,null,null,null,null,null,null,null,null,null,null,null,null,null,null,null,null,null,null,null,null,null,null,null,{"$f":"HISTO!P5","v":0},{"$f":"IF(AC4=\"\",\"Zonard\",INDEX(AB5:AB$2008,MIN(IF(COUNTIF(AC$2:AC4,AB5:AB$2008),ROW(AB$2008)-ROW()+1,ROW(AB5:AB$2008)-ROW()+1))))","v":0},"SANS OBJET"]
["EXÉCUTION DE L'ETAT PREVISIONNEL DES ACHATS",null,null,null,null,null,null,null,null,null,null,null,null,null,null,null,null,null,null,null,null,null,null,null,null,null,null,{"$f":"HISTO!P6","v":0},{"$f":"IF(AC5=\"\",\"Zonard\",INDEX(AB6:AB$2008,MIN(IF(COUNTIF(AC$2:AC5,AB6:AB$2008),ROW(AB$2008)-ROW()+1,ROW(AB6:AB$2008)-ROW()+1))))","v":0},"UGAP"]
[{"$f":"CONCATENATE(\"Exercice \",HISTO!B2)","v":"Exercice "},null,"Exercice :",{"$f":"HISTO!B2","v":0},null,null,null,null,null,null,null,null,null,null,null,null,null,null,null,null,null,null,null,null,null,null,null,{"$f":"HISTO!P7","v":0},{"$f":"IF(AC6=\"\",\"Zonard\",INDEX(AB7:AB$2008,MIN(IF(COUNTIF(AC$2:AC6,AB7:AB$2008),ROW(AB$2008)-ROW()+1,ROW(AB7:AB$2008)-ROW()+1))))","v":0}]
[null,null,null,null,null,null,null,null,null,null,null,null,null,null,null,null,null,null,null,null,null,null,null,null,null,null,null,{"$f":"HISTO!P8","v":0},{"$f":"IF(AC7=\"\",\"Zonard\",INDEX(AB8:AB$2008,MIN(IF(COUNTIF(AC$2:AC7,AB8:AB$2008),ROW(AB$2008)-ROW()+1,ROW(AB8:AB$2008)-ROW()+1))))","v":0}]
["TABLEAU DE RÉPARTITION DES VOLUMES ENREGISTRÉS",null,null,null,null,null,null,null,null,null,null,null,null,null,null,null,null,null,null,null,null,null,null,null,null,null,null,{"$f":"HISTO!P9","v":0},{"$f":"IF(AC8=\"\",\"Zonard\",INDEX(AB9:AB$2008,MIN(IF(COUNTIF(AC$2:AC8,AB9:AB$2008),ROW(AB$2008)-ROW()+1,ROW(AB9:AB$2008)-ROW()+1))))","v":0}]
["Codification gfc","Libellé","Montant","% des montants","Opérations","% des opérations",null,null,null,null,null,null,null,null,null,null,null,null,null,null,null,null,null,null,null,null,null,{"$f":"HISTO!P10","v":0},{"$f":"IF(AC9=\"\",\"Zonard\",INDEX(AB10:AB$2008,MIN(IF(COUNTIF(AC$2:AC9,AB10:AB$2008),ROW(AB$2008)-ROW()+1,ROW(AB10:AB$2008)-ROW()+1))))","v":0}]
[{"$f":"IF(AD1=0,\"\",AD1)","v":"GROUP. CDES"},"Groupements de commandes",{"$f":"SUMPRODUCT((HISTO!$R$2:$R$2000)*(HISTO!$P$2:$P$2000=A11))","v":0},{"$f":"C11/$C$23","v":{"$error":"#DIV/0!"}},{"$f":"SUMPRODUCT((HISTO!$I$2:$I$2000>0)*(HISTO!$P$2:$P$2000=A11))","v":0},{"$f":"E11/$E$23","v":{"$error":"#DIV/0!"}},null,null,null,null,null,null,null,null,null,null,null,null,null,null,null,null,null,null,null,null,null,{"$f":"HISTO!P11","v":0},{"$f":"IF(AC10=\"\",\"Zonard\",INDEX(AB11:AB$2008,MIN(IF(COUNTIF(AC$2:AC10,AB11:AB$2008),ROW(AB$2008)-ROW()+1,ROW(AB11:AB$2008)-ROW()+1))))","v":0},0]
["MAPA+PA","Procédure adaptée, publicité adaptée",{"$f":"SUMPRODUCT((HISTO!$R$2:$R$2000)*(HISTO!$P$2:$P$2000=A12))","v":0},{"$f":"C12/$C$23","v":{"$error":"#DIV/0!"}},{"$f":"SUMPRODUCT((HISTO!$I$2:$I$2000>0)*(HISTO!$P$2:$P$2000=A12))","v":0},{"$f":"E12/$E$23","v":{"$error":"#DIV/0!"}},null,null,null,null,null,null,null,null,null,null,null,null,null,null,null,null,null,null,null,null,null,{"$f":"HISTO!P12","v":0},{"$f":"IF(AC11=\"\",\"Zonard\",INDEX(AB12:AB$2008,MIN(IF(COUNTIF(AC$2:AC11,AB12:AB$2008),ROW(AB$2008)-ROW()+1,ROW(AB12:AB$2008)-ROW()+1))))","v":0},0]
["MAPA+PF","Procédure adaptée, publicité formalisée",{"$f":"SUMPRODUCT((HISTO!$R$2:$R$2000)*(HISTO!$P$2:$P$2000=A13))","v":0},{"$f":"C13/$C$23","v":{"$error":"#DIV/0!"}},{"$f":"SUMPRODUCT((HISTO!$I$2:$I$2000>0)*(HISTO!$P$2:$P$2000=A13))","v":0},{"$f":"E13/$E$23","v":{"$error":"#DIV/0!"}},null,null,null,null,null,null,null,null,null,null,null,null,null,null,null,null,null,null,null,null,null,null,null,0]
["MAPNF","Pas de formalisation, pas de publicité",{"$f":"SUMPRODUCT((HISTO!$R$2:$R$2000)*(HISTO!$P$2:$P$2000=A14))","v":0},{"$error":"#DIV/0!"},{"$f":"SUMPRODUCT((HISTO!$I$2:$I$2000>0)*(HISTO!$P$2:$P$2000=A14))","v":0},{"$error":"#DIV/0!"},null,null,null,null,null,null,null,null,null,null,null,null,null,null,null,null,null,null,null,null,null,null,null,0]
["SANS OBJET","Pas de marché possible",{"$f":"SUMPRODUCT((HISTO!$R$2:$R$2000)*(HISTO!$P$2:$P$2000=A15))","v":0},{"$f":"C15/$C$23","v":{"$error":"#DIV/0!"}},{"$f":"SUMPRODUCT((HISTO!$I$2:$I$2000>0)*(HISTO!$P$2:$P$2000=A15))","v":0},{"$error":"#DIV/0!"},null,null,null,null,null,null,null,null,null,null,null,null,null,null,null,null,null,null,null,null,null,{"$f":"HISTO!P13","v":0},{"$f":"IF(AC12=\"\",\"Zonard\",INDEX(AB15:AB$2008,MIN(IF(COUNTIF(AC$2:AC12,AB15:AB$2008),ROW(AB$2008)-ROW()+1,ROW(AB15:AB$2008)-ROW()+1))))","v":0},0]
["UGAP","Union des Groupements d'Achat Public",{"$f":"SUMPRODUCT((HISTO!$R$2:$R$2000)*(HISTO!$P$2:$P$2000=A16))","v":0},{"$f":"C16/$C$23","v":{"$error":"#DIV/0!"}},{"$f":"SUMPRODUCT((HISTO!$I$2:$I$2000>0)*(HISTO!$P$2:$P$2000=A16))","v":0},{"$error":"#DIV/0!"},null,null,null,null,null,null,null,null,null,null,null,null,null,null,null,null,null,null,null,null,null,{"$f":"HISTO!P14","v":0},{"$f":"IF(AC15=\"\",\"Zonard\",INDEX(AB16:AB$2008,MIN(IF(COUNTIF(AC$2:AC15,AB16:AB$2008),ROW(AB$2008)-ROW()+1,ROW(AB16:AB$2008)-ROW()+1))))","v":0},0]
["",null,{"$f":"SUMPRODUCT((HISTO!$R$2:$R$2000)*(HISTO!$P$2:$P$2000=A17))","v":0},{"$f":"C17/$C$23","v":{"$error":"#DIV/0!"}},{"$f":"SUMPRODUCT((HISTO!$I$2:$I$2000>0)*(HISTO!$P$2:$P$2000=A17))","v":0},{"$error":"#DIV/0!"},null,null,null,null,null,null,null,null,null,null,null,null,null,null,null,null,null,null,null,null,null,{"$f":"HISTO!P15","v":0},{"$f":"IF(AC16=\"\",\"Zonard\",INDEX(AB17:AB$2008,MIN(IF(COUNTIF(AC$2:AC16,AB17:AB$2008),ROW(AB$2008)-ROW()+1,ROW(AB17:AB$2008)-ROW()+1))))","v":0},0]
[{"$f":"IF(AD6=0,\"\",AD6)","v":"UGAP"},null,{"$f":"SUMPRODUCT((HISTO!$R$2:$R$2000)*(HISTO!$P$2:$P$2000=A18))","v":0},null,{"$f":"SUMPRODUCT((HISTO!$I$2:$I$2000>0)*(HISTO!$P$2:$P$2000=A18))","v":0},null,null,null,null,null,null,null,null,null,null,null,null,null,null,null,null,null,null,null,null,null,null,{"$f":"HISTO!P16","v":0},{"$f":"IF(AC17=\"\",\"Zonard\",INDEX(AB18:AB$2008,MIN(IF(COUNTIF(AC$2:AC17,AB18:AB$2008),ROW(AB$2008)-ROW()+1,ROW(AB18:AB$2008)-ROW()+1))))","v":0},0]
["",null,{"$f":"SUMPRODUCT((HISTO!$R$2:$R$2000)*(HISTO!$P$2:$P$2000=A19))","v":0},null,{"$f":"SUMPRODUCT((HISTO!$I$2:$I$2000>0)*(HISTO!$P$2:$P$2000=A19))","v":0},null,null,null,null,null,null,null,null,null,null,null,null,null,null,null,null,null,null,null,null,null,null,{"$f":"HISTO!P17","v":0},{"$f":"IF(AC18=\"\",\"Zonard\",INDEX(AB19:AB$2008,MIN(IF(COUNTIF(AC$2:AC18,AB19:AB$2008),ROW(AB$2008)-ROW()+1,ROW(AB19:AB$2008)-ROW()+1))))","v":0},0]
["",null,{"$f":"SUMPRODUCT((HISTO!$R$2:$R$2000)*(HISTO!$P$2:$P$2000=A20))","v":0},null,{"$f":"SUMPRODUCT((HISTO!$I$2:$I$2000>0)*(HISTO!$P$2:$P$2000=A20))","v":0},null,null,null,null,null,null,null,null,null,null,null,null,null,null,null,null,null,null,null,null,null,null,{"$f":"HISTO!P18","v":0},{"$f":"IF(AC19=\"\",\"Zonard\",INDEX(AB20:AB$2008,MIN(IF(COUNTIF(AC$2:AC19,AB20:AB$2008),ROW(AB$2008)-ROW()+1,ROW(AB20:AB$2008)-ROW()+1))))","v":0},0]
["",null,{"$f":"SUMPRODUCT((HISTO!$R$2:$R$2000)*(HISTO!$P$2:$P$2000=A21))","v":0},null,{"$f":"SUMPRODUCT((HISTO!$I$2:$I$2000>0)*(HISTO!$P$2:$P$2000=A21))","v":0},null,null,null,null,null,null,null,null,null,null,null,null,null,null,null,null,null,null,null,null,null,null,{"$f":"HISTO!P19","v":0},{"$f":"IF(AC20=\"\",\"Zonard\",INDEX(AB21:AB$2008,MIN(IF(COUNTIF(AC$2:AC20,AB21:AB$2008),ROW(AB$2008)-ROW()+1,ROW(AB21:AB$2008)-ROW()+1))))","v":0},0]
["",null,{"$f":"SUMPRODUCT((HISTO!$R$2:$R$2000)*(HISTO!$P$2:$P$2000=A22))","v":0},null,{"$f":"SUMPRODUCT((HISTO!$I$2:$I$2000>0)*(HISTO!$P$2:$P$2000=A22))","v":0},null,null,null,null,null,null,null,null,null,null,null,null,null,null,null,null,null,null,null,null,null,null,{"$f":"HISTO!P20","v":0},{"$f":"IF(AC21=\"\",\"Zonard\",INDEX(AB22:AB$2008,MIN(IF(COUNTIF(AC$2:AC21,AB22:AB$2008),ROW(AB$2008)-ROW()+1,ROW(AB22:AB$2008)-ROW()+1))))","v":0},0]
["TOTAUX",null,{"$f":"SUM(C11:C17)","v":0},{"$f":"SUM(D11:D17)","v":{"$error":"#DIV/0!"}},{"$f":"SUM(E11:E17)","v":0},{"$f":"SUM(F11:F17)","v":{"$error":"#DIV/0!"}},null,null,null,null,null,null,null,null,null,null,null,null,null,null,null,null,null,null,null,null,null,{"$f":"HISTO!P21","v":0},{"$f":"IF(AC22=\"\",\"Zonard\",INDEX(AB23:AB$2008,MIN(IF(COUNTIF(AC$2:AC22,AB23:AB$2008),ROW(AB$2008)-ROW()+1,ROW(AB23:AB$2008)-ROW()+1))))","v":0},0]
[null,null,null,null,null,null,null,null,null,null,null,null,null,null,null,null,null,null,null,null,null,null,null,null,null,null,null,{"$f":"HISTO!P22","v":0},{"$f":"IF(AC23=\"\",\"Zonard\",INDEX(AB24:AB$2008,MIN(IF(COUNTIF(AC$2:AC23,AB24:AB$2008),ROW(AB$2008)-ROW()+1,ROW(AB24:AB$2008)-ROW()+1))))","v":0},0]
[null,null,null,null,null,null,null,null,null,null,null,null,null,null,null,null,null,null,null,null,null,null,null,null,null,null,null,{"$f":"HISTO!P23","v":0},{"$f":"IF(AC24=\"\",\"Zonard\",INDEX(AB25:AB$2008,MIN(IF(COUNTIF(AC$2:AC24,AB25:AB$2008),ROW(AB$2008)-ROW()+1,ROW(AB25:AB$2008)-ROW()+1))))","v":0},0]
[null,null,null,null,null,null,null,null,null,null,null,null,null,null,null,null,null,null,null,null,null,null,null,null,null,null,null,{"$f":"HISTO!P24","v":0},{"$f":"IF(AC25=\"\",\"Zonard\",INDEX(AB26:AB$2008,MIN(IF(COUNTIF(AC$2:AC25,AB26:AB$2008),ROW(AB$2008)-ROW()+1,ROW(AB26:AB$2008)-ROW()+1))))","v":0},0]
[null,null,null,null,null,null,null,null,null,null,null,null,null,null,null,null,null,null,null,null,null,null,null,null,null,null,null,{"$f":"HISTO!P25","v":0},{"$f":"IF(AC26=\"\",\"Zonard\",INDEX(AB27:AB$2008,MIN(IF(COUNTIF(AC$2:AC26,AB27:AB$2008),ROW(AB$2008)-ROW()+1,ROW(AB27:AB$2008)-ROW()+1))))","v":0},0]
[null,null,null,null,null,null,null,null,null,null,null,null,null,null,null,null,null,null,null,null,null,null,null,null,null,null,null,{"$f":"HISTO!P26","v":0},{"$f":"IF(AC27=\"\",\"Zonard\",INDEX(AB28:AB$2008,MIN(IF(COUNTIF(AC$2:AC27,AB28:AB$2008),ROW(AB$2008)-ROW()+1,ROW(AB28:AB$2008)-ROW()+1))))","v":0},0]
[null,null,null,null,null,null,null,null,null,null,null,null,null,null,null,null,null,null,null,null,null,null,null,null,null,null,null,{"$f":"HISTO!P27","v":0},{"$f":"IF(AC28=\"\",\"Zonard\",INDEX(AB29:AB$2008,MIN(IF(COUNTIF(AC$2:AC28,AB29:AB$2008),ROW(AB$2008)-ROW()+1,ROW(AB29:AB$2008)-ROW()+1))))","v":0},0]
[null,null,null,null,null,null,null,null,null,null,null,null,null,null,null,null,null,null,null,null,null,null,null,null,null,null,null,{"$f":"HISTO!P28","v":0},{"$f":"IF(AC29=\"\",\"Zonard\",INDEX(AB30:AB$2008,MIN(IF(COUNTIF(AC$2:AC29,AB30:AB$2008),ROW(AB$2008)-ROW()+1,ROW(AB30:AB$2008)-ROW()+1))))","v":0},0]
[null,null,null,null,null,null,null,null,null,null,null,null,null,null,null,null,null,null,null,null,null,null,null,null,null,null,null,{"$f":"HISTO!P29","v":0},{"$f":"IF(AC30=\"\",\"Zonard\",INDEX(AB31:AB$2008,MIN(IF(COUNTIF(AC$2:AC30,AB31:AB$2008),ROW(AB$2008)-ROW()+1,ROW(AB31:AB$2008)-ROW()+1))))","v":0},0]
[null,null,null,null,null,null,null,null,null,null,null,null,null,null,null,null,null,null,null,null,null,null,null,null,null,null,null,{"$f":"HISTO!P30","v":0},{"$f":"IF(AC31=\"\",\"Zonard\",INDEX(AB32:AB$2008,MIN(IF(COUNTIF(AC$2:AC31,AB32:AB$2008),ROW(AB$2008)-ROW()+1,ROW(AB32:AB$2008)-ROW()+1))))","v":0},0]
[null,null,null,null,null,null,null,null,null,null,null,null,null,null,null,null,null,null,null,null,null,null,null,null,null,null,null,{"$f":"HISTO!P31","v":0},{"$f":"IF(AC32=\"\",\"Zonard\",INDEX(AB33:AB$2008,MIN(IF(COUNTIF(AC$2:AC32,AB33:AB$2008),ROW(AB$2008)-ROW()+1,ROW(AB33:AB$2008)-ROW()+1))))","v":0},0]
[null,null,null,null,null,null,null,null,null,null,null,null,null,null,null,null,null,null,null,null,null,null,null,null,null,null,null,{"$f":"HISTO!P32","v":0},{"$f":"IF(AC33=\"\",\"Zonard\",INDEX(AB34:AB$2008,MIN(IF(COUNTIF(AC$2:AC33,AB34:AB$2008),ROW(AB$2008)-ROW()+1,ROW(AB34:AB$2008)-ROW()+1))))","v":0},0]
[null,null,null,null,null,null,null,null,null,null,null,null,null,null,null,null,null,null,null,null,null,null,null,null,null,null,null,{"$f":"HISTO!P33","v":0},{"$f":"IF(AC34=\"\",\"Zonard\",INDEX(AB35:AB$2008,MIN(IF(COUNTIF(AC$2:AC34,AB35:AB$2008),ROW(AB$2008)-ROW()+1,ROW(AB35:AB$2008)-ROW()+1))))","v":0},0]
[null,null,null,null,null,null,null,null,null,null,null,null,null,null,null,null,null,null,null,null,null,null,null,null,null,null,null,{"$f":"HISTO!P34","v":0},{"$f":"IF(AC35=\"\",\"Zonard\",INDEX(AB36:AB$2008,MIN(IF(COUNTIF(AC$2:AC35,AB36:AB$2008),ROW(AB$2008)-ROW()+1,ROW(AB36:AB$2008)-ROW()+1))))","v":0},0]
[null,null,null,null,null,null,null,null,null,null,null,null,null,null,null,null,null,null,null,null,null,null,null,null,null,null,null,{"$f":"HISTO!P35","v":0},{"$f":"IF(AC36=\"\",\"Zonard\",INDEX(AB37:AB$2008,MIN(IF(COUNTIF(AC$2:AC36,AB37:AB$2008),ROW(AB$2008)-ROW()+1,ROW(AB37:AB$2008)-ROW()+1))))","v":0},0]
[null,null,null,null,null,null,null,null,null,null,null,null,null,null,null,null,null,null,null,null,null,null,null,null,null,null,null,{"$f":"HISTO!P36","v":0},{"$f":"IF(AC37=\"\",\"Zonard\",INDEX(AB38:AB$2008,MIN(IF(COUNTIF(AC$2:AC37,AB38:AB$2008),ROW(AB$2008)-ROW()+1,ROW(AB38:AB$2008)-ROW()+1))))","v":0},0]
[null,null,null,null,null,null,null,null,null,null,null,null,null,null,null,null,null,null,null,null,null,null,null,null,null,null,null,{"$f":"HISTO!P37","v":0},{"$f":"IF(AC38=\"\",\"Zonard\",INDEX(AB39:AB$2008,MIN(IF(COUNTIF(AC$2:AC38,AB39:AB$2008),ROW(AB$2008)-ROW()+1,ROW(AB39:AB$2008)-ROW()+1))))","v":0},0]
[null,null,null,null,null,null,null,null,null,null,null,null,null,null,null,null,null,null,null,null,null,null,null,null,null,null,null,{"$f":"HISTO!P38","v":0},{"$f":"IF(AC39=\"\",\"Zonard\",INDEX(AB40:AB$2008,MIN(IF(COUNTIF(AC$2:AC39,AB40:AB$2008),ROW(AB$2008)-ROW()+1,ROW(AB40:AB$2008)-ROW()+1))))","v":0},0]
[null,null,null,null,null,null,null,null,null,null,null,null,null,null,null,null,null,null,null,null,null,null,null,null,null,null,null,{"$f":"HISTO!P39","v":0},{"$f":"IF(AC40=\"\",\"Zonard\",INDEX(AB41:AB$2008,MIN(IF(COUNTIF(AC$2:AC40,AB41:AB$2008),ROW(AB$2008)-ROW()+1,ROW(AB41:AB$2008)-ROW()+1))))","v":0},0]
[null,null,null,null,null,null,null,null,null,null,null,null,null,null,null,null,null,null,null,null,null,null,null,null,null,null,null,{"$f":"HISTO!P41","v":0},{"$f":"IF(AC41=\"\",\"Zonard\",INDEX(AB42:AB$2008,MIN(IF(COUNTIF(AC$2:AC41,AB42:AB$2008),ROW(AB$2008)-ROW()+1,ROW(AB42:AB$2008)-ROW()+1))))","v":0},0]
[null,null,null,null,null,null,null,null,null,null,null,null,null,null,null,null,null,null,null,null,null,null,null,null,null,null,null,{"$f":"HISTO!P42","v":0},{"$f":"IF(AC42=\"\",\"Zonard\",INDEX(AB43:AB$2008,MIN(IF(COUNTIF(AC$2:AC42,AB43:AB$2008),ROW(AB$2008)-ROW()+1,ROW(AB43:AB$2008)-ROW()+1))))","v":0},0]
[null,null,null,null,null,null,null,null,null,null,null,null,null,null,null,null,null,null,null,null,null,null,null,null,null,null,null,{"$f":"HISTO!P43","v":0},{"$f":"IF(AC43=\"\",\"Zonard\",INDEX(AB44:AB$2008,MIN(IF(COUNTIF(AC$2:AC43,AB44:AB$2008),ROW(AB$2008)-ROW()+1,ROW(AB44:AB$2008)-ROW()+1))))","v":0},0]
[null,null,null,null,null,null,null,null,null,null,null,null,null,null,null,null,null,null,null,null,null,null,null,null,null,null,null,{"$f":"HISTO!P44","v":0},{"$f":"IF(AC44=\"\",\"Zonard\",INDEX(AB45:AB$2008,MIN(IF(COUNTIF(AC$2:AC44,AB45:AB$2008),ROW(AB$2008)-ROW()+1,ROW(AB45:AB$2008)-ROW()+1))))","v":0},0]
[null,null,null,null,null,null,null,null,null,null,null,null,null,null,null,null,null,null,null,null,null,null,null,null,null,null,null,{"$f":"HISTO!P45","v":0},{"$f":"IF(AC45=\"\",\"Zonard\",INDEX(AB46:AB$2008,MIN(IF(COUNTIF(AC$2:AC45,AB46:AB$2008),ROW(AB$2008)-ROW()+1,ROW(AB46:AB$2008)-ROW()+1))))","v":0},0]
[null,null,null,null,null,null,null,null,null,null,null,null,null,null,null,null,null,null,null,null,null,null,null,null,null,null,null,{"$f":"HISTO!P46","v":0},{"$f":"IF(AC46=\"\",\"Zonard\",INDEX(AB47:AB$2008,MIN(IF(COUNTIF(AC$2:AC46,AB47:AB$2008),ROW(AB$2008)-ROW()+1,ROW(AB47:AB$2008)-ROW()+1))))","v":0},0]
[null,null,null,null,null,null,null,null,null,null,null,null,null,null,null,null,null,null,null,null,null,null,null,null,null,null,null,{"$f":"HISTO!P47","v":0},{"$f":"IF(AC47=\"\",\"Zonard\",INDEX(AB48:AB$2008,MIN(IF(COUNTIF(AC$2:AC47,AB48:AB$2008),ROW(AB$2008)-ROW()+1,ROW(AB48:AB$2008)-ROW()+1))))","v":0},0]
[null,null,null,null,null,null,null,null,null,null,null,null,null,null,null,null,null,null,null,null,null,null,null,null,null,null,null,{"$f":"HISTO!P48","v":0},{"$f":"IF(AC48=\"\",\"Zonard\",INDEX(AB49:AB$2008,MIN(IF(COUNTIF(AC$2:AC48,AB49:AB$2008),ROW(AB$2008)-ROW()+1,ROW(AB49:AB$2008)-ROW()+1))))","v":0},0]
[null,null,null,null,null,null,null,null,null,null,null,null,null,null,null,null,null,null,null,null,null,null,null,null,null,null,null,{"$f":"HISTO!P49","v":0},{"$f":"IF(AC49=\"\",\"Zonard\",INDEX(AB50:AB$2008,MIN(IF(COUNTIF(AC$2:AC49,AB50:AB$2008),ROW(AB$2008)-ROW()+1,ROW(AB50:AB$2008)-ROW()+1))))","v":0},0]
[null,null,null,null,null,null,null,null,null,null,null,null,null,null,null,null,null,null,null,null,null,null,null,null,null,null,null,{"$f":"HISTO!P50","v":0},{"$f":"IF(AC50=\"\",\"Zonard\",INDEX(AB51:AB$2008,MIN(IF(COUNTIF(AC$2:AC50,AB51:AB$2008),ROW(AB$2008)-ROW()+1,ROW(AB51:AB$2008)-ROW()+1))))","v":0},0]
[null,null,null,null,null,null,null,null,null,null,null,null,null,null,null,null,null,null,null,null,null,null,null,null,null,null,null,{"$f":"HISTO!P51","v":0},{"$f":"IF(AC51=\"\",\"Zonard\",INDEX(AB52:AB$2008,MIN(IF(COUNTIF(AC$2:AC51,AB52:AB$2008),ROW(AB$2008)-ROW()+1,ROW(AB52:AB$2008)-ROW()+1))))","v":0},0]
[null,null,null,null,null,null,null,null,null,null,null,null,null,null,null,null,null,null,null,null,null,null,null,null,null,null,null,{"$f":"HISTO!P52","v":0},{"$f":"IF(AC52=\"\",\"Zonard\",INDEX(AB53:AB$2008,MIN(IF(COUNTIF(AC$2:AC52,AB53:AB$2008),ROW(AB$2008)-ROW()+1,ROW(AB53:AB$2008)-ROW()+1))))","v":0},0]
[null,null,null,null,null,null,null,null,null,null,null,null,null,null,null,null,null,null,null,null,null,null,null,null,null,null,null,{"$f":"HISTO!P53","v":0},{"$f":"IF(AC53=\"\",\"Zonard\",INDEX(AB54:AB$2008,MIN(IF(COUNTIF(AC$2:AC53,AB54:AB$2008),ROW(AB$2008)-ROW()+1,ROW(AB54:AB$2008)-ROW()+1))))","v":0},0]
[null,null,null,null,null,null,null,null,null,null,null,null,null,null,null,null,null,null,null,null,null,null,null,null,null,null,null,{"$f":"HISTO!P54","v":0},{"$f":"IF(AC54=\"\",\"Zonard\",INDEX(AB55:AB$2008,MIN(IF(COUNTIF(AC$2:AC54,AB55:AB$2008),ROW(AB$2008)-ROW()+1,ROW(AB55:AB$2008)-ROW()+1))))","v":0},0]
[null,null,null,null,null,null,null,null,null,null,null,null,null,null,null,null,null,null,null,null,null,null,null,null,null,null,null,{"$f":"HISTO!P55","v":0},{"$f":"IF(AC55=\"\",\"Zonard\",INDEX(AB56:AB$2008,MIN(IF(COUNTIF(AC$2:AC55,AB56:AB$2008),ROW(AB$2008)-ROW()+1,ROW(AB56:AB$2008)-ROW()+1))))","v":0},0]
[null,null,null,null,null,null,null,null,null,null,null,null,null,null,null,null,null,null,null,null,null,null,null,null,null,null,null,{"$f":"HISTO!P56","v":0},{"$f":"IF(AC56=\"\",\"Zonard\",INDEX(AB57:AB$2008,MIN(IF(COUNTIF(AC$2:AC56,AB57:AB$2008),ROW(AB$2008)-ROW()+1,ROW(AB57:AB$2008)-ROW()+1))))","v":0},0]
[null,null,null,null,null,null,null,null,null,null,null,null,null,null,null,null,null,null,null,null,null,null,null,null,null,null,null,{"$f":"HISTO!P57","v":0},{"$f":"IF(AC57=\"\",\"Zonard\",INDEX(AB58:AB$2008,MIN(IF(COUNTIF(AC$2:AC57,AB58:AB$2008),ROW(AB$2008)-ROW()+1,ROW(AB58:AB$2008)-ROW()+1))))","v":0},0]
[null,null,null,null,null,null,null,null,null,null,null,null,null,null,null,null,null,null,null,null,null,null,null,null,null,null,null,{"$f":"HISTO!P58","v":0},{"$f":"IF(AC58=\"\",\"Zonard\",INDEX(AB59:AB$2008,MIN(IF(COUNTIF(AC$2:AC58,AB59:AB$2008),ROW(AB$2008)-ROW()+1,ROW(AB59:AB$2008)-ROW()+1))))","v":0},0]
[null,null,null,null,null,null,null,null,null,null,null,null,null,null,null,null,null,null,null,null,null,null,null,null,null,null,null,{"$f":"HISTO!P59","v":0},{"$f":"IF(AC59=\"\",\"Zonard\",INDEX(AB60:AB$2008,MIN(IF(COUNTIF(AC$2:AC59,AB60:AB$2008),ROW(AB$2008)-ROW()+1,ROW(AB60:AB$2008)-ROW()+1))))","v":0},0]
[null,null,null,null,null,null,null,null,null,null,null,null,null,null,null,null,null,null,null,null,null,null,null,null,null,null,null,{"$f":"HISTO!P60","v":0},{"$f":"IF(AC60=\"\",\"Zonard\",INDEX(AB61:AB$2008,MIN(IF(COUNTIF(AC$2:AC60,AB61:AB$2008),ROW(AB$2008)-ROW()+1,ROW(AB61:AB$2008)-ROW()+1))))","v":0},0]
[null,null,null,null,null,null,null,null,null,null,null,null,null,null,null,null,null,null,null,null,null,null,null,null,null,null,null,{"$f":"HISTO!P61","v":0},{"$f":"IF(AC61=\"\",\"Zonard\",INDEX(AB62:AB$2008,MIN(IF(COUNTIF(AC$2:AC61,AB62:AB$2008),ROW(AB$2008)-ROW()+1,ROW(AB62:AB$2008)-ROW()+1))))","v":0},0]
[null,null,null,null,null,null,null,null,null,null,null,null,null,null,null,null,null,null,null,null,null,null,null,null,null,null,null,{"$f":"HISTO!P62","v":0},{"$f":"IF(AC62=\"\",\"Zonard\",INDEX(AB63:AB$2008,MIN(IF(COUNTIF(AC$2:AC62,AB63:AB$2008),ROW(AB$2008)-ROW()+1,ROW(AB63:AB$2008)-ROW()+1))))","v":0},0]
[null,null,null,null,null,null,null,null,null,null,null,null,null,null,null,null,null,null,null,null,null,null,null,null,null,null,null,{"$f":"HISTO!P63","v":0},{"$f":"IF(AC63=\"\",\"Zonard\",INDEX(AB64:AB$2008,MIN(IF(COUNTIF(AC$2:AC63,AB64:AB$2008),ROW(AB$2008)-ROW()+1,ROW(AB64:AB$2008)-ROW()+1))))","v":0},0]
[null,null,null,null,null,null,null,null,null,null,null,null,null,null,null,null,null,null,null,null,null,null,null,null,null,null,null,{"$f":"HISTO!P64","v":0},{"$f":"IF(AC64=\"\",\"Zonard\",INDEX(AB65:AB$2008,MIN(IF(COUNTIF(AC$2:AC64,AB65:AB$2008),ROW(AB$2008)-ROW()+1,ROW(AB65:AB$2008)-ROW()+1))))","v":0},0]
[null,null,null,null,null,null,null,null,null,null,null,null,null,null,null,null,null,null,null,null,null,null,null,null,null,null,null,{"$f":"HISTO!P65","v":0},{"$f":"IF(AC65=\"\",\"Zonard\",INDEX(AB66:AB$2008,MIN(IF(COUNTIF(AC$2:AC65,AB66:AB$2008),ROW(AB$2008)-ROW()+1,ROW(AB66:AB$2008)-ROW()+1))))","v":0},0]
[null,null,null,null,null,null,null,null,null,null,null,null,null,null,null,null,null,null,null,null,null,null,null,null,null,null,null,{"$f":"HISTO!P66","v":0},{"$f":"IF(AC66=\"\",\"Zonard\",INDEX(AB67:AB$2008,MIN(IF(COUNTIF(AC$2:AC66,AB67:AB$2008),ROW(AB$2008)-ROW()+1,ROW(AB67:AB$2008)-ROW()+1))))","v":0},0]
[null,null,null,null,null,null,null,null,null,null,null,null,null,null,null,null,null,null,null,null,null,null,null,null,null,null,null,{"$f":"HISTO!P67","v":0},{"$f":"IF(AC67=\"\",\"Zonard\",INDEX(AB68:AB$2008,MIN(IF(COUNTIF(AC$2:AC67,AB68:AB$2008),ROW(AB$2008)-ROW()+1,ROW(AB68:AB$2008)-ROW()+1))))","v":0},0]
[null,null,null,null,null,null,null,null,null,null,null,null,null,null,null,null,null,null,null,null,null,null,null,null,null,null,null,{"$f":"HISTO!P68","v":0},{"$f":"IF(AC68=\"\",\"Zonard\",INDEX(AB69:AB$2008,MIN(IF(COUNTIF(AC$2:AC68,AB69:AB$2008),ROW(AB$2008)-ROW()+1,ROW(AB69:AB$2008)-ROW()+1))))","v":0},0]
[null,null,null,null,null,null,null,null,null,null,null,null,null,null,null,null,null,null,null,null,null,null,null,null,null,null,null,{"$f":"HISTO!P69","v":0},{"$f":"IF(AC69=\"\",\"Zonard\",INDEX(AB70:AB$2008,MIN(IF(COUNTIF(AC$2:AC69,AB70:AB$2008),ROW(AB$2008)-ROW()+1,ROW(AB70:AB$2008)-ROW()+1))))","v":0},0]
[null,null,null,null,null,null,null,null,null,null,null,null,null,null,null,null,null,null,null,null,null,null,null,null,null,null,null,{"$f":"HISTO!P70","v":0},{"$f":"IF(AC70=\"\",\"Zonard\",INDEX(AB71:AB$2008,MIN(IF(COUNTIF(AC$2:AC70,AB71:AB$2008),ROW(AB$2008)-ROW()+1,ROW(AB71:AB$2008)-ROW()+1))))","v":0},0]
[null,null,null,null,null,null,null,null,null,null,null,null,null,null,null,null,null,null,null,null,null,null,null,null,null,null,null,{"$f":"HISTO!P71","v":0},{"$f":"IF(AC71=\"\",\"Zonard\",INDEX(AB72:AB$2008,MIN(IF(COUNTIF(AC$2:AC71,AB72:AB$2008),ROW(AB$2008)-ROW()+1,ROW(AB72:AB$2008)-ROW()+1))))","v":0},0]
[null,null,null,null,null,null,null,null,null,null,null,null,null,null,null,null,null,null,null,null,null,null,null,null,null,null,null,{"$f":"HISTO!P72","v":0},{"$f":"IF(AC72=\"\",\"Zonard\",INDEX(AB73:AB$2008,MIN(IF(COUNTIF(AC$2:AC72,AB73:AB$2008),ROW(AB$2008)-ROW()+1,ROW(AB73:AB$2008)-ROW()+1))))","v":0},0]
[null,null,null,null,null,null,null,null,null,null,null,null,null,null,null,null,null,null,null,null,null,null,null,null,null,null,null,{"$f":"HISTO!P73","v":0},{"$f":"IF(AC73=\"\",\"Zonard\",INDEX(AB74:AB$2008,MIN(IF(COUNTIF(AC$2:AC73,AB74:AB$2008),ROW(AB$2008)-ROW()+1,ROW(AB74:AB$2008)-ROW()+1))))","v":0},0]
[null,null,null,null,null,null,null,null,null,null,null,null,null,null,null,null,null,null,null,null,null,null,null,null,null,null,null,{"$f":"HISTO!P74","v":0},{"$f":"IF(AC74=\"\",\"Zonard\",INDEX(AB75:AB$2008,MIN(IF(COUNTIF(AC$2:AC74,AB75:AB$2008),ROW(AB$2008)-ROW()+1,ROW(AB75:AB$2008)-ROW()+1))))","v":0},0]
[null,null,null,null,null,null,null,null,null,null,null,null,null,null,null,null,null,null,null,null,null,null,null,null,null,null,null,{"$f":"HISTO!P75","v":0},{"$f":"IF(AC75=\"\",\"Zonard\",INDEX(AB76:AB$2008,MIN(IF(COUNTIF(AC$2:AC75,AB76:AB$2008),ROW(AB$2008)-ROW()+1,ROW(AB76:AB$2008)-ROW()+1))))","v":0},0]
[null,null,null,null,null,null,null,null,null,null,null,null,null,null,null,null,null,null,null,null,null,null,null,null,null,null,null,{"$f":"HISTO!P76","v":0},{"$f":"IF(AC76=\"\",\"Zonard\",INDEX(AB77:AB$2008,MIN(IF(COUNTIF(AC$2:AC76,AB77:AB$2008),ROW(AB$2008)-ROW()+1,ROW(AB77:AB$2008)-ROW()+1))))","v":0},0]
[null,null,null,null,null,null,null,null,null,null,null,null,null,null,null,null,null,null,null,null,null,null,null,null,null,null,null,{"$f":"HISTO!P77","v":0},{"$f":"IF(AC77=\"\",\"Zonard\",INDEX(AB78:AB$2008,MIN(IF(COUNTIF(AC$2:AC77,AB78:AB$2008),ROW(AB$2008)-ROW()+1,ROW(AB78:AB$2008)-ROW()+1))))","v":0},0]
[null,null,null,null,null,null,null,null,null,null,null,null,null,null,null,null,null,null,null,null,null,null,null,null,null,null,null,{"$f":"HISTO!P78","v":0},{"$f":"IF(AC78=\"\",\"Zonard\",INDEX(AB79:AB$2008,MIN(IF(COUNTIF(AC$2:AC78,AB79:AB$2008),ROW(AB$2008)-ROW()+1,ROW(AB79:AB$2008)-ROW()+1))))","v":0},0]
[null,null,null,null,null,null,null,null,null,null,null,null,null,null,null,null,null,null,null,null,null,null,null,null,null,null,null,{"$f":"HISTO!P79","v":0},{"$f":"IF(AC79=\"\",\"Zonard\",INDEX(AB80:AB$2008,MIN(IF(COUNTIF(AC$2:AC79,AB80:AB$2008),ROW(AB$2008)-ROW()+1,ROW(AB80:AB$2008)-ROW()+1))))","v":0},0]
[null,null,null,null,null,null,null,null,null,null,null,null,null,null,null,null,null,null,null,null,null,null,null,null,null,null,null,{"$f":"HISTO!P80","v":0},{"$f":"IF(AC80=\"\",\"Zonard\",INDEX(AB81:AB$2008,MIN(IF(COUNTIF(AC$2:AC80,AB81:AB$2008),ROW(AB$2008)-ROW()+1,ROW(AB81:AB$2008)-ROW()+1))))","v":0},0]
[null,null,null,null,null,null,null,null,null,null,null,null,null,null,null,null,null,null,null,null,null,null,null,null,null,null,null,{"$f":"HISTO!P81","v":0},{"$f":"IF(AC81=\"\",\"Zonard\",INDEX(AB82:AB$2008,MIN(IF(COUNTIF(AC$2:AC81,AB82:AB$2008),ROW(AB$2008)-ROW()+1,ROW(AB82:AB$2008)-ROW()+1))))","v":0},0]
[null,null,null,null,null,null,null,null,null,null,null,null,null,null,null,null,null,null,null,null,null,null,null,null,null,null,null,{"$f":"HISTO!P82","v":0},{"$f":"IF(AC82=\"\",\"Zonard\",INDEX(AB83:AB$2008,MIN(IF(COUNTIF(AC$2:AC82,AB83:AB$2008),ROW(AB$2008)-ROW()+1,ROW(AB83:AB$2008)-ROW()+1))))","v":0},0]
[null,null,null,null,null,null,null,null,null,null,null,null,null,null,null,null,null,null,null,null,null,null,null,null,null,null,null,{"$f":"HISTO!P83","v":0},{"$f":"IF(AC83=\"\",\"Zonard\",INDEX(AB84:AB$2008,MIN(IF(COUNTIF(AC$2:AC83,AB84:AB$2008),ROW(AB$2008)-ROW()+1,ROW(AB84:AB$2008)-ROW()+1))))","v":0},0]
[null,null,null,null,null,null,null,null,null,null,null,null,null,null,null,null,null,null,null,null,null,null,null,null,null,null,null,{"$f":"HISTO!P84","v":0},{"$f":"IF(AC84=\"\",\"Zonard\",INDEX(AB85:AB$2008,MIN(IF(COUNTIF(AC$2:AC84,AB85:AB$2008),ROW(AB$2008)-ROW()+1,ROW(AB85:AB$2008)-ROW()+1))))","v":0},0]
[null,null,null,null,null,null,null,null,null,null,null,null,null,null,null,null,null,null,null,null,null,null,null,null,null,null,null,{"$f":"HISTO!P85","v":0},{"$f":"IF(AC85=\"\",\"Zonard\",INDEX(AB86:AB$2008,MIN(IF(COUNTIF(AC$2:AC85,AB86:AB$2008),ROW(AB$2008)-ROW()+1,ROW(AB86:AB$2008)-ROW()+1))))","v":0},0]
[null,null,null,null,null,null,null,null,null,null,null,null,null,null,null,null,null,null,null,null,null,null,null,null,null,null,null,{"$f":"HISTO!P86","v":0},{"$f":"IF(AC86=\"\",\"Zonard\",INDEX(AB87:AB$2008,MIN(IF(COUNTIF(AC$2:AC86,AB87:AB$2008),ROW(AB$2008)-ROW()+1,ROW(AB87:AB$2008)-ROW()+1))))","v":0},0]
[null,null,null,null,null,null,null,null,null,null,null,null,null,null,null,null,null,null,null,null,null,null,null,null,null,null,null,{"$f":"HISTO!P87","v":0},{"$f":"IF(AC87=\"\",\"Zonard\",INDEX(AB88:AB$2008,MIN(IF(COUNTIF(AC$2:AC87,AB88:AB$2008),ROW(AB$2008)-ROW()+1,ROW(AB88:AB$2008)-ROW()+1))))","v":0},0]
[null,null,null,null,null,null,null,null,null,null,null,null,null,null,null,null,null,null,null,null,null,null,null,null,null,null,null,{"$f":"HISTO!P88","v":0},{"$f":"IF(AC88=\"\",\"Zonard\",INDEX(AB89:AB$2008,MIN(IF(COUNTIF(AC$2:AC88,AB89:AB$2008),ROW(AB$2008)-ROW()+1,ROW(AB89:AB$2008)-ROW()+1))))","v":0},0]
[null,null,null,null,null,null,null,null,null,null,null,null,null,null,null,null,null,null,null,null,null,null,null,null,null,null,null,{"$f":"HISTO!P89","v":0},{"$f":"IF(AC89=\"\",\"Zonard\",INDEX(AB90:AB$2008,MIN(IF(COUNTIF(AC$2:AC89,AB90:AB$2008),ROW(AB$2008)-ROW()+1,ROW(AB90:AB$2008)-ROW()+1))))","v":0},0]
[null,null,null,null,null,null,null,null,null,null,null,null,null,null,null,null,null,null,null,null,null,null,null,null,null,null,null,{"$f":"HISTO!P90","v":0},{"$f":"IF(AC90=\"\",\"Zonard\",INDEX(AB91:AB$2008,MIN(IF(COUNTIF(AC$2:AC90,AB91:AB$2008),ROW(AB$2008)-ROW()+1,ROW(AB91:AB$2008)-ROW()+1))))","v":0},0]
[null,null,null,null,null,null,null,null,null,null,null,null,null,null,null,null,null,null,null,null,null,null,null,null,null,null,null,{"$f":"HISTO!P91","v":0},{"$f":"IF(AC91=\"\",\"Zonard\",INDEX(AB92:AB$2008,MIN(IF(COUNTIF(AC$2:AC91,AB92:AB$2008),ROW(AB$2008)-ROW()+1,ROW(AB92:AB$2008)-ROW()+1))))","v":0},0]
[null,null,null,null,null,null,null,null,null,null,null,null,null,null,null,null,null,null,null,null,null,null,null,null,null,null,null,{"$f":"HISTO!P92","v":0},{"$f":"IF(AC92=\"\",\"Zonard\",INDEX(AB93:AB$2008,MIN(IF(COUNTIF(AC$2:AC92,AB93:AB$2008),ROW(AB$2008)-ROW()+1,ROW(AB93:AB$2008)-ROW()+1))))","v":0},0]
[null,null,null,null,null,null,null,null,null,null,null,null,null,null,null,null,null,null,null,null,null,null,null,null,null,null,null,{"$f":"HISTO!P93","v":0},{"$f":"IF(AC93=\"\",\"Zonard\",INDEX(AB94:AB$2008,MIN(IF(COUNTIF(AC$2:AC93,AB94:AB$2008),ROW(AB$2008)-ROW()+1,ROW(AB94:AB$2008)-ROW()+1))))","v":0},0]
[null,null,null,null,null,null,null,null,null,null,null,null,null,null,null,null,null,null,null,null,null,null,null,null,null,null,null,{"$f":"HISTO!P94","v":0},{"$f":"IF(AC94=\"\",\"Zonard\",INDEX(AB95:AB$2008,MIN(IF(COUNTIF(AC$2:AC94,AB95:AB$2008),ROW(AB$2008)-ROW()+1,ROW(AB95:AB$2008)-ROW()+1))))","v":0},0]
[null,null,null,null,null,null,null,null,null,null,null,null,null,null,null,null,null,null,null,null,null,null,null,null,null,null,null,{"$f":"HISTO!P95","v":0},{"$f":"IF(AC95=\"\",\"Zonard\",INDEX(AB96:AB$2008,MIN(IF(COUNTIF(AC$2:AC95,AB96:AB$2008),ROW(AB$2008)-ROW()+1,ROW(AB96:AB$2008)-ROW()+1))))","v":0},0]
[null,null,null,null,null,null,null,null,null,null,null,null,null,null,null,null,null,null,null,null,null,null,null,null,null,null,null,{"$f":"HISTO!P96","v":0},{"$f":"IF(AC96=\"\",\"Zonard\",INDEX(AB97:AB$2008,MIN(IF(COUNTIF(AC$2:AC96,AB97:AB$2008),ROW(AB$2008)-ROW()+1,ROW(AB97:AB$2008)-ROW()+1))))","v":0},0]
[null,null,null,null,null,null,null,null,null,null,null,null,null,null,null,null,null,null,null,null,null,null,null,null,null,null,null,{"$f":"HISTO!P97","v":0},{"$f":"IF(AC97=\"\",\"Zonard\",INDEX(AB98:AB$2008,MIN(IF(COUNTIF(AC$2:AC97,AB98:AB$2008),ROW(AB$2008)-ROW()+1,ROW(AB98:AB$2008)-ROW()+1))))","v":0},0]
[null,null,null,null,null,null,null,null,null,null,null,null,null,null,null,null,null,null,null,null,null,null,null,null,null,null,null,{"$f":"HISTO!P98","v":0},{"$f":"IF(AC98=\"\",\"Zonard\",INDEX(AB99:AB$2008,MIN(IF(COUNTIF(AC$2:AC98,AB99:AB$2008),ROW(AB$2008)-ROW()+1,ROW(AB99:AB$2008)-ROW()+1))))","v":0},0]
[null,null,null,null,null,null,null,null,null,null,null,null,null,null,null,null,null,null,null,null,null,null,null,null,null,null,null,{"$f":"HISTO!P99","v":0},{"$f":"IF(AC99=\"\",\"Zonard\",INDEX(AB100:AB$2008,MIN(IF(COUNTIF(AC$2:AC99,AB100:AB$2008),ROW(AB$2008)-ROW()+1,ROW(AB100:AB$2008)-ROW()+1))))","v":0},0]
[null,null,null,null,null,null,null,null,null,null,null,null,null,null,null,null,null,null,null,null,null,null,null,null,null,null,null,{"$f":"HISTO!P100","v":0},{"$f":"IF(AC100=\"\",\"Zonard\",INDEX(AB101:AB$2008,MIN(IF(COUNTIF(AC$2:AC100,AB101:AB$2008),ROW(AB$2008)-ROW()+1,ROW(AB101:AB$2008)-ROW()+1))))","v":0},0]
[null,null,null,null,null,null,null,null,null,null,null,null,null,null,null,null,null,null,null,null,null,null,null,null,null,null,null,{"$f":"HISTO!P101","v":0},{"$f":"IF(AC101=\"\",\"Zonard\",INDEX(AB102:AB$2008,MIN(IF(COUNTIF(AC$2:AC101,AB102:AB$2008),ROW(AB$2008)-ROW()+1,ROW(AB102:AB$2008)-ROW()+1))))","v":0},0]
[null,null,null,null,null,null,null,null,null,null,null,null,null,null,null,null,null,null,null,null,null,null,null,null,null,null,null,{"$f":"HISTO!P102","v":0},{"$f":"IF(AC102=\"\",\"Zonard\",INDEX(AB103:AB$2008,MIN(IF(COUNTIF(AC$2:AC102,AB103:AB$2008),ROW(AB$2008)-ROW()+1,ROW(AB103:AB$2008)-ROW()+1))))","v":0},0]
[null,null,null,null,null,null,null,null,null,null,null,null,null,null,null,null,null,null,null,null,null,null,null,null,null,null,null,{"$f":"HISTO!P103","v":0},{"$f":"IF(AC103=\"\",\"Zonard\",INDEX(AB104:AB$2008,MIN(IF(COUNTIF(AC$2:AC103,AB104:AB$2008),ROW(AB$2008)-ROW()+1,ROW(AB104:AB$2008)-ROW()+1))))","v":0},0]
[null,null,null,null,null,null,null,null,null,null,null,null,null,null,null,null,null,null,null,null,null,null,null,null,null,null,null,{"$f":"HISTO!P104","v":0},{"$f":"IF(AC104=\"\",\"Zonard\",INDEX(AB105:AB$2008,MIN(IF(COUNTIF(AC$2:AC104,AB105:AB$2008),ROW(AB$2008)-ROW()+1,ROW(AB105:AB$2008)-ROW()+1))))","v":0},0]
[null,null,null,null,null,null,null,null,null,null,null,null,null,null,null,null,null,null,null,null,null,null,null,null,null,null,null,{"$f":"HISTO!P105","v":0},{"$f":"IF(AC105=\"\",\"Zonard\",INDEX(AB106:AB$2008,MIN(IF(COUNTIF(AC$2:AC105,AB106:AB$2008),ROW(AB$2008)-ROW()+1,ROW(AB106:AB$2008)-ROW()+1))))","v":0},0]
[null,null,null,null,null,null,null,null,null,null,null,null,null,null,null,null,null,null,null,null,null,null,null,null,null,null,null,{"$f":"HISTO!P106","v":0},{"$f":"IF(AC106=\"\",\"Zonard\",INDEX(AB107:AB$2008,MIN(IF(COUNTIF(AC$2:AC106,AB107:AB$2008),ROW(AB$2008)-ROW()+1,ROW(AB107:AB$2008)-ROW()+1))))","v":0},0]
[null,null,null,null,null,null,null,null,null,null,null,null,null,null,null,null,null,null,null,null,null,null,null,null,null,null,null,{"$f":"HISTO!P107","v":0},{"$f":"IF(AC107=\"\",\"Zonard\",INDEX(AB108:AB$2008,MIN(IF(COUNTIF(AC$2:AC107,AB108:AB$2008),ROW(AB$2008)-ROW()+1,ROW(AB108:AB$2008)-ROW()+1))))","v":0},0]
[null,null,null,null,null,null,null,null,null,null,null,null,null,null,null,null,null,null,null,null,null,null,null,null,null,null,null,{"$f":"HISTO!P108","v":0},{"$f":"IF(AC108=\"\",\"Zonard\",INDEX(AB109:AB$2008,MIN(IF(COUNTIF(AC$2:AC108,AB109:AB$2008),ROW(AB$2008)-ROW()+1,ROW(AB109:AB$2008)-ROW()+1))))","v":0},0]
[null,null,null,null,null,null,null,null,null,null,null,null,null,null,null,null,null,null,null,null,null,null,null,null,null,null,null,{"$f":"HISTO!P109","v":0},{"$f":"IF(AC109=\"\",\"Zonard\",INDEX(AB110:AB$2008,MIN(IF(COUNTIF(AC$2:AC109,AB110:AB$2008),ROW(AB$2008)-ROW()+1,ROW(AB110:AB$2008)-ROW()+1))))","v":0},0]
[null,null,null,null,null,null,null,null,null,null,null,null,null,null,null,null,null,null,null,null,null,null,null,null,null,null,null,{"$f":"HISTO!P110","v":0},{"$f":"IF(AC110=\"\",\"Zonard\",INDEX(AB111:AB$2008,MIN(IF(COUNTIF(AC$2:AC110,AB111:AB$2008),ROW(AB$2008)-ROW()+1,ROW(AB111:AB$2008)-ROW()+1))))","v":0},0]
[null,null,null,null,null,null,null,null,null,null,null,null,null,null,null,null,null,null,null,null,null,null,null,null,null,null,null,{"$f":"HISTO!P111","v":0},{"$f":"IF(AC111=\"\",\"Zonard\",INDEX(AB112:AB$2008,MIN(IF(COUNTIF(AC$2:AC111,AB112:AB$2008),ROW(AB$2008)-ROW()+1,ROW(AB112:AB$2008)-ROW()+1))))","v":0},0]
[null,null,null,null,null,null,null,null,null,null,null,null,null,null,null,null,null,null,null,null,null,null,null,null,null,null,null,{"$f":"HISTO!P112","v":0},{"$f":"IF(AC112=\"\",\"Zonard\",INDEX(AB113:AB$2008,MIN(IF(COUNTIF(AC$2:AC112,AB113:AB$2008),ROW(AB$2008)-ROW()+1,ROW(AB113:AB$2008)-ROW()+1))))","v":0},0]
[null,null,null,null,null,null,null,null,null,null,null,null,null,null,null,null,null,null,null,null,null,null,null,null,null,null,null,{"$f":"HISTO!P113","v":0},{"$f":"IF(AC113=\"\",\"Zonard\",INDEX(AB114:AB$2008,MIN(IF(COUNTIF(AC$2:AC113,AB114:AB$2008),ROW(AB$2008)-ROW()+1,ROW(AB114:AB$2008)-ROW()+1))))","v":0},0]
[null,null,null,null,null,null,null,null,null,null,null,null,null,null,null,null,null,null,null,null,null,null,null,null,null,null,null,{"$f":"HISTO!P114","v":0},{"$f":"IF(AC114=\"\",\"Zonard\",INDEX(AB115:AB$2008,MIN(IF(COUNTIF(AC$2:AC114,AB115:AB$2008),ROW(AB$2008)-ROW()+1,ROW(AB115:AB$2008)-ROW()+1))))","v":0},0]
[null,null,null,null,null,null,null,null,null,null,null,null,null,null,null,null,null,null,null,null,null,null,null,null,null,null,null,{"$f":"HISTO!P115","v":0},{"$f":"IF(AC115=\"\",\"Zonard\",INDEX(AB116:AB$2008,MIN(IF(COUNTIF(AC$2:AC115,AB116:AB$2008),ROW(AB$2008)-ROW()+1,ROW(AB116:AB$2008)-ROW()+1))))","v":0},0]
[null,null,null,null,null,null,null,null,null,null,null,null,null,null,null,null,null,null,null,null,null,null,null,null,null,null,null,{"$f":"HISTO!P116","v":0},{"$f":"IF(AC116=\"\",\"Zonard\",INDEX(AB117:AB$2008,MIN(IF(COUNTIF(AC$2:AC116,AB117:AB$2008),ROW(AB$2008)-ROW()+1,ROW(AB117:AB$2008)-ROW()+1))))","v":0},0]
[null,null,null,null,null,null,null,null,null,null,null,null,null,null,null,null,null,null,null,null,null,null,null,null,null,null,null,{"$f":"HISTO!P117","v":0},{"$f":"IF(AC117=\"\",\"Zonard\",INDEX(AB118:AB$2008,MIN(IF(COUNTIF(AC$2:AC117,AB118:AB$2008),ROW(AB$2008)-ROW()+1,ROW(AB118:AB$2008)-ROW()+1))))","v":0},0]
[null,null,null,null,null,null,null,null,null,null,null,null,null,null,null,null,null,null,null,null,null,null,null,null,null,null,null,{"$f":"HISTO!P118","v":0},{"$f":"IF(AC118=\"\",\"Zonard\",INDEX(AB119:AB$2008,MIN(IF(COUNTIF(AC$2:AC118,AB119:AB$2008),ROW(AB$2008)-ROW()+1,ROW(AB119:AB$2008)-ROW()+1))))","v":0},0]
[null,null,null,null,null,null,null,null,null,null,null,null,null,null,null,null,null,null,null,null,null,null,null,null,null,null,null,{"$f":"HISTO!P119","v":0},{"$f":"IF(AC119=\"\",\"Zonard\",INDEX(AB120:AB$2008,MIN(IF(COUNTIF(AC$2:AC119,AB120:AB$2008),ROW(AB$2008)-ROW()+1,ROW(AB120:AB$2008)-ROW()+1))))","v":0},0]
[null,null,null,null,null,null,null,null,null,null,null,null,null,null,null,null,null,null,null,null,null,null,null,null,null,null,null,{"$f":"HISTO!P120","v":0},{"$f":"IF(AC120=\"\",\"Zonard\",INDEX(AB121:AB$2008,MIN(IF(COUNTIF(AC$2:AC120,AB121:AB$2008),ROW(AB$2008)-ROW()+1,ROW(AB121:AB$2008)-ROW()+1))))","v":0},0]
[null,null,null,null,null,null,null,null,null,null,null,null,null,null,null,null,null,null,null,null,null,null,null,null,null,null,null,{"$f":"HISTO!P121","v":0},{"$f":"IF(AC121=\"\",\"Zonard\",INDEX(AB122:AB$2008,MIN(IF(COUNTIF(AC$2:AC121,AB122:AB$2008),ROW(AB$2008)-ROW()+1,ROW(AB122:AB$2008)-ROW()+1))))","v":0},0]
[null,null,null,null,null,null,null,null,null,null,null,null,null,null,null,null,null,null,null,null,null,null,null,null,null,null,null,{"$f":"HISTO!P122","v":0},{"$f":"IF(AC122=\"\",\"Zonard\",INDEX(AB123:AB$2008,MIN(IF(COUNTIF(AC$2:AC122,AB123:AB$2008),ROW(AB$2008)-ROW()+1,ROW(AB123:AB$2008)-ROW()+1))))","v":0},0]
[null,null,null,null,null,null,null,null,null,null,null,null,null,null,null,null,null,null,null,null,null,null,null,null,null,null,null,{"$f":"HISTO!P123","v":0},{"$f":"IF(AC123=\"\",\"Zonard\",INDEX(AB124:AB$2008,MIN(IF(COUNTIF(AC$2:AC123,AB124:AB$2008),ROW(AB$2008)-ROW()+1,ROW(AB124:AB$2008)-ROW()+1))))","v":0},0]
[null,null,null,null,null,null,null,null,null,null,null,null,null,null,null,null,null,null,null,null,null,null,null,null,null,null,null,{"$f":"HISTO!P124","v":0},{"$f":"IF(AC124=\"\",\"Zonard\",INDEX(AB125:AB$2008,MIN(IF(COUNTIF(AC$2:AC124,AB125:AB$2008),ROW(AB$2008)-ROW()+1,ROW(AB125:AB$2008)-ROW()+1))))","v":0},0]
[null,null,null,null,null,null,null,null,null,null,null,null,null,null,null,null,null,null,null,null,null,null,null,null,null,null,null,{"$f":"HISTO!P125","v":0},{"$f":"IF(AC125=\"\",\"Zonard\",INDEX(AB126:AB$2008,MIN(IF(COUNTIF(AC$2:AC125,AB126:AB$2008),ROW(AB$2008)-ROW()+1,ROW(AB126:AB$2008)-ROW()+1))))","v":0},0]
[null,null,null,null,null,null,null,null,null,null,null,null,null,null,null,null,null,null,null,null,null,null,null,null,null,null,null,{"$f":"HISTO!P126","v":0},{"$f":"IF(AC126=\"\",\"Zonard\",INDEX(AB127:AB$2008,MIN(IF(COUNTIF(AC$2:AC126,AB127:AB$2008),ROW(AB$2008)-ROW()+1,ROW(AB127:AB$2008)-ROW()+1))))","v":0},0]
[null,null,null,null,null,null,null,null,null,null,null,null,null,null,null,null,null,null,null,null,null,null,null,null,null,null,null,{"$f":"HISTO!P127","v":0},{"$f":"IF(AC127=\"\",\"Zonard\",INDEX(AB128:AB$2008,MIN(IF(COUNTIF(AC$2:AC127,AB128:AB$2008),ROW(AB$2008)-ROW()+1,ROW(AB128:AB$2008)-ROW()+1))))","v":0},0]
[null,null,null,null,null,null,null,null,null,null,null,null,null,null,null,null,null,null,null,null,null,null,null,null,null,null,null,{"$f":"HISTO!P128","v":0},{"$f":"IF(AC128=\"\",\"Zonard\",INDEX(AB129:AB$2008,MIN(IF(COUNTIF(AC$2:AC128,AB129:AB$2008),ROW(AB$2008)-ROW()+1,ROW(AB129:AB$2008)-ROW()+1))))","v":0},0]
[null,null,null,null,null,null,null,null,null,null,null,null,null,null,null,null,null,null,null,null,null,null,null,null,null,null,null,{"$f":"HISTO!P129","v":0},{"$f":"IF(AC129=\"\",\"Zonard\",INDEX(AB130:AB$2008,MIN(IF(COUNTIF(AC$2:AC129,AB130:AB$2008),ROW(AB$2008)-ROW()+1,ROW(AB130:AB$2008)-ROW()+1))))","v":0},0]
[null,null,null,null,null,null,null,null,null,null,null,null,null,null,null,null,null,null,null,null,null,null,null,null,null,null,null,{"$f":"HISTO!P130","v":0},{"$f":"IF(AC130=\"\",\"Zonard\",INDEX(AB131:AB$2008,MIN(IF(COUNTIF(AC$2:AC130,AB131:AB$2008),ROW(AB$2008)-ROW()+1,ROW(AB131:AB$2008)-ROW()+1))))","v":0},0]
[null,null,null,null,null,null,null,null,null,null,null,null,null,null,null,null,null,null,null,null,null,null,null,null,null,null,null,{"$f":"HISTO!P131","v":0},{"$f":"IF(AC131=\"\",\"Zonard\",INDEX(AB132:AB$2008,MIN(IF(COUNTIF(AC$2:AC131,AB132:AB$2008),ROW(AB$2008)-ROW()+1,ROW(AB132:AB$2008)-ROW()+1))))","v":0},0]
[null,null,null,null,null,null,null,null,null,null,null,null,null,null,null,null,null,null,null,null,null,null,null,null,null,null,null,{"$f":"HISTO!P132","v":0},{"$f":"IF(AC132=\"\",\"Zonard\",INDEX(AB133:AB$2008,MIN(IF(COUNTIF(AC$2:AC132,AB133:AB$2008),ROW(AB$2008)-ROW()+1,ROW(AB133:AB$2008)-ROW()+1))))","v":0},0]
[null,null,null,null,null,null,null,null,null,null,null,null,null,null,null,null,null,null,null,null,null,null,null,null,null,null,null,{"$f":"HISTO!P133","v":0},{"$f":"IF(AC133=\"\",\"Zonard\",INDEX(AB134:AB$2008,MIN(IF(COUNTIF(AC$2:AC133,AB134:AB$2008),ROW(AB$2008)-ROW()+1,ROW(AB134:AB$2008)-ROW()+1))))","v":0},0]
[null,null,null,null,null,null,null,null,null,null,null,null,null,null,null,null,null,null,null,null,null,null,null,null,null,null,null,{"$f":"HISTO!P134","v":0},{"$f":"IF(AC134=\"\",\"Zonard\",INDEX(AB135:AB$2008,MIN(IF(COUNTIF(AC$2:AC134,AB135:AB$2008),ROW(AB$2008)-ROW()+1,ROW(AB135:AB$2008)-ROW()+1))))","v":0},0]
[null,null,null,null,null,null,null,null,null,null,null,null,null,null,null,null,null,null,null,null,null,null,null,null,null,null,null,{"$f":"HISTO!P135","v":0},{"$f":"IF(AC135=\"\",\"Zonard\",INDEX(AB136:AB$2008,MIN(IF(COUNTIF(AC$2:AC135,AB136:AB$2008),ROW(AB$2008)-ROW()+1,ROW(AB136:AB$2008)-ROW()+1))))","v":0},0]
[null,null,null,null,null,null,null,null,null,null,null,null,null,null,null,null,null,null,null,null,null,null,null,null,null,null,null,{"$f":"HISTO!P136","v":0},{"$f":"IF(AC136=\"\",\"Zonard\",INDEX(AB137:AB$2008,MIN(IF(COUNTIF(AC$2:AC136,AB137:AB$2008),ROW(AB$2008)-ROW()+1,ROW(AB137:AB$2008)-ROW()+1))))","v":0},0]
[null,null,null,null,null,null,null,null,null,null,null,null,null,null,null,null,null,null,null,null,null,null,null,null,null,null,null,{"$f":"HISTO!P137","v":0},{"$f":"IF(AC137=\"\",\"Zonard\",INDEX(AB138:AB$2008,MIN(IF(COUNTIF(AC$2:AC137,AB138:AB$2008),ROW(AB$2008)-ROW()+1,ROW(AB138:AB$2008)-ROW()+1))))","v":0},0]
[null,null,null,null,null,null,null,null,null,null,null,null,null,null,null,null,null,null,null,null,null,null,null,null,null,null,null,{"$f":"HISTO!P138","v":0},{"$f":"IF(AC138=\"\",\"Zonard\",INDEX(AB139:AB$2008,MIN(IF(COUNTIF(AC$2:AC138,AB139:AB$2008),ROW(AB$2008)-ROW()+1,ROW(AB139:AB$2008)-ROW()+1))))","v":0},0]
[null,null,null,null,null,null,null,null,null,null,null,null,null,null,null,null,null,null,null,null,null,null,null,null,null,null,null,{"$f":"HISTO!P139","v":0},{"$f":"IF(AC139=\"\",\"Zonard\",INDEX(AB140:AB$2008,MIN(IF(COUNTIF(AC$2:AC139,AB140:AB$2008),ROW(AB$2008)-ROW()+1,ROW(AB140:AB$2008)-ROW()+1))))","v":0},0]
[null,null,null,null,null,null,null,null,null,null,null,null,null,null,null,null,null,null,null,null,null,null,null,null,null,null,null,{"$f":"HISTO!P140","v":0},{"$f":"IF(AC140=\"\",\"Zonard\",INDEX(AB141:AB$2008,MIN(IF(COUNTIF(AC$2:AC140,AB141:AB$2008),ROW(AB$2008)-ROW()+1,ROW(AB141:AB$2008)-ROW()+1))))","v":0},0]
[null,null,null,null,null,null,null,null,null,null,null,null,null,null,null,null,null,null,null,null,null,null,null,null,null,null,null,{"$f":"HISTO!P141","v":0},{"$f":"IF(AC141=\"\",\"Zonard\",INDEX(AB142:AB$2008,MIN(IF(COUNTIF(AC$2:AC141,AB142:AB$2008),ROW(AB$2008)-ROW()+1,ROW(AB142:AB$2008)-ROW()+1))))","v":0},0]
[null,null,null,null,null,null,null,null,null,null,null,null,null,null,null,null,null,null,null,null,null,null,null,null,null,null,null,{"$f":"HISTO!P142","v":0},{"$f":"IF(AC142=\"\",\"Zonard\",INDEX(AB143:AB$2008,MIN(IF(COUNTIF(AC$2:AC142,AB143:AB$2008),ROW(AB$2008)-ROW()+1,ROW(AB143:AB$2008)-ROW()+1))))","v":0},0]
[null,null,null,null,null,null,null,null,null,null,null,null,null,null,null,null,null,null,null,null,null,null,null,null,null,null,null,{"$f":"HISTO!P143","v":0},{"$f":"IF(AC143=\"\",\"Zonard\",INDEX(AB144:AB$2008,MIN(IF(COUNTIF(AC$2:AC143,AB144:AB$2008),ROW(AB$2008)-ROW()+1,ROW(AB144:AB$2008)-ROW()+1))))","v":0},0]
[null,null,null,null,null,null,null,null,null,null,null,null,null,null,null,null,null,null,null,null,null,null,null,null,null,null,null,{"$f":"HISTO!P144","v":0},{"$f":"IF(AC144=\"\",\"Zonard\",INDEX(AB145:AB$2008,MIN(IF(COUNTIF(AC$2:AC144,AB145:AB$2008),ROW(AB$2008)-ROW()+1,ROW(AB145:AB$2008)-ROW()+1))))","v":0},0]
[null,null,null,null,null,null,null,null,null,null,null,null,null,null,null,null,null,null,null,null,null,null,null,null,null,null,null,{"$f":"HISTO!P145","v":0},{"$f":"IF(AC145=\"\",\"Zonard\",INDEX(AB146:AB$2008,MIN(IF(COUNTIF(AC$2:AC145,AB146:AB$2008),ROW(AB$2008)-ROW()+1,ROW(AB146:AB$2008)-ROW()+1))))","v":0},0]
[null,null,null,null,null,null,null,null,null,null,null,null,null,null,null,null,null,null,null,null,null,null,null,null,null,null,null,{"$f":"HISTO!P146","v":0},{"$f":"IF(AC146=\"\",\"Zonard\",INDEX(AB147:AB$2008,MIN(IF(COUNTIF(AC$2:AC146,AB147:AB$2008),ROW(AB$2008)-ROW()+1,ROW(AB147:AB$2008)-ROW()+1))))","v":0},0]
[null,null,null,null,null,null,null,null,null,null,null,null,null,null,null,null,null,null,null,null,null,null,null,null,null,null,null,{"$f":"HISTO!P147","v":0},{"$f":"IF(AC147=\"\",\"Zonard\",INDEX(AB148:AB$2008,MIN(IF(COUNTIF(AC$2:AC147,AB148:AB$2008),ROW(AB$2008)-ROW()+1,ROW(AB148:AB$2008)-ROW()+1))))","v":0},0]
[null,null,null,null,null,null,null,null,null,null,null,null,null,null,null,null,null,null,null,null,null,null,null,null,null,null,null,{"$f":"HISTO!P148","v":0},{"$f":"IF(AC148=\"\",\"Zonard\",INDEX(AB149:AB$2008,MIN(IF(COUNTIF(AC$2:AC148,AB149:AB$2008),ROW(AB$2008)-ROW()+1,ROW(AB149:AB$2008)-ROW()+1))))","v":0},0]
[null,null,null,null,null,null,null,null,null,null,null,null,null,null,null,null,null,null,null,null,null,null,null,null,null,null,null,{"$f":"HISTO!P149","v":0},{"$f":"IF(AC149=\"\",\"Zonard\",INDEX(AB150:AB$2008,MIN(IF(COUNTIF(AC$2:AC149,AB150:AB$2008),ROW(AB$2008)-ROW()+1,ROW(AB150:AB$2008)-ROW()+1))))","v":0},0]
[null,null,null,null,null,null,null,null,null,null,null,null,null,null,null,null,null,null,null,null,null,null,null,null,null,null,null,{"$f":"HISTO!P150","v":0},{"$f":"IF(AC150=\"\",\"Zonard\",INDEX(AB151:AB$2008,MIN(IF(COUNTIF(AC$2:AC150,AB151:AB$2008),ROW(AB$2008)-ROW()+1,ROW(AB151:AB$2008)-ROW()+1))))","v":0},0]
[null,null,null,null,null,null,null,null,null,null,null,null,null,null,null,null,null,null,null,null,null,null,null,null,null,null,null,{"$f":"HISTO!P151","v":0},{"$f":"IF(AC151=\"\",\"Zonard\",INDEX(AB152:AB$2008,MIN(IF(COUNTIF(AC$2:AC151,AB152:AB$2008),ROW(AB$2008)-ROW()+1,ROW(AB152:AB$2008)-ROW()+1))))","v":0},0]
[null,null,null,null,null,null,null,null,null,null,null,null,null,null,null,null,null,null,null,null,null,null,null,null,null,null,null,{"$f":"HISTO!P152","v":0},{"$f":"IF(AC152=\"\",\"Zonard\",INDEX(AB153:AB$2008,MIN(IF(COUNTIF(AC$2:AC152,AB153:AB$2008),ROW(AB$2008)-ROW()+1,ROW(AB153:AB$2008)-ROW()+1))))","v":0},0]
[null,null,null,null,null,null,null,null,null,null,null,null,null,null,null,null,null,null,null,null,null,null,null,null,null,null,null,{"$f":"HISTO!P153","v":0},{"$f":"IF(AC153=\"\",\"Zonard\",INDEX(AB154:AB$2008,MIN(IF(COUNTIF(AC$2:AC153,AB154:AB$2008),ROW(AB$2008)-ROW()+1,ROW(AB154:AB$2008)-ROW()+1))))","v":0},0]
[null,null,null,null,null,null,null,null,null,null,null,null,null,null,null,null,null,null,null,null,null,null,null,null,null,null,null,{"$f":"HISTO!P154","v":0},{"$f":"IF(AC154=\"\",\"Zonard\",INDEX(AB155:AB$2008,MIN(IF(COUNTIF(AC$2:AC154,AB155:AB$2008),ROW(AB$2008)-ROW()+1,ROW(AB155:AB$2008)-ROW()+1))))","v":0},0]
[null,null,null,null,null,null,null,null,null,null,null,null,null,null,null,null,null,null,null,null,null,null,null,null,null,null,null,{"$f":"HISTO!P155","v":0},{"$f":"IF(AC155=\"\",\"Zonard\",INDEX(AB156:AB$2008,MIN(IF(COUNTIF(AC$2:AC155,AB156:AB$2008),ROW(AB$2008)-ROW()+1,ROW(AB156:AB$2008)-ROW()+1))))","v":0},0]
[null,null,null,null,null,null,null,null,null,null,null,null,null,null,null,null,null,null,null,null,null,null,null,null,null,null,null,{"$f":"HISTO!P156","v":0},{"$f":"IF(AC156=\"\",\"Zonard\",INDEX(AB157:AB$2008,MIN(IF(COUNTIF(AC$2:AC156,AB157:AB$2008),ROW(AB$2008)-ROW()+1,ROW(AB157:AB$2008)-ROW()+1))))","v":0},0]
[null,null,null,null,null,null,null,null,null,null,null,null,null,null,null,null,null,null,null,null,null,null,null,null,null,null,null,{"$f":"HISTO!P157","v":0},{"$f":"IF(AC157=\"\",\"Zonard\",INDEX(AB158:AB$2008,MIN(IF(COUNTIF(AC$2:AC157,AB158:AB$2008),ROW(AB$2008)-ROW()+1,ROW(AB158:AB$2008)-ROW()+1))))","v":0},0]
[null,null,null,null,null,null,null,null,null,null,null,null,null,null,null,null,null,null,null,null,null,null,null,null,null,null,null,{"$f":"HISTO!P158","v":0},{"$f":"IF(AC158=\"\",\"Zonard\",INDEX(AB159:AB$2008,MIN(IF(COUNTIF(AC$2:AC158,AB159:AB$2008),ROW(AB$2008)-ROW()+1,ROW(AB159:AB$2008)-ROW()+1))))","v":0},0]
[null,null,null,null,null,null,null,null,null,null,null,null,null,null,null,null,null,null,null,null,null,null,null,null,null,null,null,{"$f":"HISTO!P159","v":0},{"$f":"IF(AC159=\"\",\"Zonard\",INDEX(AB160:AB$2008,MIN(IF(COUNTIF(AC$2:AC159,AB160:AB$2008),ROW(AB$2008)-ROW()+1,ROW(AB160:AB$2008)-ROW()+1))))","v":0},0]
[null,null,null,null,null,null,null,null,null,null,null,null,null,null,null,null,null,null,null,null,null,null,null,null,null,null,null,{"$f":"HISTO!P160","v":0},{"$f":"IF(AC160=\"\",\"Zonard\",INDEX(AB161:AB$2008,MIN(IF(COUNTIF(AC$2:AC160,AB161:AB$2008),ROW(AB$2008)-ROW()+1,ROW(AB161:AB$2008)-ROW()+1))))","v":0},0]
[null,null,null,null,null,null,null,null,null,null,null,null,null,null,null,null,null,null,null,null,null,null,null,null,null,null,null,{"$f":"HISTO!P161","v":0},{"$f":"IF(AC161=\"\",\"Zonard\",INDEX(AB162:AB$2008,MIN(IF(COUNTIF(AC$2:AC161,AB162:AB$2008),ROW(AB$2008)-ROW()+1,ROW(AB162:AB$2008)-ROW()+1))))","v":0},0]
[null,null,null,null,null,null,null,null,null,null,null,null,null,null,null,null,null,null,null,null,null,null,null,null,null,null,null,{"$f":"HISTO!P162","v":0},{"$f":"IF(AC162=\"\",\"Zonard\",INDEX(AB163:AB$2008,MIN(IF(COUNTIF(AC$2:AC162,AB163:AB$2008),ROW(AB$2008)-ROW()+1,ROW(AB163:AB$2008)-ROW()+1))))","v":0},0]
[null,null,null,null,null,null,null,null,null,null,null,null,null,null,null,null,null,null,null,null,null,null,null,null,null,null,null,{"$f":"HISTO!P163","v":0},{"$f":"IF(AC163=\"\",\"Zonard\",INDEX(AB164:AB$2008,MIN(IF(COUNTIF(AC$2:AC163,AB164:AB$2008),ROW(AB$2008)-ROW()+1,ROW(AB164:AB$2008)-ROW()+1))))","v":0},0]
[null,null,null,null,null,null,null,null,null,null,null,null,null,null,null,null,null,null,null,null,null,null,null,null,null,null,null,{"$f":"HISTO!P164","v":0},{"$f":"IF(AC164=\"\",\"Zonard\",INDEX(AB165:AB$2008,MIN(IF(COUNTIF(AC$2:AC164,AB165:AB$2008),ROW(AB$2008)-ROW()+1,ROW(AB165:AB$2008)-ROW()+1))))","v":0},0]
[null,null,null,null,null,null,null,null,null,null,null,null,null,null,null,null,null,null,null,null,null,null,null,null,null,null,null,{"$f":"HISTO!P165","v":0},{"$f":"IF(AC165=\"\",\"Zonard\",INDEX(AB166:AB$2008,MIN(IF(COUNTIF(AC$2:AC165,AB166:AB$2008),ROW(AB$2008)-ROW()+1,ROW(AB166:AB$2008)-ROW()+1))))","v":0},0]
[null,null,null,null,null,null,null,null,null,null,null,null,null,null,null,null,null,null,null,null,null,null,null,null,null,null,null,{"$f":"HISTO!P166","v":0},{"$f":"IF(AC166=\"\",\"Zonard\",INDEX(AB167:AB$2008,MIN(IF(COUNTIF(AC$2:AC166,AB167:AB$2008),ROW(AB$2008)-ROW()+1,ROW(AB167:AB$2008)-ROW()+1))))","v":0},0]
[null,null,null,null,null,null,null,null,null,null,null,null,null,null,null,null,null,null,null,null,null,null,null,null,null,null,null,{"$f":"HISTO!P167","v":0},{"$f":"IF(AC167=\"\",\"Zonard\",INDEX(AB168:AB$2008,MIN(IF(COUNTIF(AC$2:AC167,AB168:AB$2008),ROW(AB$2008)-ROW()+1,ROW(AB168:AB$2008)-ROW()+1))))","v":0},0]
[null,null,null,null,null,null,null,null,null,null,null,null,null,null,null,null,null,null,null,null,null,null,null,null,null,null,null,{"$f":"HISTO!P168","v":0},{"$f":"IF(AC168=\"\",\"Zonard\",INDEX(AB169:AB$2008,MIN(IF(COUNTIF(AC$2:AC168,AB169:AB$2008),ROW(AB$2008)-ROW()+1,ROW(AB169:AB$2008)-ROW()+1))))","v":0},0]
[null,null,null,null,null,null,null,null,null,null,null,null,null,null,null,null,null,null,null,null,null,null,null,null,null,null,null,{"$f":"HISTO!P169","v":0},{"$f":"IF(AC169=\"\",\"Zonard\",INDEX(AB170:AB$2008,MIN(IF(COUNTIF(AC$2:AC169,AB170:AB$2008),ROW(AB$2008)-ROW()+1,ROW(AB170:AB$2008)-ROW()+1))))","v":0},0]
[null,null,null,null,null,null,null,null,null,null,null,null,null,null,null,null,null,null,null,null,null,null,null,null,null,null,null,{"$f":"HISTO!P170","v":0},{"$f":"IF(AC170=\"\",\"Zonard\",INDEX(AB171:AB$2008,MIN(IF(COUNTIF(AC$2:AC170,AB171:AB$2008),ROW(AB$2008)-ROW()+1,ROW(AB171:AB$2008)-ROW()+1))))","v":0},0]
[null,null,null,null,null,null,null,null,null,null,null,null,null,null,null,null,null,null,null,null,null,null,null,null,null,null,null,{"$f":"HISTO!P171","v":0},{"$f":"IF(AC171=\"\",\"Zonard\",INDEX(AB172:AB$2008,MIN(IF(COUNTIF(AC$2:AC171,AB172:AB$2008),ROW(AB$2008)-ROW()+1,ROW(AB172:AB$2008)-ROW()+1))))","v":0},0]
[null,null,null,null,null,null,null,null,null,null,null,null,null,null,null,null,null,null,null,null,null,null,null,null,null,null,null,{"$f":"HISTO!P172","v":0},{"$f":"IF(AC172=\"\",\"Zonard\",INDEX(AB173:AB$2008,MIN(IF(COUNTIF(AC$2:AC172,AB173:AB$2008),ROW(AB$2008)-ROW()+1,ROW(AB173:AB$2008)-ROW()+1))))","v":0},0]
[null,null,null,null,null,null,null,null,null,null,null,null,null,null,null,null,null,null,null,null,null,null,null,null,null,null,null,{"$f":"HISTO!P173","v":0},{"$f":"IF(AC173=\"\",\"Zonard\",INDEX(AB174:AB$2008,MIN(IF(COUNTIF(AC$2:AC173,AB174:AB$2008),ROW(AB$2008)-ROW()+1,ROW(AB174:AB$2008)-ROW()+1))))","v":0},0]
[null,null,null,null,null,null,null,null,null,null,null,null,null,null,null,null,null,null,null,null,null,null,null,null,null,null,null,{"$f":"HISTO!P174","v":0},{"$f":"IF(AC174=\"\",\"Zonard\",INDEX(AB175:AB$2008,MIN(IF(COUNTIF(AC$2:AC174,AB175:AB$2008),ROW(AB$2008)-ROW()+1,ROW(AB175:AB$2008)-ROW()+1))))","v":0},0]
[null,null,null,null,null,null,null,null,null,null,null,null,null,null,null,null,null,null,null,null,null,null,null,null,null,null,null,{"$f":"HISTO!P175","v":0},{"$f":"IF(AC175=\"\",\"Zonard\",INDEX(AB176:AB$2008,MIN(IF(COUNTIF(AC$2:AC175,AB176:AB$2008),ROW(AB$2008)-ROW()+1,ROW(AB176:AB$2008)-ROW()+1))))","v":0},0]
[null,null,null,null,null,null,null,null,null,null,null,null,null,null,null,null,null,null,null,null,null,null,null,null,null,null,null,{"$f":"HISTO!P176","v":0},{"$f":"IF(AC176=\"\",\"Zonard\",INDEX(AB177:AB$2008,MIN(IF(COUNTIF(AC$2:AC176,AB177:AB$2008),ROW(AB$2008)-ROW()+1,ROW(AB177:AB$2008)-ROW()+1))))","v":0},0]
[null,null,null,null,null,null,null,null,null,null,null,null,null,null,null,null,null,null,null,null,null,null,null,null,null,null,null,{"$f":"HISTO!P177","v":0},{"$f":"IF(AC177=\"\",\"Zonard\",INDEX(AB178:AB$2008,MIN(IF(COUNTIF(AC$2:AC177,AB178:AB$2008),ROW(AB$2008)-ROW()+1,ROW(AB178:AB$2008)-ROW()+1))))","v":0},0]
[null,null,null,null,null,null,null,null,null,null,null,null,null,null,null,null,null,null,null,null,null,null,null,null,null,null,null,{"$f":"HISTO!P178","v":0},{"$f":"IF(AC178=\"\",\"Zonard\",INDEX(AB179:AB$2008,MIN(IF(COUNTIF(AC$2:AC178,AB179:AB$2008),ROW(AB$2008)-ROW()+1,ROW(AB179:AB$2008)-ROW()+1))))","v":0},0]
[null,null,null,null,null,null,null,null,null,null,null,null,null,null,null,null,null,null,null,null,null,null,null,null,null,null,null,{"$f":"HISTO!P179","v":0},{"$f":"IF(AC179=\"\",\"Zonard\",INDEX(AB180:AB$2008,MIN(IF(COUNTIF(AC$2:AC179,AB180:AB$2008),ROW(AB$2008)-ROW()+1,ROW(AB180:AB$2008)-ROW()+1))))","v":0},0]
[null,null,null,null,null,null,null,null,null,null,null,null,null,null,null,null,null,null,null,null,null,null,null,null,null,null,null,{"$f":"HISTO!P180","v":0},{"$f":"IF(AC180=\"\",\"Zonard\",INDEX(AB181:AB$2008,MIN(IF(COUNTIF(AC$2:AC180,AB181:AB$2008),ROW(AB$2008)-ROW()+1,ROW(AB181:AB$2008)-ROW()+1))))","v":0},0]
[null,null,null,null,null,null,null,null,null,null,null,null,null,null,null,null,null,null,null,null,null,null,null,null,null,null,null,{"$f":"HISTO!P181","v":0},{"$f":"IF(AC181=\"\",\"Zonard\",INDEX(AB182:AB$2008,MIN(IF(COUNTIF(AC$2:AC181,AB182:AB$2008),ROW(AB$2008)-ROW()+1,ROW(AB182:AB$2008)-ROW()+1))))","v":0},0]
[null,null,null,null,null,null,null,null,null,null,null,null,null,null,null,null,null,null,null,null,null,null,null,null,null,null,null,{"$f":"HISTO!P182","v":0},{"$f":"IF(AC182=\"\",\"Zonard\",INDEX(AB183:AB$2008,MIN(IF(COUNTIF(AC$2:AC182,AB183:AB$2008),ROW(AB$2008)-ROW()+1,ROW(AB183:AB$2008)-ROW()+1))))","v":0},0]
[null,null,null,null,null,null,null,null,null,null,null,null,null,null,null,null,null,null,null,null,null,null,null,null,null,null,null,{"$f":"HISTO!P183","v":0},{"$f":"IF(AC183=\"\",\"Zonard\",INDEX(AB184:AB$2008,MIN(IF(COUNTIF(AC$2:AC183,AB184:AB$2008),ROW(AB$2008)-ROW()+1,ROW(AB184:AB$2008)-ROW()+1))))","v":0},0]
[null,null,null,null,null,null,null,null,null,null,null,null,null,null,null,null,null,null,null,null,null,null,null,null,null,null,null,{"$f":"HISTO!P184","v":0},{"$f":"IF(AC184=\"\",\"Zonard\",INDEX(AB185:AB$2008,MIN(IF(COUNTIF(AC$2:AC184,AB185:AB$2008),ROW(AB$2008)-ROW()+1,ROW(AB185:AB$2008)-ROW()+1))))","v":0},0]
[null,null,null,null,null,null,null,null,null,null,null,null,null,null,null,null,null,null,null,null,null,null,null,null,null,null,null,{"$f":"HISTO!P185","v":0},{"$f":"IF(AC185=\"\",\"Zonard\",INDEX(AB186:AB$2008,MIN(IF(COUNTIF(AC$2:AC185,AB186:AB$2008),ROW(AB$2008)-ROW()+1,ROW(AB186:AB$2008)-ROW()+1))))","v":0},0]
[null,null,null,null,null,null,null,null,null,null,null,null,null,null,null,null,null,null,null,null,null,null,null,null,null,null,null,{"$f":"HISTO!P186","v":0},{"$f":"IF(AC186=\"\",\"Zonard\",INDEX(AB187:AB$2008,MIN(IF(COUNTIF(AC$2:AC186,AB187:AB$2008),ROW(AB$2008)-ROW()+1,ROW(AB187:AB$2008)-ROW()+1))))","v":0},0]
[null,null,null,null,null,null,null,null,null,null,null,null,null,null,null,null,null,null,null,null,null,null,null,null,null,null,null,{"$f":"HISTO!P187","v":0},{"$f":"IF(AC187=\"\",\"Zonard\",INDEX(AB188:AB$2008,MIN(IF(COUNTIF(AC$2:AC187,AB188:AB$2008),ROW(AB$2008)-ROW()+1,ROW(AB188:AB$2008)-ROW()+1))))","v":0},0]
[null,null,null,null,null,null,null,null,null,null,null,null,null,null,null,null,null,null,null,null,null,null,null,null,null,null,null,{"$f":"HISTO!P188","v":0},{"$f":"IF(AC188=\"\",\"Zonard\",INDEX(AB189:AB$2008,MIN(IF(COUNTIF(AC$2:AC188,AB189:AB$2008),ROW(AB$2008)-ROW()+1,ROW(AB189:AB$2008)-ROW()+1))))","v":0},0]
[null,null,null,null,null,null,null,null,null,null,null,null,null,null,null,null,null,null,null,null,null,null,null,null,null,null,null,{"$f":"HISTO!P189","v":0},{"$f":"IF(AC189=\"\",\"Zonard\",INDEX(AB190:AB$2008,MIN(IF(COUNTIF(AC$2:AC189,AB190:AB$2008),ROW(AB$2008)-ROW()+1,ROW(AB190:AB$2008)-ROW()+1))))","v":0},0]
[null,null,null,null,null,null,null,null,null,null,null,null,null,null,null,null,null,null,null,null,null,null,null,null,null,null,null,{"$f":"HISTO!P190","v":0},{"$f":"IF(AC190=\"\",\"Zonard\",INDEX(AB191:AB$2008,MIN(IF(COUNTIF(AC$2:AC190,AB191:AB$2008),ROW(AB$2008)-ROW()+1,ROW(AB191:AB$2008)-ROW()+1))))","v":0},0]
[null,null,null,null,null,null,null,null,null,null,null,null,null,null,null,null,null,null,null,null,null,null,null,null,null,null,null,{"$f":"HISTO!P191","v":0},{"$f":"IF(AC191=\"\",\"Zonard\",INDEX(AB192:AB$2008,MIN(IF(COUNTIF(AC$2:AC191,AB192:AB$2008),ROW(AB$2008)-ROW()+1,ROW(AB192:AB$2008)-ROW()+1))))","v":0},0]
[null,null,null,null,null,null,null,null,null,null,null,null,null,null,null,null,null,null,null,null,null,null,null,null,null,null,null,{"$f":"HISTO!P192","v":0},{"$f":"IF(AC192=\"\",\"Zonard\",INDEX(AB193:AB$2008,MIN(IF(COUNTIF(AC$2:AC192,AB193:AB$2008),ROW(AB$2008)-ROW()+1,ROW(AB193:AB$2008)-ROW()+1))))","v":0},0]
[null,null,null,null,null,null,null,null,null,null,null,null,null,null,null,null,null,null,null,null,null,null,null,null,null,null,null,{"$f":"HISTO!P193","v":0},{"$f":"IF(AC193=\"\",\"Zonard\",INDEX(AB194:AB$2008,MIN(IF(COUNTIF(AC$2:AC193,AB194:AB$2008),ROW(AB$2008)-ROW()+1,ROW(AB194:AB$2008)-ROW()+1))))","v":0},0]
[null,null,null,null,null,null,null,null,null,null,null,null,null,null,null,null,null,null,null,null,null,null,null,null,null,null,null,{"$f":"HISTO!P194","v":0},{"$f":"IF(AC194=\"\",\"Zonard\",INDEX(AB195:AB$2008,MIN(IF(COUNTIF(AC$2:AC194,AB195:AB$2008),ROW(AB$2008)-ROW()+1,ROW(AB195:AB$2008)-ROW()+1))))","v":0},0]
[null,null,null,null,null,null,null,null,null,null,null,null,null,null,null,null,null,null,null,null,null,null,null,null,null,null,null,{"$f":"HISTO!P195","v":0},{"$f":"IF(AC195=\"\",\"Zonard\",INDEX(AB196:AB$2008,MIN(IF(COUNTIF(AC$2:AC195,AB196:AB$2008),ROW(AB$2008)-ROW()+1,ROW(AB196:AB$2008)-ROW()+1))))","v":0},0]
[null,null,null,null,null,null,null,null,null,null,null,null,null,null,null,null,null,null,null,null,null,null,null,null,null,null,null,{"$f":"HISTO!P196","v":0},{"$f":"IF(AC196=\"\",\"Zonard\",INDEX(AB197:AB$2008,MIN(IF(COUNTIF(AC$2:AC196,AB197:AB$2008),ROW(AB$2008)-ROW()+1,ROW(AB197:AB$2008)-ROW()+1))))","v":0},0]
[null,null,null,null,null,null,null,null,null,null,null,null,null,null,null,null,null,null,null,null,null,null,null,null,null,null,null,{"$f":"HISTO!P197","v":0},{"$f":"IF(AC197=\"\",\"Zonard\",INDEX(AB198:AB$2008,MIN(IF(COUNTIF(AC$2:AC197,AB198:AB$2008),ROW(AB$2008)-ROW()+1,ROW(AB198:AB$2008)-ROW()+1))))","v":0},0]
[null,null,null,null,null,null,null,null,null,null,null,null,null,null,null,null,null,null,null,null,null,null,null,null,null,null,null,{"$f":"HISTO!P198","v":0},{"$f":"IF(AC198=\"\",\"Zonard\",INDEX(AB199:AB$2008,MIN(IF(COUNTIF(AC$2:AC198,AB199:AB$2008),ROW(AB$2008)-ROW()+1,ROW(AB199:AB$2008)-ROW()+1))))","v":0},0]
[null,null,null,null,null,null,null,null,null,null,null,null,null,null,null,null,null,null,null,null,null,null,null,null,null,null,null,{"$f":"HISTO!P199","v":0},{"$f":"IF(AC199=\"\",\"Zonard\",INDEX(AB200:AB$2008,MIN(IF(COUNTIF(AC$2:AC199,AB200:AB$2008),ROW(AB$2008)-ROW()+1,ROW(AB200:AB$2008)-ROW()+1))))","v":0},0]
[null,null,null,null,null,null,null,null,null,null,null,null,null,null,null,null,null,null,null,null,null,null,null,null,null,null,null,{"$f":"HISTO!P200","v":0},{"$f":"IF(AC200=\"\",\"Zonard\",INDEX(AB201:AB$2008,MIN(IF(COUNTIF(AC$2:AC200,AB201:AB$2008),ROW(AB$2008)-ROW()+1,ROW(AB201:AB$2008)-ROW()+1))))","v":0},0]
[null,null,null,null,null,null,null,null,null,null,null,null,null,null,null,null,null,null,null,null,null,null,null,null,null,null,null,{"$f":"HISTO!P201","v":0},{"$f":"IF(AC201=\"\",\"Zonard\",INDEX(AB202:AB$2008,MIN(IF(COUNTIF(AC$2:AC201,AB202:AB$2008),ROW(AB$2008)-ROW()+1,ROW(AB202:AB$2008)-ROW()+1))))","v":0},0]
[null,null,null,null,null,null,null,null,null,null,null,null,null,null,null,null,null,null,null,null,null,null,null,null,null,null,null,{"$f":"HISTO!P202","v":0},{"$f":"IF(AC202=\"\",\"Zonard\",INDEX(AB203:AB$2008,MIN(IF(COUNTIF(AC$2:AC202,AB203:AB$2008),ROW(AB$2008)-ROW()+1,ROW(AB203:AB$2008)-ROW()+1))))","v":0},0]
[null,null,null,null,null,null,null,null,null,null,null,null,null,null,null,null,null,null,null,null,null,null,null,null,null,null,null,{"$f":"HISTO!P203","v":0},{"$f":"IF(AC203=\"\",\"Zonard\",INDEX(AB204:AB$2008,MIN(IF(COUNTIF(AC$2:AC203,AB204:AB$2008),ROW(AB$2008)-ROW()+1,ROW(AB204:AB$2008)-ROW()+1))))","v":0},0]
[null,null,null,null,null,null,null,null,null,null,null,null,null,null,null,null,null,null,null,null,null,null,null,null,null,null,null,{"$f":"HISTO!P204","v":0},{"$f":"IF(AC204=\"\",\"Zonard\",INDEX(AB205:AB$2008,MIN(IF(COUNTIF(AC$2:AC204,AB205:AB$2008),ROW(AB$2008)-ROW()+1,ROW(AB205:AB$2008)-ROW()+1))))","v":0},0]
[null,null,null,null,null,null,null,null,null,null,null,null,null,null,null,null,null,null,null,null,null,null,null,null,null,null,null,{"$f":"HISTO!P205","v":0},{"$f":"IF(AC205=\"\",\"Zonard\",INDEX(AB206:AB$2008,MIN(IF(COUNTIF(AC$2:AC205,AB206:AB$2008),ROW(AB$2008)-ROW()+1,ROW(AB206:AB$2008)-ROW()+1))))","v":0},0]
[null,null,null,null,null,null,null,null,null,null,null,null,null,null,null,null,null,null,null,null,null,null,null,null,null,null,null,{"$f":"HISTO!P206","v":0},{"$f":"IF(AC206=\"\",\"Zonard\",INDEX(AB207:AB$2008,MIN(IF(COUNTIF(AC$2:AC206,AB207:AB$2008),ROW(AB$2008)-ROW()+1,ROW(AB207:AB$2008)-ROW()+1))))","v":0},0]
[null,null,null,null,null,null,null,null,null,null,null,null,null,null,null,null,null,null,null,null,null,null,null,null,null,null,null,{"$f":"HISTO!P207","v":0},{"$f":"IF(AC207=\"\",\"Zonard\",INDEX(AB208:AB$2008,MIN(IF(COUNTIF(AC$2:AC207,AB208:AB$2008),ROW(AB$2008)-ROW()+1,ROW(AB208:AB$2008)-ROW()+1))))","v":0},0]
[null,null,null,null,null,null,null,null,null,null,null,null,null,null,null,null,null,null,null,null,null,null,null,null,null,null,null,{"$f":"HISTO!P208","v":0},{"$f":"IF(AC208=\"\",\"Zonard\",INDEX(AB209:AB$2008,MIN(IF(COUNTIF(AC$2:AC208,AB209:AB$2008),ROW(AB$2008)-ROW()+1,ROW(AB209:AB$2008)-ROW()+1))))","v":0},0]
[null,null,null,null,null,null,null,null,null,null,null,null,null,null,null,null,null,null,null,null,null,null,null,null,null,null,null,{"$f":"HISTO!P209","v":0},{"$f":"IF(AC209=\"\",\"Zonard\",INDEX(AB210:AB$2008,MIN(IF(COUNTIF(AC$2:AC209,AB210:AB$2008),ROW(AB$2008)-ROW()+1,ROW(AB210:AB$2008)-ROW()+1))))","v":0},0]
[null,null,null,null,null,null,null,null,null,null,null,null,null,null,null,null,null,null,null,null,null,null,null,null,null,null,null,{"$f":"HISTO!P210","v":0},{"$f":"IF(AC210=\"\",\"Zonard\",INDEX(AB211:AB$2008,MIN(IF(COUNTIF(AC$2:AC210,AB211:AB$2008),ROW(AB$2008)-ROW()+1,ROW(AB211:AB$2008)-ROW()+1))))","v":0},0]
[null,null,null,null,null,null,null,null,null,null,null,null,null,null,null,null,null,null,null,null,null,null,null,null,null,null,null,{"$f":"HISTO!P211","v":0},{"$f":"IF(AC211=\"\",\"Zonard\",INDEX(AB212:AB$2008,MIN(IF(COUNTIF(AC$2:AC211,AB212:AB$2008),ROW(AB$2008)-ROW()+1,ROW(AB212:AB$2008)-ROW()+1))))","v":0},0]
[null,null,null,null,null,null,null,null,null,null,null,null,null,null,null,null,null,null,null,null,null,null,null,null,null,null,null,{"$f":"HISTO!P212","v":0},{"$f":"IF(AC212=\"\",\"Zonard\",INDEX(AB213:AB$2008,MIN(IF(COUNTIF(AC$2:AC212,AB213:AB$2008),ROW(AB$2008)-ROW()+1,ROW(AB213:AB$2008)-ROW()+1))))","v":0},0]
[null,null,null,null,null,null,null,null,null,null,null,null,null,null,null,null,null,null,null,null,null,null,null,null,null,null,null,{"$f":"HISTO!P213","v":0},{"$f":"IF(AC213=\"\",\"Zonard\",INDEX(AB214:AB$2008,MIN(IF(COUNTIF(AC$2:AC213,AB214:AB$2008),ROW(AB$2008)-ROW()+1,ROW(AB214:AB$2008)-ROW()+1))))","v":0},0]
[null,null,null,null,null,null,null,null,null,null,null,null,null,null,null,null,null,null,null,null,null,null,null,null,null,null,null,{"$f":"HISTO!P214","v":0},{"$f":"IF(AC214=\"\",\"Zonard\",INDEX(AB215:AB$2008,MIN(IF(COUNTIF(AC$2:AC214,AB215:AB$2008),ROW(AB$2008)-ROW()+1,ROW(AB215:AB$2008)-ROW()+1))))","v":0},0]
[null,null,null,null,null,null,null,null,null,null,null,null,null,null,null,null,null,null,null,null,null,null,null,null,null,null,null,{"$f":"HISTO!P215","v":0},{"$f":"IF(AC215=\"\",\"Zonard\",INDEX(AB216:AB$2008,MIN(IF(COUNTIF(AC$2:AC215,AB216:AB$2008),ROW(AB$2008)-ROW()+1,ROW(AB216:AB$2008)-ROW()+1))))","v":0},0]
[null,null,null,null,null,null,null,null,null,null,null,null,null,null,null,null,null,null,null,null,null,null,null,null,null,null,null,{"$f":"HISTO!P216","v":0},{"$f":"IF(AC216=\"\",\"Zonard\",INDEX(AB217:AB$2008,MIN(IF(COUNTIF(AC$2:AC216,AB217:AB$2008),ROW(AB$2008)-ROW()+1,ROW(AB217:AB$2008)-ROW()+1))))","v":0},0]
[null,null,null,null,null,null,null,null,null,null,null,null,null,null,null,null,null,null,null,null,null,null,null,null,null,null,null,{"$f":"HISTO!P217","v":0},{"$f":"IF(AC217=\"\",\"Zonard\",INDEX(AB218:AB$2008,MIN(IF(COUNTIF(AC$2:AC217,AB218:AB$2008),ROW(AB$2008)-ROW()+1,ROW(AB218:AB$2008)-ROW()+1))))","v":0},0]
[null,null,null,null,null,null,null,null,null,null,null,null,null,null,null,null,null,null,null,null,null,null,null,null,null,null,null,{"$f":"HISTO!P218","v":0},{"$f":"IF(AC218=\"\",\"Zonard\",INDEX(AB219:AB$2008,MIN(IF(COUNTIF(AC$2:AC218,AB219:AB$2008),ROW(AB$2008)-ROW()+1,ROW(AB219:AB$2008)-ROW()+1))))","v":0},0]
[null,null,null,null,null,null,null,null,null,null,null,null,null,null,null,null,null,null,null,null,null,null,null,null,null,null,null,{"$f":"HISTO!P219","v":0},{"$f":"IF(AC219=\"\",\"Zonard\",INDEX(AB220:AB$2008,MIN(IF(COUNTIF(AC$2:AC219,AB220:AB$2008),ROW(AB$2008)-ROW()+1,ROW(AB220:AB$2008)-ROW()+1))))","v":0},0]
[null,null,null,null,null,null,null,null,null,null,null,null,null,null,null,null,null,null,null,null,null,null,null,null,null,null,null,{"$f":"HISTO!P220","v":0},{"$f":"IF(AC220=\"\",\"Zonard\",INDEX(AB221:AB$2008,MIN(IF(COUNTIF(AC$2:AC220,AB221:AB$2008),ROW(AB$2008)-ROW()+1,ROW(AB221:AB$2008)-ROW()+1))))","v":0},0]
[null,null,null,null,null,null,null,null,null,null,null,null,null,null,null,null,null,null,null,null,null,null,null,null,null,null,null,{"$f":"HISTO!P221","v":0},{"$f":"IF(AC221=\"\",\"Zonard\",INDEX(AB222:AB$2008,MIN(IF(COUNTIF(AC$2:AC221,AB222:AB$2008),ROW(AB$2008)-ROW()+1,ROW(AB222:AB$2008)-ROW()+1))))","v":0},0]
[null,null,null,null,null,null,null,null,null,null,null,null,null,null,null,null,null,null,null,null,null,null,null,null,null,null,null,{"$f":"HISTO!P222","v":0},{"$f":"IF(AC222=\"\",\"Zonard\",INDEX(AB223:AB$2008,MIN(IF(COUNTIF(AC$2:AC222,AB223:AB$2008),ROW(AB$2008)-ROW()+1,ROW(AB223:AB$2008)-ROW()+1))))","v":0},0]
[null,null,null,null,null,null,null,null,null,null,null,null,null,null,null,null,null,null,null,null,null,null,null,null,null,null,null,{"$f":"HISTO!P223","v":0},{"$f":"IF(AC223=\"\",\"Zonard\",INDEX(AB224:AB$2008,MIN(IF(COUNTIF(AC$2:AC223,AB224:AB$2008),ROW(AB$2008)-ROW()+1,ROW(AB224:AB$2008)-ROW()+1))))","v":0},0]
[null,null,null,null,null,null,null,null,null,null,null,null,null,null,null,null,null,null,null,null,null,null,null,null,null,null,null,{"$f":"HISTO!P224","v":0},{"$f":"IF(AC224=\"\",\"Zonard\",INDEX(AB225:AB$2008,MIN(IF(COUNTIF(AC$2:AC224,AB225:AB$2008),ROW(AB$2008)-ROW()+1,ROW(AB225:AB$2008)-ROW()+1))))","v":0},0]
[null,null,null,null,null,null,null,null,null,null,null,null,null,null,null,null,null,null,null,null,null,null,null,null,null,null,null,{"$f":"HISTO!P225","v":0},{"$f":"IF(AC225=\"\",\"Zonard\",INDEX(AB226:AB$2008,MIN(IF(COUNTIF(AC$2:AC225,AB226:AB$2008),ROW(AB$2008)-ROW()+1,ROW(AB226:AB$2008)-ROW()+1))))","v":0},0]
[null,null,null,null,null,null,null,null,null,null,null,null,null,null,null,null,null,null,null,null,null,null,null,null,null,null,null,{"$f":"HISTO!P226","v":0},{"$f":"IF(AC226=\"\",\"Zonard\",INDEX(AB227:AB$2008,MIN(IF(COUNTIF(AC$2:AC226,AB227:AB$2008),ROW(AB$2008)-ROW()+1,ROW(AB227:AB$2008)-ROW()+1))))","v":0},0]
[null,null,null,null,null,null,null,null,null,null,null,null,null,null,null,null,null,null,null,null,null,null,null,null,null,null,null,{"$f":"HISTO!P227","v":0},{"$f":"IF(AC227=\"\",\"Zonard\",INDEX(AB228:AB$2008,MIN(IF(COUNTIF(AC$2:AC227,AB228:AB$2008),ROW(AB$2008)-ROW()+1,ROW(AB228:AB$2008)-ROW()+1))))","v":0},0]
[null,null,null,null,null,null,null,null,null,null,null,null,null,null,null,null,null,null,null,null,null,null,null,null,null,null,null,{"$f":"HISTO!P228","v":0},{"$f":"IF(AC228=\"\",\"Zonard\",INDEX(AB229:AB$2008,MIN(IF(COUNTIF(AC$2:AC228,AB229:AB$2008),ROW(AB$2008)-ROW()+1,ROW(AB229:AB$2008)-ROW()+1))))","v":0},0]
[null,null,null,null,null,null,null,null,null,null,null,null,null,null,null,null,null,null,null,null,null,null,null,null,null,null,null,{"$f":"HISTO!P229","v":0},{"$f":"IF(AC229=\"\",\"Zonard\",INDEX(AB230:AB$2008,MIN(IF(COUNTIF(AC$2:AC229,AB230:AB$2008),ROW(AB$2008)-ROW()+1,ROW(AB230:AB$2008)-ROW()+1))))","v":0},0]
[null,null,null,null,null,null,null,null,null,null,null,null,null,null,null,null,null,null,null,null,null,null,null,null,null,null,null,{"$f":"HISTO!P230","v":0},{"$f":"IF(AC230=\"\",\"Zonard\",INDEX(AB231:AB$2008,MIN(IF(COUNTIF(AC$2:AC230,AB231:AB$2008),ROW(AB$2008)-ROW()+1,ROW(AB231:AB$2008)-ROW()+1))))","v":0},0]
[null,null,null,null,null,null,null,null,null,null,null,null,null,null,null,null,null,null,null,null,null,null,null,null,null,null,null,{"$f":"HISTO!P231","v":0},{"$f":"IF(AC231=\"\",\"Zonard\",INDEX(AB232:AB$2008,MIN(IF(COUNTIF(AC$2:AC231,AB232:AB$2008),ROW(AB$2008)-ROW()+1,ROW(AB232:AB$2008)-ROW()+1))))","v":0},0]
[null,null,null,null,null,null,null,null,null,null,null,null,null,null,null,null,null,null,null,null,null,null,null,null,null,null,null,{"$f":"HISTO!P232","v":0},{"$f":"IF(AC232=\"\",\"Zonard\",INDEX(AB233:AB$2008,MIN(IF(COUNTIF(AC$2:AC232,AB233:AB$2008),ROW(AB$2008)-ROW()+1,ROW(AB233:AB$2008)-ROW()+1))))","v":0},0]
[null,null,null,null,null,null,null,null,null,null,null,null,null,null,null,null,null,null,null,null,null,null,null,null,null,null,null,{"$f":"HISTO!P233","v":0},{"$f":"IF(AC233=\"\",\"Zonard\",INDEX(AB234:AB$2008,MIN(IF(COUNTIF(AC$2:AC233,AB234:AB$2008),ROW(AB$2008)-ROW()+1,ROW(AB234:AB$2008)-ROW()+1))))","v":0},0]
[null,null,null,null,null,null,null,null,null,null,null,null,null,null,null,null,null,null,null,null,null,null,null,null,null,null,null,{"$f":"HISTO!P234","v":0},{"$f":"IF(AC234=\"\",\"Zonard\",INDEX(AB235:AB$2008,MIN(IF(COUNTIF(AC$2:AC234,AB235:AB$2008),ROW(AB$2008)-ROW()+1,ROW(AB235:AB$2008)-ROW()+1))))","v":0},0]
[null,null,null,null,null,null,null,null,null,null,null,null,null,null,null,null,null,null,null,null,null,null,null,null,null,null,null,{"$f":"HISTO!P235","v":0},{"$f":"IF(AC235=\"\",\"Zonard\",INDEX(AB236:AB$2008,MIN(IF(COUNTIF(AC$2:AC235,AB236:AB$2008),ROW(AB$2008)-ROW()+1,ROW(AB236:AB$2008)-ROW()+1))))","v":0},0]
[null,null,null,null,null,null,null,null,null,null,null,null,null,null,null,null,null,null,null,null,null,null,null,null,null,null,null,{"$f":"HISTO!P236","v":0},{"$f":"IF(AC236=\"\",\"Zonard\",INDEX(AB237:AB$2008,MIN(IF(COUNTIF(AC$2:AC236,AB237:AB$2008),ROW(AB$2008)-ROW()+1,ROW(AB237:AB$2008)-ROW()+1))))","v":0},0]
[null,null,null,null,null,null,null,null,null,null,null,null,null,null,null,null,null,null,null,null,null,null,null,null,null,null,null,{"$f":"HISTO!P237","v":0},{"$f":"IF(AC237=\"\",\"Zonard\",INDEX(AB238:AB$2008,MIN(IF(COUNTIF(AC$2:AC237,AB238:AB$2008),ROW(AB$2008)-ROW()+1,ROW(AB238:AB$2008)-ROW()+1))))","v":0},0]
[null,null,null,null,null,null,null,null,null,null,null,null,null,null,null,null,null,null,null,null,null,null,null,null,null,null,null,{"$f":"HISTO!P238","v":0},{"$f":"IF(AC238=\"\",\"Zonard\",INDEX(AB239:AB$2008,MIN(IF(COUNTIF(AC$2:AC238,AB239:AB$2008),ROW(AB$2008)-ROW()+1,ROW(AB239:AB$2008)-ROW()+1))))","v":0},0]
[null,null,null,null,null,null,null,null,null,null,null,null,null,null,null,null,null,null,null,null,null,null,null,null,null,null,null,{"$f":"HISTO!P239","v":0},{"$f":"IF(AC239=\"\",\"Zonard\",INDEX(AB240:AB$2008,MIN(IF(COUNTIF(AC$2:AC239,AB240:AB$2008),ROW(AB$2008)-ROW()+1,ROW(AB240:AB$2008)-ROW()+1))))","v":0},0]
[null,null,null,null,null,null,null,null,null,null,null,null,null,null,null,null,null,null,null,null,null,null,null,null,null,null,null,{"$f":"HISTO!P240","v":0},{"$f":"IF(AC240=\"\",\"Zonard\",INDEX(AB241:AB$2008,MIN(IF(COUNTIF(AC$2:AC240,AB241:AB$2008),ROW(AB$2008)-ROW()+1,ROW(AB241:AB$2008)-ROW()+1))))","v":0},0]
[null,null,null,null,null,null,null,null,null,null,null,null,null,null,null,null,null,null,null,null,null,null,null,null,null,null,null,{"$f":"HISTO!P241","v":0},{"$f":"IF(AC241=\"\",\"Zonard\",INDEX(AB242:AB$2008,MIN(IF(COUNTIF(AC$2:AC241,AB242:AB$2008),ROW(AB$2008)-ROW()+1,ROW(AB242:AB$2008)-ROW()+1))))","v":0},0]
[null,null,null,null,null,null,null,null,null,null,null,null,null,null,null,null,null,null,null,null,null,null,null,null,null,null,null,{"$f":"HISTO!P242","v":0},{"$f":"IF(AC242=\"\",\"Zonard\",INDEX(AB243:AB$2008,MIN(IF(COUNTIF(AC$2:AC242,AB243:AB$2008),ROW(AB$2008)-ROW()+1,ROW(AB243:AB$2008)-ROW()+1))))","v":0},0]
[null,null,null,null,null,null,null,null,null,null,null,null,null,null,null,null,null,null,null,null,null,null,null,null,null,null,null,{"$f":"HISTO!P243","v":0},{"$f":"IF(AC243=\"\",\"Zonard\",INDEX(AB244:AB$2008,MIN(IF(COUNTIF(AC$2:AC243,AB244:AB$2008),ROW(AB$2008)-ROW()+1,ROW(AB244:AB$2008)-ROW()+1))))","v":0},0]
[null,null,null,null,null,null,null,null,null,null,null,null,null,null,null,null,null,null,null,null,null,null,null,null,null,null,null,{"$f":"HISTO!P244","v":0},{"$f":"IF(AC244=\"\",\"Zonard\",INDEX(AB245:AB$2008,MIN(IF(COUNTIF(AC$2:AC244,AB245:AB$2008),ROW(AB$2008)-ROW()+1,ROW(AB245:AB$2008)-ROW()+1))))","v":0},0]
[null,null,null,null,null,null,null,null,null,null,null,null,null,null,null,null,null,null,null,null,null,null,null,null,null,null,null,{"$f":"HISTO!P245","v":0},{"$f":"IF(AC245=\"\",\"Zonard\",INDEX(AB246:AB$2008,MIN(IF(COUNTIF(AC$2:AC245,AB246:AB$2008),ROW(AB$2008)-ROW()+1,ROW(AB246:AB$2008)-ROW()+1))))","v":0},0]
[null,null,null,null,null,null,null,null,null,null,null,null,null,null,null,null,null,null,null,null,null,null,null,null,null,null,null,{"$f":"HISTO!P246","v":0},{"$f":"IF(AC246=\"\",\"Zonard\",INDEX(AB247:AB$2008,MIN(IF(COUNTIF(AC$2:AC246,AB247:AB$2008),ROW(AB$2008)-ROW()+1,ROW(AB247:AB$2008)-ROW()+1))))","v":0},0]
[null,null,null,null,null,null,null,null,null,null,null,null,null,null,null,null,null,null,null,null,null,null,null,null,null,null,null,{"$f":"HISTO!P247","v":0},{"$f":"IF(AC247=\"\",\"Zonard\",INDEX(AB248:AB$2008,MIN(IF(COUNTIF(AC$2:AC247,AB248:AB$2008),ROW(AB$2008)-ROW()+1,ROW(AB248:AB$2008)-ROW()+1))))","v":0},0]
[null,null,null,null,null,null,null,null,null,null,null,null,null,null,null,null,null,null,null,null,null,null,null,null,null,null,null,{"$f":"HISTO!P248","v":0},{"$f":"IF(AC248=\"\",\"Zonard\",INDEX(AB249:AB$2008,MIN(IF(COUNTIF(AC$2:AC248,AB249:AB$2008),ROW(AB$2008)-ROW()+1,ROW(AB249:AB$2008)-ROW()+1))))","v":0},0]
[null,null,null,null,null,null,null,null,null,null,null,null,null,null,null,null,null,null,null,null,null,null,null,null,null,null,null,{"$f":"HISTO!P249","v":0},{"$f":"IF(AC249=\"\",\"Zonard\",INDEX(AB250:AB$2008,MIN(IF(COUNTIF(AC$2:AC249,AB250:AB$2008),ROW(AB$2008)-ROW()+1,ROW(AB250:AB$2008)-ROW()+1))))","v":0},0]
[null,null,null,null,null,null,null,null,null,null,null,null,null,null,null,null,null,null,null,null,null,null,null,null,null,null,null,{"$f":"HISTO!P250","v":0},{"$f":"IF(AC250=\"\",\"Zonard\",INDEX(AB251:AB$2008,MIN(IF(COUNTIF(AC$2:AC250,AB251:AB$2008),ROW(AB$2008)-ROW()+1,ROW(AB251:AB$2008)-ROW()+1))))","v":0},0]
[null,null,null,null,null,null,null,null,null,null,null,null,null,null,null,null,null,null,null,null,null,null,null,null,null,null,null,{"$f":"HISTO!P251","v":0},{"$f":"IF(AC251=\"\",\"Zonard\",INDEX(AB252:AB$2008,MIN(IF(COUNTIF(AC$2:AC251,AB252:AB$2008),ROW(AB$2008)-ROW()+1,ROW(AB252:AB$2008)-ROW()+1))))","v":0},0]
[null,null,null,null,null,null,null,null,null,null,null,null,null,null,null,null,null,null,null,null,null,null,null,null,null,null,null,{"$f":"HISTO!P252","v":0},{"$f":"IF(AC252=\"\",\"Zonard\",INDEX(AB253:AB$2008,MIN(IF(COUNTIF(AC$2:AC252,AB253:AB$2008),ROW(AB$2008)-ROW()+1,ROW(AB253:AB$2008)-ROW()+1))))","v":0},0]
[null,null,null,null,null,null,null,null,null,null,null,null,null,null,null,null,null,null,null,null,null,null,null,null,null,null,null,{"$f":"HISTO!P253","v":0},{"$f":"IF(AC253=\"\",\"Zonard\",INDEX(AB254:AB$2008,MIN(IF(COUNTIF(AC$2:AC253,AB254:AB$2008),ROW(AB$2008)-ROW()+1,ROW(AB254:AB$2008)-ROW()+1))))","v":0},0]
[null,null,null,null,null,null,null,null,null,null,null,null,null,null,null,null,null,null,null,null,null,null,null,null,null,null,null,{"$f":"HISTO!P254","v":0},{"$f":"IF(AC254=\"\",\"Zonard\",INDEX(AB255:AB$2008,MIN(IF(COUNTIF(AC$2:AC254,AB255:AB$2008),ROW(AB$2008)-ROW()+1,ROW(AB255:AB$2008)-ROW()+1))))","v":0},0]
[null,null,null,null,null,null,null,null,null,null,null,null,null,null,null,null,null,null,null,null,null,null,null,null,null,null,null,{"$f":"HISTO!P255","v":0},{"$f":"IF(AC255=\"\",\"Zonard\",INDEX(AB256:AB$2008,MIN(IF(COUNTIF(AC$2:AC255,AB256:AB$2008),ROW(AB$2008)-ROW()+1,ROW(AB256:AB$2008)-ROW()+1))))","v":0},0]
[null,null,null,null,null,null,null,null,null,null,null,null,null,null,null,null,null,null,null,null,null,null,null,null,null,null,null,{"$f":"HISTO!P256","v":0},{"$f":"IF(AC256=\"\",\"Zonard\",INDEX(AB257:AB$2008,MIN(IF(COUNTIF(AC$2:AC256,AB257:AB$2008),ROW(AB$2008)-ROW()+1,ROW(AB257:AB$2008)-ROW()+1))))","v":0},0]
[null,null,null,null,null,null,null,null,null,null,null,null,null,null,null,null,null,null,null,null,null,null,null,null,null,null,null,{"$f":"HISTO!P257","v":0},{"$f":"IF(AC257=\"\",\"Zonard\",INDEX(AB258:AB$2008,MIN(IF(COUNTIF(AC$2:AC257,AB258:AB$2008),ROW(AB$2008)-ROW()+1,ROW(AB258:AB$2008)-ROW()+1))))","v":0},0]
[null,null,null,null,null,null,null,null,null,null,null,null,null,null,null,null,null,null,null,null,null,null,null,null,null,null,null,{"$f":"HISTO!P258","v":0},{"$f":"IF(AC258=\"\",\"Zonard\",INDEX(AB259:AB$2008,MIN(IF(COUNTIF(AC$2:AC258,AB259:AB$2008),ROW(AB$2008)-ROW()+1,ROW(AB259:AB$2008)-ROW()+1))))","v":0},0]
[null,null,null,null,null,null,null,null,null,null,null,null,null,null,null,null,null,null,null,null,null,null,null,null,null,null,null,{"$f":"HISTO!P259","v":0},{"$f":"IF(AC259=\"\",\"Zonard\",INDEX(AB260:AB$2008,MIN(IF(COUNTIF(AC$2:AC259,AB260:AB$2008),ROW(AB$2008)-ROW()+1,ROW(AB260:AB$2008)-ROW()+1))))","v":0},0]
[null,null,null,null,null,null,null,null,null,null,null,null,null,null,null,null,null,null,null,null,null,null,null,null,null,null,null,{"$f":"HISTO!P260","v":0},{"$f":"IF(AC260=\"\",\"Zonard\",INDEX(AB261:AB$2008,MIN(IF(COUNTIF(AC$2:AC260,AB261:AB$2008),ROW(AB$2008)-ROW()+1,ROW(AB261:AB$2008)-ROW()+1))))","v":0},0]
[null,null,null,null,null,null,null,null,null,null,null,null,null,null,null,null,null,null,null,null,null,null,null,null,null,null,null,{"$f":"HISTO!P261","v":0},{"$f":"IF(AC261=\"\",\"Zonard\",INDEX(AB262:AB$2008,MIN(IF(COUNTIF(AC$2:AC261,AB262:AB$2008),ROW(AB$2008)-ROW()+1,ROW(AB262:AB$2008)-ROW()+1))))","v":0},0]
[null,null,null,null,null,null,null,null,null,null,null,null,null,null,null,null,null,null,null,null,null,null,null,null,null,null,null,{"$f":"HISTO!P262","v":0},{"$f":"IF(AC262=\"\",\"Zonard\",INDEX(AB263:AB$2008,MIN(IF(COUNTIF(AC$2:AC262,AB263:AB$2008),ROW(AB$2008)-ROW()+1,ROW(AB263:AB$2008)-ROW()+1))))","v":0},0]
[null,null,null,null,null,null,null,null,null,null,null,null,null,null,null,null,null,null,null,null,null,null,null,null,null,null,null,{"$f":"HISTO!P263","v":0},{"$f":"IF(AC263=\"\",\"Zonard\",INDEX(AB264:AB$2008,MIN(IF(COUNTIF(AC$2:AC263,AB264:AB$2008),ROW(AB$2008)-ROW()+1,ROW(AB264:AB$2008)-ROW()+1))))","v":0},0]
[null,null,null,null,null,null,null,null,null,null,null,null,null,null,null,null,null,null,null,null,null,null,null,null,null,null,null,{"$f":"HISTO!P264","v":0},{"$f":"IF(AC264=\"\",\"Zonard\",INDEX(AB265:AB$2008,MIN(IF(COUNTIF(AC$2:AC264,AB265:AB$2008),ROW(AB$2008)-ROW()+1,ROW(AB265:AB$2008)-ROW()+1))))","v":0},0]
[null,null,null,null,null,null,null,null,null,null,null,null,null,null,null,null,null,null,null,null,null,null,null,null,null,null,null,{"$f":"HISTO!P265","v":0},{"$f":"IF(AC265=\"\",\"Zonard\",INDEX(AB266:AB$2008,MIN(IF(COUNTIF(AC$2:AC265,AB266:AB$2008),ROW(AB$2008)-ROW()+1,ROW(AB266:AB$2008)-ROW()+1))))","v":0},0]
[null,null,null,null,null,null,null,null,null,null,null,null,null,null,null,null,null,null,null,null,null,null,null,null,null,null,null,{"$f":"HISTO!P266","v":0},{"$f":"IF(AC266=\"\",\"Zonard\",INDEX(AB267:AB$2008,MIN(IF(COUNTIF(AC$2:AC266,AB267:AB$2008),ROW(AB$2008)-ROW()+1,ROW(AB267:AB$2008)-ROW()+1))))","v":0},0]
[null,null,null,null,null,null,null,null,null,null,null,null,null,null,null,null,null,null,null,null,null,null,null,null,null,null,null,{"$f":"HISTO!P267","v":0},{"$f":"IF(AC267=\"\",\"Zonard\",INDEX(AB268:AB$2008,MIN(IF(COUNTIF(AC$2:AC267,AB268:AB$2008),ROW(AB$2008)-ROW()+1,ROW(AB268:AB$2008)-ROW()+1))))","v":0},0]
[null,null,null,null,null,null,null,null,null,null,null,null,null,null,null,null,null,null,null,null,null,null,null,null,null,null,null,{"$f":"HISTO!P268","v":0},{"$f":"IF(AC268=\"\",\"Zonard\",INDEX(AB269:AB$2008,MIN(IF(COUNTIF(AC$2:AC268,AB269:AB$2008),ROW(AB$2008)-ROW()+1,ROW(AB269:AB$2008)-ROW()+1))))","v":0},0]
[null,null,null,null,null,null,null,null,null,null,null,null,null,null,null,null,null,null,null,null,null,null,null,null,null,null,null,{"$f":"HISTO!P269","v":0},{"$f":"IF(AC269=\"\",\"Zonard\",INDEX(AB270:AB$2008,MIN(IF(COUNTIF(AC$2:AC269,AB270:AB$2008),ROW(AB$2008)-ROW()+1,ROW(AB270:AB$2008)-ROW()+1))))","v":0},0]
[null,null,null,null,null,null,null,null,null,null,null,null,null,null,null,null,null,null,null,null,null,null,null,null,null,null,null,{"$f":"HISTO!P270","v":0},{"$f":"IF(AC270=\"\",\"Zonard\",INDEX(AB271:AB$2008,MIN(IF(COUNTIF(AC$2:AC270,AB271:AB$2008),ROW(AB$2008)-ROW()+1,ROW(AB271:AB$2008)-ROW()+1))))","v":0},0]
[null,null,null,null,null,null,null,null,null,null,null,null,null,null,null,null,null,null,null,null,null,null,null,null,null,null,null,{"$f":"HISTO!P271","v":0},{"$f":"IF(AC271=\"\",\"Zonard\",INDEX(AB272:AB$2008,MIN(IF(COUNTIF(AC$2:AC271,AB272:AB$2008),ROW(AB$2008)-ROW()+1,ROW(AB272:AB$2008)-ROW()+1))))","v":0},0]
[null,null,null,null,null,null,null,null,null,null,null,null,null,null,null,null,null,null,null,null,null,null,null,null,null,null,null,{"$f":"HISTO!P272","v":0},{"$f":"IF(AC272=\"\",\"Zonard\",INDEX(AB273:AB$2008,MIN(IF(COUNTIF(AC$2:AC272,AB273:AB$2008),ROW(AB$2008)-ROW()+1,ROW(AB273:AB$2008)-ROW()+1))))","v":0},0]
[null,null,null,null,null,null,null,null,null,null,null,null,null,null,null,null,null,null,null,null,null,null,null,null,null,null,null,{"$f":"HISTO!P273","v":0},{"$f":"IF(AC273=\"\",\"Zonard\",INDEX(AB274:AB$2008,MIN(IF(COUNTIF(AC$2:AC273,AB274:AB$2008),ROW(AB$2008)-ROW()+1,ROW(AB274:AB$2008)-ROW()+1))))","v":0},0]
[null,null,null,null,null,null,null,null,null,null,null,null,null,null,null,null,null,null,null,null,null,null,null,null,null,null,null,{"$f":"HISTO!P274","v":0},{"$f":"IF(AC274=\"\",\"Zonard\",INDEX(AB275:AB$2008,MIN(IF(COUNTIF(AC$2:AC274,AB275:AB$2008),ROW(AB$2008)-ROW()+1,ROW(AB275:AB$2008)-ROW()+1))))","v":0},0]
[null,null,null,null,null,null,null,null,null,null,null,null,null,null,null,null,null,null,null,null,null,null,null,null,null,null,null,{"$f":"HISTO!P275","v":0},{"$f":"IF(AC275=\"\",\"Zonard\",INDEX(AB276:AB$2008,MIN(IF(COUNTIF(AC$2:AC275,AB276:AB$2008),ROW(AB$2008)-ROW()+1,ROW(AB276:AB$2008)-ROW()+1))))","v":0},0]
[null,null,null,null,null,null,null,null,null,null,null,null,null,null,null,null,null,null,null,null,null,null,null,null,null,null,null,{"$f":"HISTO!P276","v":0},{"$f":"IF(AC276=\"\",\"Zonard\",INDEX(AB277:AB$2008,MIN(IF(COUNTIF(AC$2:AC276,AB277:AB$2008),ROW(AB$2008)-ROW()+1,ROW(AB277:AB$2008)-ROW()+1))))","v":0},0]
[null,null,null,null,null,null,null,null,null,null,null,null,null,null,null,null,null,null,null,null,null,null,null,null,null,null,null,{"$f":"HISTO!P277","v":0},{"$f":"IF(AC277=\"\",\"Zonard\",INDEX(AB278:AB$2008,MIN(IF(COUNTIF(AC$2:AC277,AB278:AB$2008),ROW(AB$2008)-ROW()+1,ROW(AB278:AB$2008)-ROW()+1))))","v":0},0]
[null,null,null,null,null,null,null,null,null,null,null,null,null,null,null,null,null,null,null,null,null,null,null,null,null,null,null,{"$f":"HISTO!P278","v":0},{"$f":"IF(AC278=\"\",\"Zonard\",INDEX(AB279:AB$2008,MIN(IF(COUNTIF(AC$2:AC278,AB279:AB$2008),ROW(AB$2008)-ROW()+1,ROW(AB279:AB$2008)-ROW()+1))))","v":0},0]
[null,null,null,null,null,null,null,null,null,null,null,null,null,null,null,null,null,null,null,null,null,null,null,null,null,null,null,{"$f":"HISTO!P279","v":0},{"$f":"IF(AC279=\"\",\"Zonard\",INDEX(AB280:AB$2008,MIN(IF(COUNTIF(AC$2:AC279,AB280:AB$2008),ROW(AB$2008)-ROW()+1,ROW(AB280:AB$2008)-ROW()+1))))","v":0},0]
[null,null,null,null,null,null,null,null,null,null,null,null,null,null,null,null,null,null,null,null,null,null,null,null,null,null,null,{"$f":"HISTO!P280","v":0},{"$f":"IF(AC280=\"\",\"Zonard\",INDEX(AB281:AB$2008,MIN(IF(COUNTIF(AC$2:AC280,AB281:AB$2008),ROW(AB$2008)-ROW()+1,ROW(AB281:AB$2008)-ROW()+1))))","v":0},0]
[null,null,null,null,null,null,null,null,null,null,null,null,null,null,null,null,null,null,null,null,null,null,null,null,null,null,null,{"$f":"HISTO!P281","v":0},{"$f":"IF(AC281=\"\",\"Zonard\",INDEX(AB282:AB$2008,MIN(IF(COUNTIF(AC$2:AC281,AB282:AB$2008),ROW(AB$2008)-ROW()+1,ROW(AB282:AB$2008)-ROW()+1))))","v":0},0]
[null,null,null,null,null,null,null,null,null,null,null,null,null,null,null,null,null,null,null,null,null,null,null,null,null,null,null,{"$f":"HISTO!P282","v":0},{"$f":"IF(AC282=\"\",\"Zonard\",INDEX(AB283:AB$2008,MIN(IF(COUNTIF(AC$2:AC282,AB283:AB$2008),ROW(AB$2008)-ROW()+1,ROW(AB283:AB$2008)-ROW()+1))))","v":0},0]
[null,null,null,null,null,null,null,null,null,null,null,null,null,null,null,null,null,null,null,null,null,null,null,null,null,null,null,{"$f":"HISTO!P283","v":0},{"$f":"IF(AC283=\"\",\"Zonard\",INDEX(AB284:AB$2008,MIN(IF(COUNTIF(AC$2:AC283,AB284:AB$2008),ROW(AB$2008)-ROW()+1,ROW(AB284:AB$2008)-ROW()+1))))","v":0},0]
[null,null,null,null,null,null,null,null,null,null,null,null,null,null,null,null,null,null,null,null,null,null,null,null,null,null,null,{"$f":"HISTO!P284","v":0},{"$f":"IF(AC284=\"\",\"Zonard\",INDEX(AB285:AB$2008,MIN(IF(COUNTIF(AC$2:AC284,AB285:AB$2008),ROW(AB$2008)-ROW()+1,ROW(AB285:AB$2008)-ROW()+1))))","v":0},0]
[null,null,null,null,null,null,null,null,null,null,null,null,null,null,null,null,null,null,null,null,null,null,null,null,null,null,null,{"$f":"HISTO!P285","v":0},{"$f":"IF(AC285=\"\",\"Zonard\",INDEX(AB286:AB$2008,MIN(IF(COUNTIF(AC$2:AC285,AB286:AB$2008),ROW(AB$2008)-ROW()+1,ROW(AB286:AB$2008)-ROW()+1))))","v":0},0]
[null,null,null,null,null,null,null,null,null,null,null,null,null,null,null,null,null,null,null,null,null,null,null,null,null,null,null,{"$f":"HISTO!P286","v":0},{"$f":"IF(AC286=\"\",\"Zonard\",INDEX(AB287:AB$2008,MIN(IF(COUNTIF(AC$2:AC286,AB287:AB$2008),ROW(AB$2008)-ROW()+1,ROW(AB287:AB$2008)-ROW()+1))))","v":0},0]
[null,null,null,null,null,null,null,null,null,null,null,null,null,null,null,null,null,null,null,null,null,null,null,null,null,null,null,{"$f":"HISTO!P287","v":0},{"$f":"IF(AC287=\"\",\"Zonard\",INDEX(AB288:AB$2008,MIN(IF(COUNTIF(AC$2:AC287,AB288:AB$2008),ROW(AB$2008)-ROW()+1,ROW(AB288:AB$2008)-ROW()+1))))","v":0},0]
[null,null,null,null,null,null,null,null,null,null,null,null,null,null,null,null,null,null,null,null,null,null,null,null,null,null,null,{"$f":"HISTO!P288","v":0},{"$f":"IF(AC288=\"\",\"Zonard\",INDEX(AB289:AB$2008,MIN(IF(COUNTIF(AC$2:AC288,AB289:AB$2008),ROW(AB$2008)-ROW()+1,ROW(AB289:AB$2008)-ROW()+1))))","v":0},0]
[null,null,null,null,null,null,null,null,null,null,null,null,null,null,null,null,null,null,null,null,null,null,null,null,null,null,null,{"$f":"HISTO!P289","v":0},{"$f":"IF(AC289=\"\",\"Zonard\",INDEX(AB290:AB$2008,MIN(IF(COUNTIF(AC$2:AC289,AB290:AB$2008),ROW(AB$2008)-ROW()+1,ROW(AB290:AB$2008)-ROW()+1))))","v":0},0]
[null,null,null,null,null,null,null,null,null,null,null,null,null,null,null,null,null,null,null,null,null,null,null,null,null,null,null,{"$f":"HISTO!P290","v":0},{"$f":"IF(AC290=\"\",\"Zonard\",INDEX(AB291:AB$2008,MIN(IF(COUNTIF(AC$2:AC290,AB291:AB$2008),ROW(AB$2008)-ROW()+1,ROW(AB291:AB$2008)-ROW()+1))))","v":0},0]
[null,null,null,null,null,null,null,null,null,null,null,null,null,null,null,null,null,null,null,null,null,null,null,null,null,null,null,{"$f":"HISTO!P291","v":0},{"$f":"IF(AC291=\"\",\"Zonard\",INDEX(AB292:AB$2008,MIN(IF(COUNTIF(AC$2:AC291,AB292:AB$2008),ROW(AB$2008)-ROW()+1,ROW(AB292:AB$2008)-ROW()+1))))","v":0},0]
[null,null,null,null,null,null,null,null,null,null,null,null,null,null,null,null,null,null,null,null,null,null,null,null,null,null,null,{"$f":"HISTO!P292","v":0},{"$f":"IF(AC292=\"\",\"Zonard\",INDEX(AB293:AB$2008,MIN(IF(COUNTIF(AC$2:AC292,AB293:AB$2008),ROW(AB$2008)-ROW()+1,ROW(AB293:AB$2008)-ROW()+1))))","v":0},0]
[null,null,null,null,null,null,null,null,null,null,null,null,null,null,null,null,null,null,null,null,null,null,null,null,null,null,null,{"$f":"HISTO!P293","v":0},{"$f":"IF(AC293=\"\",\"Zonard\",INDEX(AB294:AB$2008,MIN(IF(COUNTIF(AC$2:AC293,AB294:AB$2008),ROW(AB$2008)-ROW()+1,ROW(AB294:AB$2008)-ROW()+1))))","v":0},0]
[null,null,null,null,null,null,null,null,null,null,null,null,null,null,null,null,null,null,null,null,null,null,null,null,null,null,null,{"$f":"HISTO!P294","v":0},{"$f":"IF(AC294=\"\",\"Zonard\",INDEX(AB295:AB$2008,MIN(IF(COUNTIF(AC$2:AC294,AB295:AB$2008),ROW(AB$2008)-ROW()+1,ROW(AB295:AB$2008)-ROW()+1))))","v":0},0]
[null,null,null,null,null,null,null,null,null,null,null,null,null,null,null,null,null,null,null,null,null,null,null,null,null,null,null,{"$f":"HISTO!P295","v":0},{"$f":"IF(AC295=\"\",\"Zonard\",INDEX(AB296:AB$2008,MIN(IF(COUNTIF(AC$2:AC295,AB296:AB$2008),ROW(AB$2008)-ROW()+1,ROW(AB296:AB$2008)-ROW()+1))))","v":0},0]
[null,null,null,null,null,null,null,null,null,null,null,null,null,null,null,null,null,null,null,null,null,null,null,null,null,null,null,{"$f":"HISTO!P296","v":0},{"$f":"IF(AC296=\"\",\"Zonard\",INDEX(AB297:AB$2008,MIN(IF(COUNTIF(AC$2:AC296,AB297:AB$2008),ROW(AB$2008)-ROW()+1,ROW(AB297:AB$2008)-ROW()+1))))","v":0},0]
[null,null,null,null,null,null,null,null,null,null,null,null,null,null,null,null,null,null,null,null,null,null,null,null,null,null,null,{"$f":"HISTO!P297","v":0},{"$f":"IF(AC297=\"\",\"Zonard\",INDEX(AB298:AB$2008,MIN(IF(COUNTIF(AC$2:AC297,AB298:AB$2008),ROW(AB$2008)-ROW()+1,ROW(AB298:AB$2008)-ROW()+1))))","v":0},0]
[null,null,null,null,null,null,null,null,null,null,null,null,null,null,null,null,null,null,null,null,null,null,null,null,null,null,null,{"$f":"HISTO!P298","v":0},{"$f":"IF(AC298=\"\",\"Zonard\",INDEX(AB299:AB$2008,MIN(IF(COUNTIF(AC$2:AC298,AB299:AB$2008),ROW(AB$2008)-ROW()+1,ROW(AB299:AB$2008)-ROW()+1))))","v":0},0]
[null,null,null,null,null,null,null,null,null,null,null,null,null,null,null,null,null,null,null,null,null,null,null,null,null,null,null,{"$f":"HISTO!P299","v":0},{"$f":"IF(AC299=\"\",\"Zonard\",INDEX(AB300:AB$2008,MIN(IF(COUNTIF(AC$2:AC299,AB300:AB$2008),ROW(AB$2008)-ROW()+1,ROW(AB300:AB$2008)-ROW()+1))))","v":0},0]
[null,null,null,null,null,null,null,null,null,null,null,null,null,null,null,null,null,null,null,null,null,null,null,null,null,null,null,{"$f":"HISTO!P300","v":0},{"$f":"IF(AC300=\"\",\"Zonard\",INDEX(AB301:AB$2008,MIN(IF(COUNTIF(AC$2:AC300,AB301:AB$2008),ROW(AB$2008)-ROW()+1,ROW(AB301:AB$2008)-ROW()+1))))","v":0},0]
[null,null,null,null,null,null,null,null,null,null,null,null,null,null,null,null,null,null,null,null,null,null,null,null,null,null,null,{"$f":"HISTO!P301","v":0},{"$f":"IF(AC301=\"\",\"Zonard\",INDEX(AB302:AB$2008,MIN(IF(COUNTIF(AC$2:AC301,AB302:AB$2008),ROW(AB$2008)-ROW()+1,ROW(AB302:AB$2008)-ROW()+1))))","v":0},0]
[null,null,null,null,null,null,null,null,null,null,null,null,null,null,null,null,null,null,null,null,null,null,null,null,null,null,null,{"$f":"HISTO!P302","v":0},{"$f":"IF(AC302=\"\",\"Zonard\",INDEX(AB303:AB$2008,MIN(IF(COUNTIF(AC$2:AC302,AB303:AB$2008),ROW(AB$2008)-ROW()+1,ROW(AB303:AB$2008)-ROW()+1))))","v":0},0]
[null,null,null,null,null,null,null,null,null,null,null,null,null,null,null,null,null,null,null,null,null,null,null,null,null,null,null,{"$f":"HISTO!P303","v":0},{"$f":"IF(AC303=\"\",\"Zonard\",INDEX(AB304:AB$2008,MIN(IF(COUNTIF(AC$2:AC303,AB304:AB$2008),ROW(AB$2008)-ROW()+1,ROW(AB304:AB$2008)-ROW()+1))))","v":0},0]
[null,null,null,null,null,null,null,null,null,null,null,null,null,null,null,null,null,null,null,null,null,null,null,null,null,null,null,{"$f":"HISTO!P304","v":0},{"$f":"IF(AC304=\"\",\"Zonard\",INDEX(AB305:AB$2008,MIN(IF(COUNTIF(AC$2:AC304,AB305:AB$2008),ROW(AB$2008)-ROW()+1,ROW(AB305:AB$2008)-ROW()+1))))","v":0},0]
[null,null,null,null,null,null,null,null,null,null,null,null,null,null,null,null,null,null,null,null,null,null,null,null,null,null,null,{"$f":"HISTO!P305","v":0},{"$f":"IF(AC305=\"\",\"Zonard\",INDEX(AB306:AB$2008,MIN(IF(COUNTIF(AC$2:AC305,AB306:AB$2008),ROW(AB$2008)-ROW()+1,ROW(AB306:AB$2008)-ROW()+1))))","v":0},0]
[null,null,null,null,null,null,null,null,null,null,null,null,null,null,null,null,null,null,null,null,null,null,null,null,null,null,null,{"$f":"HISTO!P306","v":0},{"$f":"IF(AC306=\"\",\"Zonard\",INDEX(AB307:AB$2008,MIN(IF(COUNTIF(AC$2:AC306,AB307:AB$2008),ROW(AB$2008)-ROW()+1,ROW(AB307:AB$2008)-ROW()+1))))","v":0},0]
[null,null,null,null,null,null,null,null,null,null,null,null,null,null,null,null,null,null,null,null,null,null,null,null,null,null,null,{"$f":"HISTO!P307","v":0},{"$f":"IF(AC307=\"\",\"Zonard\",INDEX(AB308:AB$2008,MIN(IF(COUNTIF(AC$2:AC307,AB308:AB$2008),ROW(AB$2008)-ROW()+1,ROW(AB308:AB$2008)-ROW()+1))))","v":0},0]
[null,null,null,null,null,null,null,null,null,null,null,null,null,null,null,null,null,null,null,null,null,null,null,null,null,null,null,{"$f":"HISTO!P308","v":0},{"$f":"IF(AC308=\"\",\"Zonard\",INDEX(AB309:AB$2008,MIN(IF(COUNTIF(AC$2:AC308,AB309:AB$2008),ROW(AB$2008)-ROW()+1,ROW(AB309:AB$2008)-ROW()+1))))","v":0},0]
[null,null,null,null,null,null,null,null,null,null,null,null,null,null,null,null,null,null,null,null,null,null,null,null,null,null,null,{"$f":"HISTO!P309","v":0},{"$f":"IF(AC309=\"\",\"Zonard\",INDEX(AB310:AB$2008,MIN(IF(COUNTIF(AC$2:AC309,AB310:AB$2008),ROW(AB$2008)-ROW()+1,ROW(AB310:AB$2008)-ROW()+1))))","v":0},0]
[null,null,null,null,null,null,null,null,null,null,null,null,null,null,null,null,null,null,null,null,null,null,null,null,null,null,null,{"$f":"HISTO!P310","v":0},{"$f":"IF(AC310=\"\",\"Zonard\",INDEX(AB311:AB$2008,MIN(IF(COUNTIF(AC$2:AC310,AB311:AB$2008),ROW(AB$2008)-ROW()+1,ROW(AB311:AB$2008)-ROW()+1))))","v":0},0]
[null,null,null,null,null,null,null,null,null,null,null,null,null,null,null,null,null,null,null,null,null,null,null,null,null,null,null,{"$f":"HISTO!P311","v":0},{"$f":"IF(AC311=\"\",\"Zonard\",INDEX(AB312:AB$2008,MIN(IF(COUNTIF(AC$2:AC311,AB312:AB$2008),ROW(AB$2008)-ROW()+1,ROW(AB312:AB$2008)-ROW()+1))))","v":0},0]
[null,null,null,null,null,null,null,null,null,null,null,null,null,null,null,null,null,null,null,null,null,null,null,null,null,null,null,{"$f":"HISTO!P312","v":0},{"$f":"IF(AC312=\"\",\"Zonard\",INDEX(AB313:AB$2008,MIN(IF(COUNTIF(AC$2:AC312,AB313:AB$2008),ROW(AB$2008)-ROW()+1,ROW(AB313:AB$2008)-ROW()+1))))","v":0},0]
[null,null,null,null,null,null,null,null,null,null,null,null,null,null,null,null,null,null,null,null,null,null,null,null,null,null,null,{"$f":"HISTO!P313","v":0},{"$f":"IF(AC313=\"\",\"Zonard\",INDEX(AB314:AB$2008,MIN(IF(COUNTIF(AC$2:AC313,AB314:AB$2008),ROW(AB$2008)-ROW()+1,ROW(AB314:AB$2008)-ROW()+1))))","v":0},0]
[null,null,null,null,null,null,null,null,null,null,null,null,null,null,null,null,null,null,null,null,null,null,null,null,null,null,null,{"$f":"HISTO!P314","v":0},{"$f":"IF(AC314=\"\",\"Zonard\",INDEX(AB315:AB$2008,MIN(IF(COUNTIF(AC$2:AC314,AB315:AB$2008),ROW(AB$2008)-ROW()+1,ROW(AB315:AB$2008)-ROW()+1))))","v":0},0]
[null,null,null,null,null,null,null,null,null,null,null,null,null,null,null,null,null,null,null,null,null,null,null,null,null,null,null,{"$f":"HISTO!P315","v":0},{"$f":"IF(AC315=\"\",\"Zonard\",INDEX(AB316:AB$2008,MIN(IF(COUNTIF(AC$2:AC315,AB316:AB$2008),ROW(AB$2008)-ROW()+1,ROW(AB316:AB$2008)-ROW()+1))))","v":0},0]
[null,null,null,null,null,null,null,null,null,null,null,null,null,null,null,null,null,null,null,null,null,null,null,null,null,null,null,{"$f":"HISTO!P316","v":0},{"$f":"IF(AC316=\"\",\"Zonard\",INDEX(AB317:AB$2008,MIN(IF(COUNTIF(AC$2:AC316,AB317:AB$2008),ROW(AB$2008)-ROW()+1,ROW(AB317:AB$2008)-ROW()+1))))","v":0},0]
[null,null,null,null,null,null,null,null,null,null,null,null,null,null,null,null,null,null,null,null,null,null,null,null,null,null,null,{"$f":"HISTO!P317","v":0},{"$f":"IF(AC317=\"\",\"Zonard\",INDEX(AB318:AB$2008,MIN(IF(COUNTIF(AC$2:AC317,AB318:AB$2008),ROW(AB$2008)-ROW()+1,ROW(AB318:AB$2008)-ROW()+1))))","v":0},0]
[null,null,null,null,null,null,null,null,null,null,null,null,null,null,null,null,null,null,null,null,null,null,null,null,null,null,null,{"$f":"HISTO!P318","v":0},{"$f":"IF(AC318=\"\",\"Zonard\",INDEX(AB319:AB$2008,MIN(IF(COUNTIF(AC$2:AC318,AB319:AB$2008),ROW(AB$2008)-ROW()+1,ROW(AB319:AB$2008)-ROW()+1))))","v":0},0]
[null,null,null,null,null,null,null,null,null,null,null,null,null,null,null,null,null,null,null,null,null,null,null,null,null,null,null,{"$f":"HISTO!P319","v":0},{"$f":"IF(AC319=\"\",\"Zonard\",INDEX(AB320:AB$2008,MIN(IF(COUNTIF(AC$2:AC319,AB320:AB$2008),ROW(AB$2008)-ROW()+1,ROW(AB320:AB$2008)-ROW()+1))))","v":0},0]
[null,null,null,null,null,null,null,null,null,null,null,null,null,null,null,null,null,null,null,null,null,null,null,null,null,null,null,{"$f":"HISTO!P320","v":0},{"$f":"IF(AC320=\"\",\"Zonard\",INDEX(AB321:AB$2008,MIN(IF(COUNTIF(AC$2:AC320,AB321:AB$2008),ROW(AB$2008)-ROW()+1,ROW(AB321:AB$2008)-ROW()+1))))","v":0},0]
[null,null,null,null,null,null,null,null,null,null,null,null,null,null,null,null,null,null,null,null,null,null,null,null,null,null,null,{"$f":"HISTO!P321","v":0},{"$f":"IF(AC321=\"\",\"Zonard\",INDEX(AB322:AB$2008,MIN(IF(COUNTIF(AC$2:AC321,AB322:AB$2008),ROW(AB$2008)-ROW()+1,ROW(AB322:AB$2008)-ROW()+1))))","v":0},0]
[null,null,null,null,null,null,null,null,null,null,null,null,null,null,null,null,null,null,null,null,null,null,null,null,null,null,null,{"$f":"HISTO!P322","v":0},{"$f":"IF(AC322=\"\",\"Zonard\",INDEX(AB323:AB$2008,MIN(IF(COUNTIF(AC$2:AC322,AB323:AB$2008),ROW(AB$2008)-ROW()+1,ROW(AB323:AB$2008)-ROW()+1))))","v":0},0]
[null,null,null,null,null,null,null,null,null,null,null,null,null,null,null,null,null,null,null,null,null,null,null,null,null,null,null,{"$f":"HISTO!P323","v":0},{"$f":"IF(AC323=\"\",\"Zonard\",INDEX(AB324:AB$2008,MIN(IF(COUNTIF(AC$2:AC323,AB324:AB$2008),ROW(AB$2008)-ROW()+1,ROW(AB324:AB$2008)-ROW()+1))))","v":0},0]
[null,null,null,null,null,null,null,null,null,null,null,null,null,null,null,null,null,null,null,null,null,null,null,null,null,null,null,{"$f":"HISTO!P324","v":0},{"$f":"IF(AC324=\"\",\"Zonard\",INDEX(AB325:AB$2008,MIN(IF(COUNTIF(AC$2:AC324,AB325:AB$2008),ROW(AB$2008)-ROW()+1,ROW(AB325:AB$2008)-ROW()+1))))","v":0},0]
[null,null,null,null,null,null,null,null,null,null,null,null,null,null,null,null,null,null,null,null,null,null,null,null,null,null,null,{"$f":"HISTO!P325","v":0},{"$f":"IF(AC325=\"\",\"Zonard\",INDEX(AB326:AB$2008,MIN(IF(COUNTIF(AC$2:AC325,AB326:AB$2008),ROW(AB$2008)-ROW()+1,ROW(AB326:AB$2008)-ROW()+1))))","v":0},0]
[null,null,null,null,null,null,null,null,null,null,null,null,null,null,null,null,null,null,null,null,null,null,null,null,null,null,null,{"$f":"HISTO!P326","v":0},{"$f":"IF(AC326=\"\",\"Zonard\",INDEX(AB327:AB$2008,MIN(IF(COUNTIF(AC$2:AC326,AB327:AB$2008),ROW(AB$2008)-ROW()+1,ROW(AB327:AB$2008)-ROW()+1))))","v":0},0]
[null,null,null,null,null,null,null,null,null,null,null,null,null,null,null,null,null,null,null,null,null,null,null,null,null,null,null,{"$f":"HISTO!P327","v":0},{"$f":"IF(AC327=\"\",\"Zonard\",INDEX(AB328:AB$2008,MIN(IF(COUNTIF(AC$2:AC327,AB328:AB$2008),ROW(AB$2008)-ROW()+1,ROW(AB328:AB$2008)-ROW()+1))))","v":0},0]
[null,null,null,null,null,null,null,null,null,null,null,null,null,null,null,null,null,null,null,null,null,null,null,null,null,null,null,{"$f":"HISTO!P328","v":0},{"$f":"IF(AC328=\"\",\"Zonard\",INDEX(AB329:AB$2008,MIN(IF(COUNTIF(AC$2:AC328,AB329:AB$2008),ROW(AB$2008)-ROW()+1,ROW(AB329:AB$2008)-ROW()+1))))","v":0},0]
[null,null,null,null,null,null,null,null,null,null,null,null,null,null,null,null,null,null,null,null,null,null,null,null,null,null,null,{"$f":"HISTO!P329","v":0},{"$f":"IF(AC329=\"\",\"Zonard\",INDEX(AB330:AB$2008,MIN(IF(COUNTIF(AC$2:AC329,AB330:AB$2008),ROW(AB$2008)-ROW()+1,ROW(AB330:AB$2008)-ROW()+1))))","v":0},0]
[null,null,null,null,null,null,null,null,null,null,null,null,null,null,null,null,null,null,null,null,null,null,null,null,null,null,null,{"$f":"HISTO!P330","v":0},{"$f":"IF(AC330=\"\",\"Zonard\",INDEX(AB331:AB$2008,MIN(IF(COUNTIF(AC$2:AC330,AB331:AB$2008),ROW(AB$2008)-ROW()+1,ROW(AB331:AB$2008)-ROW()+1))))","v":0},0]
[null,null,null,null,null,null,null,null,null,null,null,null,null,null,null,null,null,null,null,null,null,null,null,null,null,null,null,{"$f":"HISTO!P331","v":0},{"$f":"IF(AC331=\"\",\"Zonard\",INDEX(AB332:AB$2008,MIN(IF(COUNTIF(AC$2:AC331,AB332:AB$2008),ROW(AB$2008)-ROW()+1,ROW(AB332:AB$2008)-ROW()+1))))","v":0},0]
[null,null,null,null,null,null,null,null,null,null,null,null,null,null,null,null,null,null,null,null,null,null,null,null,null,null,null,{"$f":"HISTO!P332","v":0},{"$f":"IF(AC332=\"\",\"Zonard\",INDEX(AB333:AB$2008,MIN(IF(COUNTIF(AC$2:AC332,AB333:AB$2008),ROW(AB$2008)-ROW()+1,ROW(AB333:AB$2008)-ROW()+1))))","v":0},0]
[null,null,null,null,null,null,null,null,null,null,null,null,null,null,null,null,null,null,null,null,null,null,null,null,null,null,null,{"$f":"HISTO!P333","v":0},{"$f":"IF(AC333=\"\",\"Zonard\",INDEX(AB334:AB$2008,MIN(IF(COUNTIF(AC$2:AC333,AB334:AB$2008),ROW(AB$2008)-ROW()+1,ROW(AB334:AB$2008)-ROW()+1))))","v":0},0]
[null,null,null,null,null,null,null,null,null,null,null,null,null,null,null,null,null,null,null,null,null,null,null,null,null,null,null,{"$f":"HISTO!P334","v":0},{"$f":"IF(AC334=\"\",\"Zonard\",INDEX(AB335:AB$2008,MIN(IF(COUNTIF(AC$2:AC334,AB335:AB$2008),ROW(AB$2008)-ROW()+1,ROW(AB335:AB$2008)-ROW()+1))))","v":0},0]
[null,null,null,null,null,null,null,null,null,null,null,null,null,null,null,null,null,null,null,null,null,null,null,null,null,null,null,{"$f":"HISTO!P335","v":0},{"$f":"IF(AC335=\"\",\"Zonard\",INDEX(AB336:AB$2008,MIN(IF(COUNTIF(AC$2:AC335,AB336:AB$2008),ROW(AB$2008)-ROW()+1,ROW(AB336:AB$2008)-ROW()+1))))","v":0},0]
[null,null,null,null,null,null,null,null,null,null,null,null,null,null,null,null,null,null,null,null,null,null,null,null,null,null,null,{"$f":"HISTO!P336","v":0},{"$f":"IF(AC336=\"\",\"Zonard\",INDEX(AB337:AB$2008,MIN(IF(COUNTIF(AC$2:AC336,AB337:AB$2008),ROW(AB$2008)-ROW()+1,ROW(AB337:AB$2008)-ROW()+1))))","v":0},0]
[null,null,null,null,null,null,null,null,null,null,null,null,null,null,null,null,null,null,null,null,null,null,null,null,null,null,null,{"$f":"HISTO!P337","v":0},{"$f":"IF(AC337=\"\",\"Zonard\",INDEX(AB338:AB$2008,MIN(IF(COUNTIF(AC$2:AC337,AB338:AB$2008),ROW(AB$2008)-ROW()+1,ROW(AB338:AB$2008)-ROW()+1))))","v":0},0]
[null,null,null,null,null,null,null,null,null,null,null,null,null,null,null,null,null,null,null,null,null,null,null,null,null,null,null,{"$f":"HISTO!P338","v":0},{"$f":"IF(AC338=\"\",\"Zonard\",INDEX(AB339:AB$2008,MIN(IF(COUNTIF(AC$2:AC338,AB339:AB$2008),ROW(AB$2008)-ROW()+1,ROW(AB339:AB$2008)-ROW()+1))))","v":0},0]
[null,null,null,null,null,null,null,null,null,null,null,null,null,null,null,null,null,null,null,null,null,null,null,null,null,null,null,{"$f":"HISTO!P339","v":0},{"$f":"IF(AC339=\"\",\"Zonard\",INDEX(AB340:AB$2008,MIN(IF(COUNTIF(AC$2:AC339,AB340:AB$2008),ROW(AB$2008)-ROW()+1,ROW(AB340:AB$2008)-ROW()+1))))","v":0},0]
[null,null,null,null,null,null,null,null,null,null,null,null,null,null,null,null,null,null,null,null,null,null,null,null,null,null,null,{"$f":"HISTO!P340","v":0},{"$f":"IF(AC340=\"\",\"Zonard\",INDEX(AB341:AB$2008,MIN(IF(COUNTIF(AC$2:AC340,AB341:AB$2008),ROW(AB$2008)-ROW()+1,ROW(AB341:AB$2008)-ROW()+1))))","v":0},0]
[null,null,null,null,null,null,null,null,null,null,null,null,null,null,null,null,null,null,null,null,null,null,null,null,null,null,null,{"$f":"HISTO!P341","v":0},{"$f":"IF(AC341=\"\",\"Zonard\",INDEX(AB342:AB$2008,MIN(IF(COUNTIF(AC$2:AC341,AB342:AB$2008),ROW(AB$2008)-ROW()+1,ROW(AB342:AB$2008)-ROW()+1))))","v":0},0]
[null,null,null,null,null,null,null,null,null,null,null,null,null,null,null,null,null,null,null,null,null,null,null,null,null,null,null,{"$f":"HISTO!P342","v":0},{"$f":"IF(AC342=\"\",\"Zonard\",INDEX(AB343:AB$2008,MIN(IF(COUNTIF(AC$2:AC342,AB343:AB$2008),ROW(AB$2008)-ROW()+1,ROW(AB343:AB$2008)-ROW()+1))))","v":0},0]
[null,null,null,null,null,null,null,null,null,null,null,null,null,null,null,null,null,null,null,null,null,null,null,null,null,null,null,{"$f":"HISTO!P343","v":0},{"$f":"IF(AC343=\"\",\"Zonard\",INDEX(AB344:AB$2008,MIN(IF(COUNTIF(AC$2:AC343,AB344:AB$2008),ROW(AB$2008)-ROW()+1,ROW(AB344:AB$2008)-ROW()+1))))","v":0},0]
[null,null,null,null,null,null,null,null,null,null,null,null,null,null,null,null,null,null,null,null,null,null,null,null,null,null,null,{"$f":"HISTO!P344","v":0},{"$f":"IF(AC344=\"\",\"Zonard\",INDEX(AB345:AB$2008,MIN(IF(COUNTIF(AC$2:AC344,AB345:AB$2008),ROW(AB$2008)-ROW()+1,ROW(AB345:AB$2008)-ROW()+1))))","v":0},0]
[null,null,null,null,null,null,null,null,null,null,null,null,null,null,null,null,null,null,null,null,null,null,null,null,null,null,null,{"$f":"HISTO!P345","v":0},{"$f":"IF(AC345=\"\",\"Zonard\",INDEX(AB346:AB$2008,MIN(IF(COUNTIF(AC$2:AC345,AB346:AB$2008),ROW(AB$2008)-ROW()+1,ROW(AB346:AB$2008)-ROW()+1))))","v":0},0]
[null,null,null,null,null,null,null,null,null,null,null,null,null,null,null,null,null,null,null,null,null,null,null,null,null,null,null,{"$f":"HISTO!P346","v":0},{"$f":"IF(AC346=\"\",\"Zonard\",INDEX(AB347:AB$2008,MIN(IF(COUNTIF(AC$2:AC346,AB347:AB$2008),ROW(AB$2008)-ROW()+1,ROW(AB347:AB$2008)-ROW()+1))))","v":0},0]
[null,null,null,null,null,null,null,null,null,null,null,null,null,null,null,null,null,null,null,null,null,null,null,null,null,null,null,{"$f":"HISTO!P347","v":0},{"$f":"IF(AC347=\"\",\"Zonard\",INDEX(AB348:AB$2008,MIN(IF(COUNTIF(AC$2:AC347,AB348:AB$2008),ROW(AB$2008)-ROW()+1,ROW(AB348:AB$2008)-ROW()+1))))","v":0},0]
[null,null,null,null,null,null,null,null,null,null,null,null,null,null,null,null,null,null,null,null,null,null,null,null,null,null,null,{"$f":"HISTO!P348","v":0},{"$f":"IF(AC348=\"\",\"Zonard\",INDEX(AB349:AB$2008,MIN(IF(COUNTIF(AC$2:AC348,AB349:AB$2008),ROW(AB$2008)-ROW()+1,ROW(AB349:AB$2008)-ROW()+1))))","v":0},0]
[null,null,null,null,null,null,null,null,null,null,null,null,null,null,null,null,null,null,null,null,null,null,null,null,null,null,null,{"$f":"HISTO!P349","v":0},{"$f":"IF(AC349=\"\",\"Zonard\",INDEX(AB350:AB$2008,MIN(IF(COUNTIF(AC$2:AC349,AB350:AB$2008),ROW(AB$2008)-ROW()+1,ROW(AB350:AB$2008)-ROW()+1))))","v":0},0]
[null,null,null,null,null,null,null,null,null,null,null,null,null,null,null,null,null,null,null,null,null,null,null,null,null,null,null,{"$f":"HISTO!P350","v":0},{"$f":"IF(AC350=\"\",\"Zonard\",INDEX(AB351:AB$2008,MIN(IF(COUNTIF(AC$2:AC350,AB351:AB$2008),ROW(AB$2008)-ROW()+1,ROW(AB351:AB$2008)-ROW()+1))))","v":0},0]
[null,null,null,null,null,null,null,null,null,null,null,null,null,null,null,null,null,null,null,null,null,null,null,null,null,null,null,{"$f":"HISTO!P351","v":0},{"$f":"IF(AC351=\"\",\"Zonard\",INDEX(AB352:AB$2008,MIN(IF(COUNTIF(AC$2:AC351,AB352:AB$2008),ROW(AB$2008)-ROW()+1,ROW(AB352:AB$2008)-ROW()+1))))","v":0},0]
[null,null,null,null,null,null,null,null,null,null,null,null,null,null,null,null,null,null,null,null,null,null,null,null,null,null,null,{"$f":"HISTO!P352","v":0},{"$f":"IF(AC352=\"\",\"Zonard\",INDEX(AB353:AB$2008,MIN(IF(COUNTIF(AC$2:AC352,AB353:AB$2008),ROW(AB$2008)-ROW()+1,ROW(AB353:AB$2008)-ROW()+1))))","v":0},0]
[null,null,null,null,null,null,null,null,null,null,null,null,null,null,null,null,null,null,null,null,null,null,null,null,null,null,null,{"$f":"HISTO!P353","v":0},{"$f":"IF(AC353=\"\",\"Zonard\",INDEX(AB354:AB$2008,MIN(IF(COUNTIF(AC$2:AC353,AB354:AB$2008),ROW(AB$2008)-ROW()+1,ROW(AB354:AB$2008)-ROW()+1))))","v":0},0]
[null,null,null,null,null,null,null,null,null,null,null,null,null,null,null,null,null,null,null,null,null,null,null,null,null,null,null,{"$f":"HISTO!P354","v":0},{"$f":"IF(AC354=\"\",\"Zonard\",INDEX(AB355:AB$2008,MIN(IF(COUNTIF(AC$2:AC354,AB355:AB$2008),ROW(AB$2008)-ROW()+1,ROW(AB355:AB$2008)-ROW()+1))))","v":0},0]
[null,null,null,null,null,null,null,null,null,null,null,null,null,null,null,null,null,null,null,null,null,null,null,null,null,null,null,{"$f":"HISTO!P355","v":0},{"$f":"IF(AC355=\"\",\"Zonard\",INDEX(AB356:AB$2008,MIN(IF(COUNTIF(AC$2:AC355,AB356:AB$2008),ROW(AB$2008)-ROW()+1,ROW(AB356:AB$2008)-ROW()+1))))","v":0},0]
[null,null,null,null,null,null,null,null,null,null,null,null,null,null,null,null,null,null,null,null,null,null,null,null,null,null,null,{"$f":"HISTO!P356","v":0},{"$f":"IF(AC356=\"\",\"Zonard\",INDEX(AB357:AB$2008,MIN(IF(COUNTIF(AC$2:AC356,AB357:AB$2008),ROW(AB$2008)-ROW()+1,ROW(AB357:AB$2008)-ROW()+1))))","v":0},0]
[null,null,null,null,null,null,null,null,null,null,null,null,null,null,null,null,null,null,null,null,null,null,null,null,null,null,null,{"$f":"HISTO!P357","v":0},{"$f":"IF(AC357=\"\",\"Zonard\",INDEX(AB358:AB$2008,MIN(IF(COUNTIF(AC$2:AC357,AB358:AB$2008),ROW(AB$2008)-ROW()+1,ROW(AB358:AB$2008)-ROW()+1))))","v":0},0]
[null,null,null,null,null,null,null,null,null,null,null,null,null,null,null,null,null,null,null,null,null,null,null,null,null,null,null,{"$f":"HISTO!P358","v":0},{"$f":"IF(AC358=\"\",\"Zonard\",INDEX(AB359:AB$2008,MIN(IF(COUNTIF(AC$2:AC358,AB359:AB$2008),ROW(AB$2008)-ROW()+1,ROW(AB359:AB$2008)-ROW()+1))))","v":0},0]
[null,null,null,null,null,null,null,null,null,null,null,null,null,null,null,null,null,null,null,null,null,null,null,null,null,null,null,{"$f":"HISTO!P359","v":0},{"$f":"IF(AC359=\"\",\"Zonard\",INDEX(AB360:AB$2008,MIN(IF(COUNTIF(AC$2:AC359,AB360:AB$2008),ROW(AB$2008)-ROW()+1,ROW(AB360:AB$2008)-ROW()+1))))","v":0},0]
[null,null,null,null,null,null,null,null,null,null,null,null,null,null,null,null,null,null,null,null,null,null,null,null,null,null,null,{"$f":"HISTO!P360","v":0},{"$f":"IF(AC360=\"\",\"Zonard\",INDEX(AB361:AB$2008,MIN(IF(COUNTIF(AC$2:AC360,AB361:AB$2008),ROW(AB$2008)-ROW()+1,ROW(AB361:AB$2008)-ROW()+1))))","v":0},0]
[null,null,null,null,null,null,null,null,null,null,null,null,null,null,null,null,null,null,null,null,null,null,null,null,null,null,null,{"$f":"HISTO!P361","v":0},{"$f":"IF(AC361=\"\",\"Zonard\",INDEX(AB362:AB$2008,MIN(IF(COUNTIF(AC$2:AC361,AB362:AB$2008),ROW(AB$2008)-ROW()+1,ROW(AB362:AB$2008)-ROW()+1))))","v":0},0]
[null,null,null,null,null,null,null,null,null,null,null,null,null,null,null,null,null,null,null,null,null,null,null,null,null,null,null,{"$f":"HISTO!P362","v":0},{"$f":"IF(AC362=\"\",\"Zonard\",INDEX(AB363:AB$2008,MIN(IF(COUNTIF(AC$2:AC362,AB363:AB$2008),ROW(AB$2008)-ROW()+1,ROW(AB363:AB$2008)-ROW()+1))))","v":0},0]
[null,null,null,null,null,null,null,null,null,null,null,null,null,null,null,null,null,null,null,null,null,null,null,null,null,null,null,{"$f":"HISTO!P363","v":0},{"$f":"IF(AC363=\"\",\"Zonard\",INDEX(AB364:AB$2008,MIN(IF(COUNTIF(AC$2:AC363,AB364:AB$2008),ROW(AB$2008)-ROW()+1,ROW(AB364:AB$2008)-ROW()+1))))","v":0},0]
[null,null,null,null,null,null,null,null,null,null,null,null,null,null,null,null,null,null,null,null,null,null,null,null,null,null,null,{"$f":"HISTO!P364","v":0},{"$f":"IF(AC364=\"\",\"Zonard\",INDEX(AB365:AB$2008,MIN(IF(COUNTIF(AC$2:AC364,AB365:AB$2008),ROW(AB$2008)-ROW()+1,ROW(AB365:AB$2008)-ROW()+1))))","v":0},0]
[null,null,null,null,null,null,null,null,null,null,null,null,null,null,null,null,null,null,null,null,null,null,null,null,null,null,null,{"$f":"HISTO!P365","v":0},{"$f":"IF(AC365=\"\",\"Zonard\",INDEX(AB366:AB$2008,MIN(IF(COUNTIF(AC$2:AC365,AB366:AB$2008),ROW(AB$2008)-ROW()+1,ROW(AB366:AB$2008)-ROW()+1))))","v":0},0]
[null,null,null,null,null,null,null,null,null,null,null,null,null,null,null,null,null,null,null,null,null,null,null,null,null,null,null,{"$f":"HISTO!P366","v":0},{"$f":"IF(AC366=\"\",\"Zonard\",INDEX(AB367:AB$2008,MIN(IF(COUNTIF(AC$2:AC366,AB367:AB$2008),ROW(AB$2008)-ROW()+1,ROW(AB367:AB$2008)-ROW()+1))))","v":0},0]
[null,null,null,null,null,null,null,null,null,null,null,null,null,null,null,null,null,null,null,null,null,null,null,null,null,null,null,{"$f":"HISTO!P367","v":0},{"$f":"IF(AC367=\"\",\"Zonard\",INDEX(AB368:AB$2008,MIN(IF(COUNTIF(AC$2:AC367,AB368:AB$2008),ROW(AB$2008)-ROW()+1,ROW(AB368:AB$2008)-ROW()+1))))","v":0},0]
[null,null,null,null,null,null,null,null,null,null,null,null,null,null,null,null,null,null,null,null,null,null,null,null,null,null,null,{"$f":"HISTO!P368","v":0},{"$f":"IF(AC368=\"\",\"Zonard\",INDEX(AB369:AB$2008,MIN(IF(COUNTIF(AC$2:AC368,AB369:AB$2008),ROW(AB$2008)-ROW()+1,ROW(AB369:AB$2008)-ROW()+1))))","v":0},0]
[null,null,null,null,null,null,null,null,null,null,null,null,null,null,null,null,null,null,null,null,null,null,null,null,null,null,null,{"$f":"HISTO!P369","v":0},{"$f":"IF(AC369=\"\",\"Zonard\",INDEX(AB370:AB$2008,MIN(IF(COUNTIF(AC$2:AC369,AB370:AB$2008),ROW(AB$2008)-ROW()+1,ROW(AB370:AB$2008)-ROW()+1))))","v":0},0]
[null,null,null,null,null,null,null,null,null,null,null,null,null,null,null,null,null,null,null,null,null,null,null,null,null,null,null,{"$f":"HISTO!P370","v":0},{"$f":"IF(AC370=\"\",\"Zonard\",INDEX(AB371:AB$2008,MIN(IF(COUNTIF(AC$2:AC370,AB371:AB$2008),ROW(AB$2008)-ROW()+1,ROW(AB371:AB$2008)-ROW()+1))))","v":0},0]
[null,null,null,null,null,null,null,null,null,null,null,null,null,null,null,null,null,null,null,null,null,null,null,null,null,null,null,{"$f":"HISTO!P371","v":0},{"$f":"IF(AC371=\"\",\"Zonard\",INDEX(AB372:AB$2008,MIN(IF(COUNTIF(AC$2:AC371,AB372:AB$2008),ROW(AB$2008)-ROW()+1,ROW(AB372:AB$2008)-ROW()+1))))","v":0},0]
[null,null,null,null,null,null,null,null,null,null,null,null,null,null,null,null,null,null,null,null,null,null,null,null,null,null,null,{"$f":"HISTO!P372","v":0},{"$f":"IF(AC372=\"\",\"Zonard\",INDEX(AB373:AB$2008,MIN(IF(COUNTIF(AC$2:AC372,AB373:AB$2008),ROW(AB$2008)-ROW()+1,ROW(AB373:AB$2008)-ROW()+1))))","v":0},0]
[null,null,null,null,null,null,null,null,null,null,null,null,null,null,null,null,null,null,null,null,null,null,null,null,null,null,null,{"$f":"HISTO!P373","v":0},{"$f":"IF(AC373=\"\",\"Zonard\",INDEX(AB374:AB$2008,MIN(IF(COUNTIF(AC$2:AC373,AB374:AB$2008),ROW(AB$2008)-ROW()+1,ROW(AB374:AB$2008)-ROW()+1))))","v":0},0]
[null,null,null,null,null,null,null,null,null,null,null,null,null,null,null,null,null,null,null,null,null,null,null,null,null,null,null,{"$f":"HISTO!P374","v":0},{"$f":"IF(AC374=\"\",\"Zonard\",INDEX(AB375:AB$2008,MIN(IF(COUNTIF(AC$2:AC374,AB375:AB$2008),ROW(AB$2008)-ROW()+1,ROW(AB375:AB$2008)-ROW()+1))))","v":0},0]
[null,null,null,null,null,null,null,null,null,null,null,null,null,null,null,null,null,null,null,null,null,null,null,null,null,null,null,{"$f":"HISTO!P375","v":0},{"$f":"IF(AC375=\"\",\"Zonard\",INDEX(AB376:AB$2008,MIN(IF(COUNTIF(AC$2:AC375,AB376:AB$2008),ROW(AB$2008)-ROW()+1,ROW(AB376:AB$2008)-ROW()+1))))","v":0},0]
[null,null,null,null,null,null,null,null,null,null,null,null,null,null,null,null,null,null,null,null,null,null,null,null,null,null,null,{"$f":"HISTO!P376","v":0},{"$f":"IF(AC376=\"\",\"Zonard\",INDEX(AB377:AB$2008,MIN(IF(COUNTIF(AC$2:AC376,AB377:AB$2008),ROW(AB$2008)-ROW()+1,ROW(AB377:AB$2008)-ROW()+1))))","v":0},0]
[null,null,null,null,null,null,null,null,null,null,null,null,null,null,null,null,null,null,null,null,null,null,null,null,null,null,null,{"$f":"HISTO!P377","v":0},{"$f":"IF(AC377=\"\",\"Zonard\",INDEX(AB378:AB$2008,MIN(IF(COUNTIF(AC$2:AC377,AB378:AB$2008),ROW(AB$2008)-ROW()+1,ROW(AB378:AB$2008)-ROW()+1))))","v":0},0]
[null,null,null,null,null,null,null,null,null,null,null,null,null,null,null,null,null,null,null,null,null,null,null,null,null,null,null,{"$f":"HISTO!P378","v":0},{"$f":"IF(AC378=\"\",\"Zonard\",INDEX(AB379:AB$2008,MIN(IF(COUNTIF(AC$2:AC378,AB379:AB$2008),ROW(AB$2008)-ROW()+1,ROW(AB379:AB$2008)-ROW()+1))))","v":0},0]
[null,null,null,null,null,null,null,null,null,null,null,null,null,null,null,null,null,null,null,null,null,null,null,null,null,null,null,{"$f":"HISTO!P379","v":0},{"$f":"IF(AC379=\"\",\"Zonard\",INDEX(AB380:AB$2008,MIN(IF(COUNTIF(AC$2:AC379,AB380:AB$2008),ROW(AB$2008)-ROW()+1,ROW(AB380:AB$2008)-ROW()+1))))","v":0},0]
[null,null,null,null,null,null,null,null,null,null,null,null,null,null,null,null,null,null,null,null,null,null,null,null,null,null,null,{"$f":"HISTO!P380","v":0},{"$f":"IF(AC380=\"\",\"Zonard\",INDEX(AB381:AB$2008,MIN(IF(COUNTIF(AC$2:AC380,AB381:AB$2008),ROW(AB$2008)-ROW()+1,ROW(AB381:AB$2008)-ROW()+1))))","v":0},0]
[null,null,null,null,null,null,null,null,null,null,null,null,null,null,null,null,null,null,null,null,null,null,null,null,null,null,null,{"$f":"HISTO!P381","v":0},{"$f":"IF(AC381=\"\",\"Zonard\",INDEX(AB382:AB$2008,MIN(IF(COUNTIF(AC$2:AC381,AB382:AB$2008),ROW(AB$2008)-ROW()+1,ROW(AB382:AB$2008)-ROW()+1))))","v":0},0]
[null,null,null,null,null,null,null,null,null,null,null,null,null,null,null,null,null,null,null,null,null,null,null,null,null,null,null,{"$f":"HISTO!P382","v":0},{"$f":"IF(AC382=\"\",\"Zonard\",INDEX(AB383:AB$2008,MIN(IF(COUNTIF(AC$2:AC382,AB383:AB$2008),ROW(AB$2008)-ROW()+1,ROW(AB383:AB$2008)-ROW()+1))))","v":0},0]
[null,null,null,null,null,null,null,null,null,null,null,null,null,null,null,null,null,null,null,null,null,null,null,null,null,null,null,{"$f":"HISTO!P383","v":0},{"$f":"IF(AC383=\"\",\"Zonard\",INDEX(AB384:AB$2008,MIN(IF(COUNTIF(AC$2:AC383,AB384:AB$2008),ROW(AB$2008)-ROW()+1,ROW(AB384:AB$2008)-ROW()+1))))","v":0},0]
[null,null,null,null,null,null,null,null,null,null,null,null,null,null,null,null,null,null,null,null,null,null,null,null,null,null,null,{"$f":"HISTO!P384","v":0},{"$f":"IF(AC384=\"\",\"Zonard\",INDEX(AB385:AB$2008,MIN(IF(COUNTIF(AC$2:AC384,AB385:AB$2008),ROW(AB$2008)-ROW()+1,ROW(AB385:AB$2008)-ROW()+1))))","v":0},0]
[null,null,null,null,null,null,null,null,null,null,null,null,null,null,null,null,null,null,null,null,null,null,null,null,null,null,null,{"$f":"HISTO!P385","v":0},{"$f":"IF(AC385=\"\",\"Zonard\",INDEX(AB386:AB$2008,MIN(IF(COUNTIF(AC$2:AC385,AB386:AB$2008),ROW(AB$2008)-ROW()+1,ROW(AB386:AB$2008)-ROW()+1))))","v":0},0]
[null,null,null,null,null,null,null,null,null,null,null,null,null,null,null,null,null,null,null,null,null,null,null,null,null,null,null,{"$f":"HISTO!P386","v":0},{"$f":"IF(AC386=\"\",\"Zonard\",INDEX(AB387:AB$2008,MIN(IF(COUNTIF(AC$2:AC386,AB387:AB$2008),ROW(AB$2008)-ROW()+1,ROW(AB387:AB$2008)-ROW()+1))))","v":0},0]
[null,null,null,null,null,null,null,null,null,null,null,null,null,null,null,null,null,null,null,null,null,null,null,null,null,null,null,{"$f":"HISTO!P387","v":0},{"$f":"IF(AC387=\"\",\"Zonard\",INDEX(AB388:AB$2008,MIN(IF(COUNTIF(AC$2:AC387,AB388:AB$2008),ROW(AB$2008)-ROW()+1,ROW(AB388:AB$2008)-ROW()+1))))","v":0},0]
[null,null,null,null,null,null,null,null,null,null,null,null,null,null,null,null,null,null,null,null,null,null,null,null,null,null,null,{"$f":"HISTO!P388","v":0},{"$f":"IF(AC388=\"\",\"Zonard\",INDEX(AB389:AB$2008,MIN(IF(COUNTIF(AC$2:AC388,AB389:AB$2008),ROW(AB$2008)-ROW()+1,ROW(AB389:AB$2008)-ROW()+1))))","v":0},0]
[null,null,null,null,null,null,null,null,null,null,null,null,null,null,null,null,null,null,null,null,null,null,null,null,null,null,null,{"$f":"HISTO!P389","v":0},{"$f":"IF(AC389=\"\",\"Zonard\",INDEX(AB390:AB$2008,MIN(IF(COUNTIF(AC$2:AC389,AB390:AB$2008),ROW(AB$2008)-ROW()+1,ROW(AB390:AB$2008)-ROW()+1))))","v":0},0]
[null,null,null,null,null,null,null,null,null,null,null,null,null,null,null,null,null,null,null,null,null,null,null,null,null,null,null,{"$f":"HISTO!P390","v":0},{"$f":"IF(AC390=\"\",\"Zonard\",INDEX(AB391:AB$2008,MIN(IF(COUNTIF(AC$2:AC390,AB391:AB$2008),ROW(AB$2008)-ROW()+1,ROW(AB391:AB$2008)-ROW()+1))))","v":0},0]
[null,null,null,null,null,null,null,null,null,null,null,null,null,null,null,null,null,null,null,null,null,null,null,null,null,null,null,{"$f":"HISTO!P391","v":0},{"$f":"IF(AC391=\"\",\"Zonard\",INDEX(AB392:AB$2008,MIN(IF(COUNTIF(AC$2:AC391,AB392:AB$2008),ROW(AB$2008)-ROW()+1,ROW(AB392:AB$2008)-ROW()+1))))","v":0},0]
[null,null,null,null,null,null,null,null,null,null,null,null,null,null,null,null,null,null,null,null,null,null,null,null,null,null,null,{"$f":"HISTO!P392","v":0},{"$f":"IF(AC392=\"\",\"Zonard\",INDEX(AB393:AB$2008,MIN(IF(COUNTIF(AC$2:AC392,AB393:AB$2008),ROW(AB$2008)-ROW()+1,ROW(AB393:AB$2008)-ROW()+1))))","v":0},0]
[null,null,null,null,null,null,null,null,null,null,null,null,null,null,null,null,null,null,null,null,null,null,null,null,null,null,null,{"$f":"HISTO!P393","v":0},{"$f":"IF(AC393=\"\",\"Zonard\",INDEX(AB394:AB$2008,MIN(IF(COUNTIF(AC$2:AC393,AB394:AB$2008),ROW(AB$2008)-ROW()+1,ROW(AB394:AB$2008)-ROW()+1))))","v":0},0]
[null,null,null,null,null,null,null,null,null,null,null,null,null,null,null,null,null,null,null,null,null,null,null,null,null,null,null,{"$f":"HISTO!P394","v":0},{"$f":"IF(AC394=\"\",\"Zonard\",INDEX(AB395:AB$2008,MIN(IF(COUNTIF(AC$2:AC394,AB395:AB$2008),ROW(AB$2008)-ROW()+1,ROW(AB395:AB$2008)-ROW()+1))))","v":0},0]
[null,null,null,null,null,null,null,null,null,null,null,null,null,null,null,null,null,null,null,null,null,null,null,null,null,null,null,{"$f":"HISTO!P395","v":0},{"$f":"IF(AC395=\"\",\"Zonard\",INDEX(AB396:AB$2008,MIN(IF(COUNTIF(AC$2:AC395,AB396:AB$2008),ROW(AB$2008)-ROW()+1,ROW(AB396:AB$2008)-ROW()+1))))","v":0},0]
[null,null,null,null,null,null,null,null,null,null,null,null,null,null,null,null,null,null,null,null,null,null,null,null,null,null,null,{"$f":"HISTO!P396","v":0},{"$f":"IF(AC396=\"\",\"Zonard\",INDEX(AB397:AB$2008,MIN(IF(COUNTIF(AC$2:AC396,AB397:AB$2008),ROW(AB$2008)-ROW()+1,ROW(AB397:AB$2008)-ROW()+1))))","v":0},0]
[null,null,null,null,null,null,null,null,null,null,null,null,null,null,null,null,null,null,null,null,null,null,null,null,null,null,null,{"$f":"HISTO!P397","v":0},{"$f":"IF(AC397=\"\",\"Zonard\",INDEX(AB398:AB$2008,MIN(IF(COUNTIF(AC$2:AC397,AB398:AB$2008),ROW(AB$2008)-ROW()+1,ROW(AB398:AB$2008)-ROW()+1))))","v":0},0]
[null,null,null,null,null,null,null,null,null,null,null,null,null,null,null,null,null,null,null,null,null,null,null,null,null,null,null,{"$f":"HISTO!P398","v":0},{"$f":"IF(AC398=\"\",\"Zonard\",INDEX(AB399:AB$2008,MIN(IF(COUNTIF(AC$2:AC398,AB399:AB$2008),ROW(AB$2008)-ROW()+1,ROW(AB399:AB$2008)-ROW()+1))))","v":0},0]
[null,null,null,null,null,null,null,null,null,null,null,null,null,null,null,null,null,null,null,null,null,null,null,null,null,null,null,{"$f":"HISTO!P399","v":0},{"$f":"IF(AC399=\"\",\"Zonard\",INDEX(AB400:AB$2008,MIN(IF(COUNTIF(AC$2:AC399,AB400:AB$2008),ROW(AB$2008)-ROW()+1,ROW(AB400:AB$2008)-ROW()+1))))","v":0},0]
[null,null,null,null,null,null,null,null,null,null,null,null,null,null,null,null,null,null,null,null,null,null,null,null,null,null,null,{"$f":"HISTO!P400","v":0},{"$f":"IF(AC400=\"\",\"Zonard\",INDEX(AB401:AB$2008,MIN(IF(COUNTIF(AC$2:AC400,AB401:AB$2008),ROW(AB$2008)-ROW()+1,ROW(AB401:AB$2008)-ROW()+1))))","v":0},0]
[null,null,null,null,null,null,null,null,null,null,null,null,null,null,null,null,null,null,null,null,null,null,null,null,null,null,null,{"$f":"HISTO!P401","v":0},{"$f":"IF(AC401=\"\",\"Zonard\",INDEX(AB402:AB$2008,MIN(IF(COUNTIF(AC$2:AC401,AB402:AB$2008),ROW(AB$2008)-ROW()+1,ROW(AB402:AB$2008)-ROW()+1))))","v":0},0]
[null,null,null,null,null,null,null,null,null,null,null,null,null,null,null,null,null,null,null,null,null,null,null,null,null,null,null,{"$f":"HISTO!P402","v":0},{"$f":"IF(AC402=\"\",\"Zonard\",INDEX(AB403:AB$2008,MIN(IF(COUNTIF(AC$2:AC402,AB403:AB$2008),ROW(AB$2008)-ROW()+1,ROW(AB403:AB$2008)-ROW()+1))))","v":0},0]
[null,null,null,null,null,null,null,null,null,null,null,null,null,null,null,null,null,null,null,null,null,null,null,null,null,null,null,{"$f":"HISTO!P403","v":0},{"$f":"IF(AC403=\"\",\"Zonard\",INDEX(AB404:AB$2008,MIN(IF(COUNTIF(AC$2:AC403,AB404:AB$2008),ROW(AB$2008)-ROW()+1,ROW(AB404:AB$2008)-ROW()+1))))","v":0},0]
[null,null,null,null,null,null,null,null,null,null,null,null,null,null,null,null,null,null,null,null,null,null,null,null,null,null,null,{"$f":"HISTO!P404","v":0},{"$f":"IF(AC404=\"\",\"Zonard\",INDEX(AB405:AB$2008,MIN(IF(COUNTIF(AC$2:AC404,AB405:AB$2008),ROW(AB$2008)-ROW()+1,ROW(AB405:AB$2008)-ROW()+1))))","v":0},0]
[null,null,null,null,null,null,null,null,null,null,null,null,null,null,null,null,null,null,null,null,null,null,null,null,null,null,null,{"$f":"HISTO!P405","v":0},{"$f":"IF(AC405=\"\",\"Zonard\",INDEX(AB406:AB$2008,MIN(IF(COUNTIF(AC$2:AC405,AB406:AB$2008),ROW(AB$2008)-ROW()+1,ROW(AB406:AB$2008)-ROW()+1))))","v":0},0]
[null,null,null,null,null,null,null,null,null,null,null,null,null,null,null,null,null,null,null,null,null,null,null,null,null,null,null,{"$f":"HISTO!P406","v":0},{"$f":"IF(AC406=\"\",\"Zonard\",INDEX(AB407:AB$2008,MIN(IF(COUNTIF(AC$2:AC406,AB407:AB$2008),ROW(AB$2008)-ROW()+1,ROW(AB407:AB$2008)-ROW()+1))))","v":0},0]
[null,null,null,null,null,null,null,null,null,null,null,null,null,null,null,null,null,null,null,null,null,null,null,null,null,null,null,{"$f":"HISTO!P407","v":0},{"$f":"IF(AC407=\"\",\"Zonard\",INDEX(AB408:AB$2008,MIN(IF(COUNTIF(AC$2:AC407,AB408:AB$2008),ROW(AB$2008)-ROW()+1,ROW(AB408:AB$2008)-ROW()+1))))","v":0},0]
[null,null,null,null,null,null,null,null,null,null,null,null,null,null,null,null,null,null,null,null,null,null,null,null,null,null,null,{"$f":"HISTO!P408","v":0},{"$f":"IF(AC408=\"\",\"Zonard\",INDEX(AB409:AB$2008,MIN(IF(COUNTIF(AC$2:AC408,AB409:AB$2008),ROW(AB$2008)-ROW()+1,ROW(AB409:AB$2008)-ROW()+1))))","v":0},0]
[null,null,null,null,null,null,null,null,null,null,null,null,null,null,null,null,null,null,null,null,null,null,null,null,null,null,null,{"$f":"HISTO!P409","v":0},{"$f":"IF(AC409=\"\",\"Zonard\",INDEX(AB410:AB$2008,MIN(IF(COUNTIF(AC$2:AC409,AB410:AB$2008),ROW(AB$2008)-ROW()+1,ROW(AB410:AB$2008)-ROW()+1))))","v":0},0]
[null,null,null,null,null,null,null,null,null,null,null,null,null,null,null,null,null,null,null,null,null,null,null,null,null,null,null,{"$f":"HISTO!P410","v":0},{"$f":"IF(AC410=\"\",\"Zonard\",INDEX(AB411:AB$2008,MIN(IF(COUNTIF(AC$2:AC410,AB411:AB$2008),ROW(AB$2008)-ROW()+1,ROW(AB411:AB$2008)-ROW()+1))))","v":0},0]
[null,null,null,null,null,null,null,null,null,null,null,null,null,null,null,null,null,null,null,null,null,null,null,null,null,null,null,{"$f":"HISTO!P411","v":0},{"$f":"IF(AC411=\"\",\"Zonard\",INDEX(AB412:AB$2008,MIN(IF(COUNTIF(AC$2:AC411,AB412:AB$2008),ROW(AB$2008)-ROW()+1,ROW(AB412:AB$2008)-ROW()+1))))","v":0},0]
[null,null,null,null,null,null,null,null,null,null,null,null,null,null,null,null,null,null,null,null,null,null,null,null,null,null,null,{"$f":"HISTO!P412","v":0},{"$f":"IF(AC412=\"\",\"Zonard\",INDEX(AB413:AB$2008,MIN(IF(COUNTIF(AC$2:AC412,AB413:AB$2008),ROW(AB$2008)-ROW()+1,ROW(AB413:AB$2008)-ROW()+1))))","v":0},0]
[null,null,null,null,null,null,null,null,null,null,null,null,null,null,null,null,null,null,null,null,null,null,null,null,null,null,null,{"$f":"HISTO!P413","v":0},{"$f":"IF(AC413=\"\",\"Zonard\",INDEX(AB414:AB$2008,MIN(IF(COUNTIF(AC$2:AC413,AB414:AB$2008),ROW(AB$2008)-ROW()+1,ROW(AB414:AB$2008)-ROW()+1))))","v":0},0]
[null,null,null,null,null,null,null,null,null,null,null,null,null,null,null,null,null,null,null,null,null,null,null,null,null,null,null,{"$f":"HISTO!P414","v":0},{"$f":"IF(AC414=\"\",\"Zonard\",INDEX(AB415:AB$2008,MIN(IF(COUNTIF(AC$2:AC414,AB415:AB$2008),ROW(AB$2008)-ROW()+1,ROW(AB415:AB$2008)-ROW()+1))))","v":0},0]
[null,null,null,null,null,null,null,null,null,null,null,null,null,null,null,null,null,null,null,null,null,null,null,null,null,null,null,{"$f":"HISTO!P415","v":0},{"$f":"IF(AC415=\"\",\"Zonard\",INDEX(AB416:AB$2008,MIN(IF(COUNTIF(AC$2:AC415,AB416:AB$2008),ROW(AB$2008)-ROW()+1,ROW(AB416:AB$2008)-ROW()+1))))","v":0},0]
[null,null,null,null,null,null,null,null,null,null,null,null,null,null,null,null,null,null,null,null,null,null,null,null,null,null,null,{"$f":"HISTO!P416","v":0},{"$f":"IF(AC416=\"\",\"Zonard\",INDEX(AB417:AB$2008,MIN(IF(COUNTIF(AC$2:AC416,AB417:AB$2008),ROW(AB$2008)-ROW()+1,ROW(AB417:AB$2008)-ROW()+1))))","v":0},0]
[null,null,null,null,null,null,null,null,null,null,null,null,null,null,null,null,null,null,null,null,null,null,null,null,null,null,null,{"$f":"HISTO!P417","v":0},{"$f":"IF(AC417=\"\",\"Zonard\",INDEX(AB418:AB$2008,MIN(IF(COUNTIF(AC$2:AC417,AB418:AB$2008),ROW(AB$2008)-ROW()+1,ROW(AB418:AB$2008)-ROW()+1))))","v":0},0]
[null,null,null,null,null,null,null,null,null,null,null,null,null,null,null,null,null,null,null,null,null,null,null,null,null,null,null,{"$f":"HISTO!P418","v":0},{"$f":"IF(AC418=\"\",\"Zonard\",INDEX(AB419:AB$2008,MIN(IF(COUNTIF(AC$2:AC418,AB419:AB$2008),ROW(AB$2008)-ROW()+1,ROW(AB419:AB$2008)-ROW()+1))))","v":0},0]
[null,null,null,null,null,null,null,null,null,null,null,null,null,null,null,null,null,null,null,null,null,null,null,null,null,null,null,{"$f":"HISTO!P419","v":0},{"$f":"IF(AC419=\"\",\"Zonard\",INDEX(AB420:AB$2008,MIN(IF(COUNTIF(AC$2:AC419,AB420:AB$2008),ROW(AB$2008)-ROW()+1,ROW(AB420:AB$2008)-ROW()+1))))","v":0},0]
[null,null,null,null,null,null,null,null,null,null,null,null,null,null,null,null,null,null,null,null,null,null,null,null,null,null,null,{"$f":"HISTO!P420","v":0},{"$f":"IF(AC420=\"\",\"Zonard\",INDEX(AB421:AB$2008,MIN(IF(COUNTIF(AC$2:AC420,AB421:AB$2008),ROW(AB$2008)-ROW()+1,ROW(AB421:AB$2008)-ROW()+1))))","v":0},0]
[null,null,null,null,null,null,null,null,null,null,null,null,null,null,null,null,null,null,null,null,null,null,null,null,null,null,null,{"$f":"HISTO!P421","v":0},{"$f":"IF(AC421=\"\",\"Zonard\",INDEX(AB422:AB$2008,MIN(IF(COUNTIF(AC$2:AC421,AB422:AB$2008),ROW(AB$2008)-ROW()+1,ROW(AB422:AB$2008)-ROW()+1))))","v":0},0]
[null,null,null,null,null,null,null,null,null,null,null,null,null,null,null,null,null,null,null,null,null,null,null,null,null,null,null,{"$f":"HISTO!P422","v":0},{"$f":"IF(AC422=\"\",\"Zonard\",INDEX(AB423:AB$2008,MIN(IF(COUNTIF(AC$2:AC422,AB423:AB$2008),ROW(AB$2008)-ROW()+1,ROW(AB423:AB$2008)-ROW()+1))))","v":0},0]
[null,null,null,null,null,null,null,null,null,null,null,null,null,null,null,null,null,null,null,null,null,null,null,null,null,null,null,{"$f":"HISTO!P423","v":0},{"$f":"IF(AC423=\"\",\"Zonard\",INDEX(AB424:AB$2008,MIN(IF(COUNTIF(AC$2:AC423,AB424:AB$2008),ROW(AB$2008)-ROW()+1,ROW(AB424:AB$2008)-ROW()+1))))","v":0},0]
[null,null,null,null,null,null,null,null,null,null,null,null,null,null,null,null,null,null,null,null,null,null,null,null,null,null,null,{"$f":"HISTO!P424","v":0},{"$f":"IF(AC424=\"\",\"Zonard\",INDEX(AB425:AB$2008,MIN(IF(COUNTIF(AC$2:AC424,AB425:AB$2008),ROW(AB$2008)-ROW()+1,ROW(AB425:AB$2008)-ROW()+1))))","v":0},0]
[null,null,null,null,null,null,null,null,null,null,null,null,null,null,null,null,null,null,null,null,null,null,null,null,null,null,null,{"$f":"HISTO!P425","v":0},{"$f":"IF(AC425=\"\",\"Zonard\",INDEX(AB426:AB$2008,MIN(IF(COUNTIF(AC$2:AC425,AB426:AB$2008),ROW(AB$2008)-ROW()+1,ROW(AB426:AB$2008)-ROW()+1))))","v":0},0]
[null,null,null,null,null,null,null,null,null,null,null,null,null,null,null,null,null,null,null,null,null,null,null,null,null,null,null,{"$f":"HISTO!P426","v":0},{"$f":"IF(AC426=\"\",\"Zonard\",INDEX(AB427:AB$2008,MIN(IF(COUNTIF(AC$2:AC426,AB427:AB$2008),ROW(AB$2008)-ROW()+1,ROW(AB427:AB$2008)-ROW()+1))))","v":0},0]
[null,null,null,null,null,null,null,null,null,null,null,null,null,null,null,null,null,null,null,null,null,null,null,null,null,null,null,{"$f":"HISTO!P427","v":0},{"$f":"IF(AC427=\"\",\"Zonard\",INDEX(AB428:AB$2008,MIN(IF(COUNTIF(AC$2:AC427,AB428:AB$2008),ROW(AB$2008)-ROW()+1,ROW(AB428:AB$2008)-ROW()+1))))","v":0},0]
[null,null,null,null,null,null,null,null,null,null,null,null,null,null,null,null,null,null,null,null,null,null,null,null,null,null,null,{"$f":"HISTO!P428","v":0},{"$f":"IF(AC428=\"\",\"Zonard\",INDEX(AB429:AB$2008,MIN(IF(COUNTIF(AC$2:AC428,AB429:AB$2008),ROW(AB$2008)-ROW()+1,ROW(AB429:AB$2008)-ROW()+1))))","v":0},0]
[null,null,null,null,null,null,null,null,null,null,null,null,null,null,null,null,null,null,null,null,null,null,null,null,null,null,null,{"$f":"HISTO!P429","v":0},{"$f":"IF(AC429=\"\",\"Zonard\",INDEX(AB430:AB$2008,MIN(IF(COUNTIF(AC$2:AC429,AB430:AB$2008),ROW(AB$2008)-ROW()+1,ROW(AB430:AB$2008)-ROW()+1))))","v":0},0]
[null,null,null,null,null,null,null,null,null,null,null,null,null,null,null,null,null,null,null,null,null,null,null,null,null,null,null,{"$f":"HISTO!P430","v":0},{"$f":"IF(AC430=\"\",\"Zonard\",INDEX(AB431:AB$2008,MIN(IF(COUNTIF(AC$2:AC430,AB431:AB$2008),ROW(AB$2008)-ROW()+1,ROW(AB431:AB$2008)-ROW()+1))))","v":0},0]
[null,null,null,null,null,null,null,null,null,null,null,null,null,null,null,null,null,null,null,null,null,null,null,null,null,null,null,{"$f":"HISTO!P431","v":0},{"$f":"IF(AC431=\"\",\"Zonard\",INDEX(AB432:AB$2008,MIN(IF(COUNTIF(AC$2:AC431,AB432:AB$2008),ROW(AB$2008)-ROW()+1,ROW(AB432:AB$2008)-ROW()+1))))","v":0},0]
[null,null,null,null,null,null,null,null,null,null,null,null,null,null,null,null,null,null,null,null,null,null,null,null,null,null,null,{"$f":"HISTO!P432","v":0},{"$f":"IF(AC432=\"\",\"Zonard\",INDEX(AB433:AB$2008,MIN(IF(COUNTIF(AC$2:AC432,AB433:AB$2008),ROW(AB$2008)-ROW()+1,ROW(AB433:AB$2008)-ROW()+1))))","v":0},0]
[null,null,null,null,null,null,null,null,null,null,null,null,null,null,null,null,null,null,null,null,null,null,null,null,null,null,null,{"$f":"HISTO!P433","v":0},{"$f":"IF(AC433=\"\",\"Zonard\",INDEX(AB434:AB$2008,MIN(IF(COUNTIF(AC$2:AC433,AB434:AB$2008),ROW(AB$2008)-ROW()+1,ROW(AB434:AB$2008)-ROW()+1))))","v":0},0]
[null,null,null,null,null,null,null,null,null,null,null,null,null,null,null,null,null,null,null,null,null,null,null,null,null,null,null,{"$f":"HISTO!P434","v":0},{"$f":"IF(AC434=\"\",\"Zonard\",INDEX(AB435:AB$2008,MIN(IF(COUNTIF(AC$2:AC434,AB435:AB$2008),ROW(AB$2008)-ROW()+1,ROW(AB435:AB$2008)-ROW()+1))))","v":0},0]
[null,null,null,null,null,null,null,null,null,null,null,null,null,null,null,null,null,null,null,null,null,null,null,null,null,null,null,{"$f":"HISTO!P435","v":0},{"$f":"IF(AC435=\"\",\"Zonard\",INDEX(AB436:AB$2008,MIN(IF(COUNTIF(AC$2:AC435,AB436:AB$2008),ROW(AB$2008)-ROW()+1,ROW(AB436:AB$2008)-ROW()+1))))","v":0},0]
[null,null,null,null,null,null,null,null,null,null,null,null,null,null,null,null,null,null,null,null,null,null,null,null,null,null,null,{"$f":"HISTO!P436","v":0},{"$f":"IF(AC436=\"\",\"Zonard\",INDEX(AB437:AB$2008,MIN(IF(COUNTIF(AC$2:AC436,AB437:AB$2008),ROW(AB$2008)-ROW()+1,ROW(AB437:AB$2008)-ROW()+1))))","v":0},0]
[null,null,null,null,null,null,null,null,null,null,null,null,null,null,null,null,null,null,null,null,null,null,null,null,null,null,null,{"$f":"HISTO!P437","v":0},{"$f":"IF(AC437=\"\",\"Zonard\",INDEX(AB438:AB$2008,MIN(IF(COUNTIF(AC$2:AC437,AB438:AB$2008),ROW(AB$2008)-ROW()+1,ROW(AB438:AB$2008)-ROW()+1))))","v":0},0]
[null,null,null,null,null,null,null,null,null,null,null,null,null,null,null,null,null,null,null,null,null,null,null,null,null,null,null,{"$f":"HISTO!P438","v":0},{"$f":"IF(AC438=\"\",\"Zonard\",INDEX(AB439:AB$2008,MIN(IF(COUNTIF(AC$2:AC438,AB439:AB$2008),ROW(AB$2008)-ROW()+1,ROW(AB439:AB$2008)-ROW()+1))))","v":0},0]
[null,null,null,null,null,null,null,null,null,null,null,null,null,null,null,null,null,null,null,null,null,null,null,null,null,null,null,{"$f":"HISTO!P439","v":0},{"$f":"IF(AC439=\"\",\"Zonard\",INDEX(AB440:AB$2008,MIN(IF(COUNTIF(AC$2:AC439,AB440:AB$2008),ROW(AB$2008)-ROW()+1,ROW(AB440:AB$2008)-ROW()+1))))","v":0},0]
[null,null,null,null,null,null,null,null,null,null,null,null,null,null,null,null,null,null,null,null,null,null,null,null,null,null,null,{"$f":"HISTO!P440","v":0},{"$f":"IF(AC440=\"\",\"Zonard\",INDEX(AB441:AB$2008,MIN(IF(COUNTIF(AC$2:AC440,AB441:AB$2008),ROW(AB$2008)-ROW()+1,ROW(AB441:AB$2008)-ROW()+1))))","v":0},0]
[null,null,null,null,null,null,null,null,null,null,null,null,null,null,null,null,null,null,null,null,null,null,null,null,null,null,null,{"$f":"HISTO!P441","v":0},{"$f":"IF(AC441=\"\",\"Zonard\",INDEX(AB442:AB$2008,MIN(IF(COUNTIF(AC$2:AC441,AB442:AB$2008),ROW(AB$2008)-ROW()+1,ROW(AB442:AB$2008)-ROW()+1))))","v":0},0]
[null,null,null,null,null,null,null,null,null,null,null,null,null,null,null,null,null,null,null,null,null,null,null,null,null,null,null,{"$f":"HISTO!P442","v":0},{"$f":"IF(AC442=\"\",\"Zonard\",INDEX(AB443:AB$2008,MIN(IF(COUNTIF(AC$2:AC442,AB443:AB$2008),ROW(AB$2008)-ROW()+1,ROW(AB443:AB$2008)-ROW()+1))))","v":0},0]
[null,null,null,null,null,null,null,null,null,null,null,null,null,null,null,null,null,null,null,null,null,null,null,null,null,null,null,{"$f":"HISTO!P443","v":0},{"$f":"IF(AC443=\"\",\"Zonard\",INDEX(AB444:AB$2008,MIN(IF(COUNTIF(AC$2:AC443,AB444:AB$2008),ROW(AB$2008)-ROW()+1,ROW(AB444:AB$2008)-ROW()+1))))","v":0},0]
[null,null,null,null,null,null,null,null,null,null,null,null,null,null,null,null,null,null,null,null,null,null,null,null,null,null,null,{"$f":"HISTO!P444","v":0},{"$f":"IF(AC444=\"\",\"Zonard\",INDEX(AB445:AB$2008,MIN(IF(COUNTIF(AC$2:AC444,AB445:AB$2008),ROW(AB$2008)-ROW()+1,ROW(AB445:AB$2008)-ROW()+1))))","v":0},0]
[null,null,null,null,null,null,null,null,null,null,null,null,null,null,null,null,null,null,null,null,null,null,null,null,null,null,null,{"$f":"HISTO!P445","v":0},{"$f":"IF(AC445=\"\",\"Zonard\",INDEX(AB446:AB$2008,MIN(IF(COUNTIF(AC$2:AC445,AB446:AB$2008),ROW(AB$2008)-ROW()+1,ROW(AB446:AB$2008)-ROW()+1))))","v":0},0]
[null,null,null,null,null,null,null,null,null,null,null,null,null,null,null,null,null,null,null,null,null,null,null,null,null,null,null,{"$f":"HISTO!P446","v":0},{"$f":"IF(AC446=\"\",\"Zonard\",INDEX(AB447:AB$2008,MIN(IF(COUNTIF(AC$2:AC446,AB447:AB$2008),ROW(AB$2008)-ROW()+1,ROW(AB447:AB$2008)-ROW()+1))))","v":0},0]
[null,null,null,null,null,null,null,null,null,null,null,null,null,null,null,null,null,null,null,null,null,null,null,null,null,null,null,{"$f":"HISTO!P447","v":0},{"$f":"IF(AC447=\"\",\"Zonard\",INDEX(AB448:AB$2008,MIN(IF(COUNTIF(AC$2:AC447,AB448:AB$2008),ROW(AB$2008)-ROW()+1,ROW(AB448:AB$2008)-ROW()+1))))","v":0},0]
[null,null,null,null,null,null,null,null,null,null,null,null,null,null,null,null,null,null,null,null,null,null,null,null,null,null,null,{"$f":"HISTO!P448","v":0},{"$f":"IF(AC448=\"\",\"Zonard\",INDEX(AB449:AB$2008,MIN(IF(COUNTIF(AC$2:AC448,AB449:AB$2008),ROW(AB$2008)-ROW()+1,ROW(AB449:AB$2008)-ROW()+1))))","v":0},0]
[null,null,null,null,null,null,null,null,null,null,null,null,null,null,null,null,null,null,null,null,null,null,null,null,null,null,null,{"$f":"HISTO!P449","v":0},{"$f":"IF(AC449=\"\",\"Zonard\",INDEX(AB450:AB$2008,MIN(IF(COUNTIF(AC$2:AC449,AB450:AB$2008),ROW(AB$2008)-ROW()+1,ROW(AB450:AB$2008)-ROW()+1))))","v":0},0]
[null,null,null,null,null,null,null,null,null,null,null,null,null,null,null,null,null,null,null,null,null,null,null,null,null,null,null,{"$f":"HISTO!P450","v":0},{"$f":"IF(AC450=\"\",\"Zonard\",INDEX(AB451:AB$2008,MIN(IF(COUNTIF(AC$2:AC450,AB451:AB$2008),ROW(AB$2008)-ROW()+1,ROW(AB451:AB$2008)-ROW()+1))))","v":0},0]
[null,null,null,null,null,null,null,null,null,null,null,null,null,null,null,null,null,null,null,null,null,null,null,null,null,null,null,{"$f":"HISTO!P451","v":0},{"$f":"IF(AC451=\"\",\"Zonard\",INDEX(AB452:AB$2008,MIN(IF(COUNTIF(AC$2:AC451,AB452:AB$2008),ROW(AB$2008)-ROW()+1,ROW(AB452:AB$2008)-ROW()+1))))","v":0},0]
[null,null,null,null,null,null,null,null,null,null,null,null,null,null,null,null,null,null,null,null,null,null,null,null,null,null,null,{"$f":"HISTO!P452","v":0},{"$f":"IF(AC452=\"\",\"Zonard\",INDEX(AB453:AB$2008,MIN(IF(COUNTIF(AC$2:AC452,AB453:AB$2008),ROW(AB$2008)-ROW()+1,ROW(AB453:AB$2008)-ROW()+1))))","v":0},0]
[null,null,null,null,null,null,null,null,null,null,null,null,null,null,null,null,null,null,null,null,null,null,null,null,null,null,null,{"$f":"HISTO!P453","v":0},{"$f":"IF(AC453=\"\",\"Zonard\",INDEX(AB454:AB$2008,MIN(IF(COUNTIF(AC$2:AC453,AB454:AB$2008),ROW(AB$2008)-ROW()+1,ROW(AB454:AB$2008)-ROW()+1))))","v":0},0]
[null,null,null,null,null,null,null,null,null,null,null,null,null,null,null,null,null,null,null,null,null,null,null,null,null,null,null,{"$f":"HISTO!P454","v":0},{"$f":"IF(AC454=\"\",\"Zonard\",INDEX(AB455:AB$2008,MIN(IF(COUNTIF(AC$2:AC454,AB455:AB$2008),ROW(AB$2008)-ROW()+1,ROW(AB455:AB$2008)-ROW()+1))))","v":0},0]
[null,null,null,null,null,null,null,null,null,null,null,null,null,null,null,null,null,null,null,null,null,null,null,null,null,null,null,{"$f":"HISTO!P455","v":0},{"$f":"IF(AC455=\"\",\"Zonard\",INDEX(AB456:AB$2008,MIN(IF(COUNTIF(AC$2:AC455,AB456:AB$2008),ROW(AB$2008)-ROW()+1,ROW(AB456:AB$2008)-ROW()+1))))","v":0},0]
[null,null,null,null,null,null,null,null,null,null,null,null,null,null,null,null,null,null,null,null,null,null,null,null,null,null,null,{"$f":"HISTO!P456","v":0},{"$f":"IF(AC456=\"\",\"Zonard\",INDEX(AB457:AB$2008,MIN(IF(COUNTIF(AC$2:AC456,AB457:AB$2008),ROW(AB$2008)-ROW()+1,ROW(AB457:AB$2008)-ROW()+1))))","v":0},0]
[null,null,null,null,null,null,null,null,null,null,null,null,null,null,null,null,null,null,null,null,null,null,null,null,null,null,null,{"$f":"HISTO!P457","v":0},{"$f":"IF(AC457=\"\",\"Zonard\",INDEX(AB458:AB$2008,MIN(IF(COUNTIF(AC$2:AC457,AB458:AB$2008),ROW(AB$2008)-ROW()+1,ROW(AB458:AB$2008)-ROW()+1))))","v":0},0]
[null,null,null,null,null,null,null,null,null,null,null,null,null,null,null,null,null,null,null,null,null,null,null,null,null,null,null,{"$f":"HISTO!P458","v":0},{"$f":"IF(AC458=\"\",\"Zonard\",INDEX(AB459:AB$2008,MIN(IF(COUNTIF(AC$2:AC458,AB459:AB$2008),ROW(AB$2008)-ROW()+1,ROW(AB459:AB$2008)-ROW()+1))))","v":0},0]
[null,null,null,null,null,null,null,null,null,null,null,null,null,null,null,null,null,null,null,null,null,null,null,null,null,null,null,{"$f":"HISTO!P459","v":0},{"$f":"IF(AC459=\"\",\"Zonard\",INDEX(AB460:AB$2008,MIN(IF(COUNTIF(AC$2:AC459,AB460:AB$2008),ROW(AB$2008)-ROW()+1,ROW(AB460:AB$2008)-ROW()+1))))","v":0},0]
[null,null,null,null,null,null,null,null,null,null,null,null,null,null,null,null,null,null,null,null,null,null,null,null,null,null,null,{"$f":"HISTO!P460","v":0},{"$f":"IF(AC460=\"\",\"Zonard\",INDEX(AB461:AB$2008,MIN(IF(COUNTIF(AC$2:AC460,AB461:AB$2008),ROW(AB$2008)-ROW()+1,ROW(AB461:AB$2008)-ROW()+1))))","v":0},0]
[null,null,null,null,null,null,null,null,null,null,null,null,null,null,null,null,null,null,null,null,null,null,null,null,null,null,null,{"$f":"HISTO!P461","v":0},{"$f":"IF(AC461=\"\",\"Zonard\",INDEX(AB462:AB$2008,MIN(IF(COUNTIF(AC$2:AC461,AB462:AB$2008),ROW(AB$2008)-ROW()+1,ROW(AB462:AB$2008)-ROW()+1))))","v":0},0]
[null,null,null,null,null,null,null,null,null,null,null,null,null,null,null,null,null,null,null,null,null,null,null,null,null,null,null,{"$f":"HISTO!P462","v":0},{"$f":"IF(AC462=\"\",\"Zonard\",INDEX(AB463:AB$2008,MIN(IF(COUNTIF(AC$2:AC462,AB463:AB$2008),ROW(AB$2008)-ROW()+1,ROW(AB463:AB$2008)-ROW()+1))))","v":0},0]
[null,null,null,null,null,null,null,null,null,null,null,null,null,null,null,null,null,null,null,null,null,null,null,null,null,null,null,{"$f":"HISTO!P463","v":0},{"$f":"IF(AC463=\"\",\"Zonard\",INDEX(AB464:AB$2008,MIN(IF(COUNTIF(AC$2:AC463,AB464:AB$2008),ROW(AB$2008)-ROW()+1,ROW(AB464:AB$2008)-ROW()+1))))","v":0},0]
[null,null,null,null,null,null,null,null,null,null,null,null,null,null,null,null,null,null,null,null,null,null,null,null,null,null,null,{"$f":"HISTO!P464","v":0},{"$f":"IF(AC464=\"\",\"Zonard\",INDEX(AB465:AB$2008,MIN(IF(COUNTIF(AC$2:AC464,AB465:AB$2008),ROW(AB$2008)-ROW()+1,ROW(AB465:AB$2008)-ROW()+1))))","v":0},0]
[null,null,null,null,null,null,null,null,null,null,null,null,null,null,null,null,null,null,null,null,null,null,null,null,null,null,null,{"$f":"HISTO!P465","v":0},{"$f":"IF(AC465=\"\",\"Zonard\",INDEX(AB466:AB$2008,MIN(IF(COUNTIF(AC$2:AC465,AB466:AB$2008),ROW(AB$2008)-ROW()+1,ROW(AB466:AB$2008)-ROW()+1))))","v":0},0]
[null,null,null,null,null,null,null,null,null,null,null,null,null,null,null,null,null,null,null,null,null,null,null,null,null,null,null,{"$f":"HISTO!P466","v":0},{"$f":"IF(AC466=\"\",\"Zonard\",INDEX(AB467:AB$2008,MIN(IF(COUNTIF(AC$2:AC466,AB467:AB$2008),ROW(AB$2008)-ROW()+1,ROW(AB467:AB$2008)-ROW()+1))))","v":0},0]
[null,null,null,null,null,null,null,null,null,null,null,null,null,null,null,null,null,null,null,null,null,null,null,null,null,null,null,{"$f":"HISTO!P467","v":0},{"$f":"IF(AC467=\"\",\"Zonard\",INDEX(AB468:AB$2008,MIN(IF(COUNTIF(AC$2:AC467,AB468:AB$2008),ROW(AB$2008)-ROW()+1,ROW(AB468:AB$2008)-ROW()+1))))","v":0},0]
[null,null,null,null,null,null,null,null,null,null,null,null,null,null,null,null,null,null,null,null,null,null,null,null,null,null,null,{"$f":"HISTO!P468","v":0},{"$f":"IF(AC468=\"\",\"Zonard\",INDEX(AB469:AB$2008,MIN(IF(COUNTIF(AC$2:AC468,AB469:AB$2008),ROW(AB$2008)-ROW()+1,ROW(AB469:AB$2008)-ROW()+1))))","v":0},0]
[null,null,null,null,null,null,null,null,null,null,null,null,null,null,null,null,null,null,null,null,null,null,null,null,null,null,null,{"$f":"HISTO!P469","v":0},{"$f":"IF(AC469=\"\",\"Zonard\",INDEX(AB470:AB$2008,MIN(IF(COUNTIF(AC$2:AC469,AB470:AB$2008),ROW(AB$2008)-ROW()+1,ROW(AB470:AB$2008)-ROW()+1))))","v":0},0]
[null,null,null,null,null,null,null,null,null,null,null,null,null,null,null,null,null,null,null,null,null,null,null,null,null,null,null,{"$f":"HISTO!P470","v":0},{"$f":"IF(AC470=\"\",\"Zonard\",INDEX(AB471:AB$2008,MIN(IF(COUNTIF(AC$2:AC470,AB471:AB$2008),ROW(AB$2008)-ROW()+1,ROW(AB471:AB$2008)-ROW()+1))))","v":0},0]
[null,null,null,null,null,null,null,null,null,null,null,null,null,null,null,null,null,null,null,null,null,null,null,null,null,null,null,{"$f":"HISTO!P471","v":0},{"$f":"IF(AC471=\"\",\"Zonard\",INDEX(AB472:AB$2008,MIN(IF(COUNTIF(AC$2:AC471,AB472:AB$2008),ROW(AB$2008)-ROW()+1,ROW(AB472:AB$2008)-ROW()+1))))","v":0},0]
[null,null,null,null,null,null,null,null,null,null,null,null,null,null,null,null,null,null,null,null,null,null,null,null,null,null,null,{"$f":"HISTO!P472","v":0},{"$f":"IF(AC472=\"\",\"Zonard\",INDEX(AB473:AB$2008,MIN(IF(COUNTIF(AC$2:AC472,AB473:AB$2008),ROW(AB$2008)-ROW()+1,ROW(AB473:AB$2008)-ROW()+1))))","v":0},0]
[null,null,null,null,null,null,null,null,null,null,null,null,null,null,null,null,null,null,null,null,null,null,null,null,null,null,null,{"$f":"HISTO!P473","v":0},{"$f":"IF(AC473=\"\",\"Zonard\",INDEX(AB474:AB$2008,MIN(IF(COUNTIF(AC$2:AC473,AB474:AB$2008),ROW(AB$2008)-ROW()+1,ROW(AB474:AB$2008)-ROW()+1))))","v":0},0]
[null,null,null,null,null,null,null,null,null,null,null,null,null,null,null,null,null,null,null,null,null,null,null,null,null,null,null,{"$f":"HISTO!P474","v":0},{"$f":"IF(AC474=\"\",\"Zonard\",INDEX(AB475:AB$2008,MIN(IF(COUNTIF(AC$2:AC474,AB475:AB$2008),ROW(AB$2008)-ROW()+1,ROW(AB475:AB$2008)-ROW()+1))))","v":0},0]
[null,null,null,null,null,null,null,null,null,null,null,null,null,null,null,null,null,null,null,null,null,null,null,null,null,null,null,{"$f":"HISTO!P475","v":0},{"$f":"IF(AC475=\"\",\"Zonard\",INDEX(AB476:AB$2008,MIN(IF(COUNTIF(AC$2:AC475,AB476:AB$2008),ROW(AB$2008)-ROW()+1,ROW(AB476:AB$2008)-ROW()+1))))","v":0},0]
[null,null,null,null,null,null,null,null,null,null,null,null,null,null,null,null,null,null,null,null,null,null,null,null,null,null,null,{"$f":"HISTO!P476","v":0},{"$f":"IF(AC476=\"\",\"Zonard\",INDEX(AB477:AB$2008,MIN(IF(COUNTIF(AC$2:AC476,AB477:AB$2008),ROW(AB$2008)-ROW()+1,ROW(AB477:AB$2008)-ROW()+1))))","v":0},0]
[null,null,null,null,null,null,null,null,null,null,null,null,null,null,null,null,null,null,null,null,null,null,null,null,null,null,null,{"$f":"HISTO!P477","v":0},{"$f":"IF(AC477=\"\",\"Zonard\",INDEX(AB478:AB$2008,MIN(IF(COUNTIF(AC$2:AC477,AB478:AB$2008),ROW(AB$2008)-ROW()+1,ROW(AB478:AB$2008)-ROW()+1))))","v":0},0]
[null,null,null,null,null,null,null,null,null,null,null,null,null,null,null,null,null,null,null,null,null,null,null,null,null,null,null,{"$f":"HISTO!P478","v":0},{"$f":"IF(AC478=\"\",\"Zonard\",INDEX(AB479:AB$2008,MIN(IF(COUNTIF(AC$2:AC478,AB479:AB$2008),ROW(AB$2008)-ROW()+1,ROW(AB479:AB$2008)-ROW()+1))))","v":0},0]
[null,null,null,null,null,null,null,null,null,null,null,null,null,null,null,null,null,null,null,null,null,null,null,null,null,null,null,{"$f":"HISTO!P479","v":0},{"$f":"IF(AC479=\"\",\"Zonard\",INDEX(AB480:AB$2008,MIN(IF(COUNTIF(AC$2:AC479,AB480:AB$2008),ROW(AB$2008)-ROW()+1,ROW(AB480:AB$2008)-ROW()+1))))","v":0},0]
[null,null,null,null,null,null,null,null,null,null,null,null,null,null,null,null,null,null,null,null,null,null,null,null,null,null,null,{"$f":"HISTO!P480","v":0},{"$f":"IF(AC480=\"\",\"Zonard\",INDEX(AB481:AB$2008,MIN(IF(COUNTIF(AC$2:AC480,AB481:AB$2008),ROW(AB$2008)-ROW()+1,ROW(AB481:AB$2008)-ROW()+1))))","v":0},0]
[null,null,null,null,null,null,null,null,null,null,null,null,null,null,null,null,null,null,null,null,null,null,null,null,null,null,null,{"$f":"HISTO!P481","v":0},{"$f":"IF(AC481=\"\",\"Zonard\",INDEX(AB482:AB$2008,MIN(IF(COUNTIF(AC$2:AC481,AB482:AB$2008),ROW(AB$2008)-ROW()+1,ROW(AB482:AB$2008)-ROW()+1))))","v":0},0]
[null,null,null,null,null,null,null,null,null,null,null,null,null,null,null,null,null,null,null,null,null,null,null,null,null,null,null,{"$f":"HISTO!P482","v":0},{"$f":"IF(AC482=\"\",\"Zonard\",INDEX(AB483:AB$2008,MIN(IF(COUNTIF(AC$2:AC482,AB483:AB$2008),ROW(AB$2008)-ROW()+1,ROW(AB483:AB$2008)-ROW()+1))))","v":0},0]
[null,null,null,null,null,null,null,null,null,null,null,null,null,null,null,null,null,null,null,null,null,null,null,null,null,null,null,{"$f":"HISTO!P483","v":0},{"$f":"IF(AC483=\"\",\"Zonard\",INDEX(AB484:AB$2008,MIN(IF(COUNTIF(AC$2:AC483,AB484:AB$2008),ROW(AB$2008)-ROW()+1,ROW(AB484:AB$2008)-ROW()+1))))","v":0},0]
[null,null,null,null,null,null,null,null,null,null,null,null,null,null,null,null,null,null,null,null,null,null,null,null,null,null,null,{"$f":"HISTO!P484","v":0},{"$f":"IF(AC484=\"\",\"Zonard\",INDEX(AB485:AB$2008,MIN(IF(COUNTIF(AC$2:AC484,AB485:AB$2008),ROW(AB$2008)-ROW()+1,ROW(AB485:AB$2008)-ROW()+1))))","v":0},0]
[null,null,null,null,null,null,null,null,null,null,null,null,null,null,null,null,null,null,null,null,null,null,null,null,null,null,null,{"$f":"HISTO!P485","v":0},{"$f":"IF(AC485=\"\",\"Zonard\",INDEX(AB486:AB$2008,MIN(IF(COUNTIF(AC$2:AC485,AB486:AB$2008),ROW(AB$2008)-ROW()+1,ROW(AB486:AB$2008)-ROW()+1))))","v":0},0]
[null,null,null,null,null,null,null,null,null,null,null,null,null,null,null,null,null,null,null,null,null,null,null,null,null,null,null,{"$f":"HISTO!P486","v":0},{"$f":"IF(AC486=\"\",\"Zonard\",INDEX(AB487:AB$2008,MIN(IF(COUNTIF(AC$2:AC486,AB487:AB$2008),ROW(AB$2008)-ROW()+1,ROW(AB487:AB$2008)-ROW()+1))))","v":0},0]
[null,null,null,null,null,null,null,null,null,null,null,null,null,null,null,null,null,null,null,null,null,null,null,null,null,null,null,{"$f":"HISTO!P487","v":0},{"$f":"IF(AC487=\"\",\"Zonard\",INDEX(AB488:AB$2008,MIN(IF(COUNTIF(AC$2:AC487,AB488:AB$2008),ROW(AB$2008)-ROW()+1,ROW(AB488:AB$2008)-ROW()+1))))","v":0},0]
[null,null,null,null,null,null,null,null,null,null,null,null,null,null,null,null,null,null,null,null,null,null,null,null,null,null,null,{"$f":"HISTO!P488","v":0},{"$f":"IF(AC488=\"\",\"Zonard\",INDEX(AB489:AB$2008,MIN(IF(COUNTIF(AC$2:AC488,AB489:AB$2008),ROW(AB$2008)-ROW()+1,ROW(AB489:AB$2008)-ROW()+1))))","v":0},0]
[null,null,null,null,null,null,null,null,null,null,null,null,null,null,null,null,null,null,null,null,null,null,null,null,null,null,null,{"$f":"HISTO!P489","v":0},{"$f":"IF(AC489=\"\",\"Zonard\",INDEX(AB490:AB$2008,MIN(IF(COUNTIF(AC$2:AC489,AB490:AB$2008),ROW(AB$2008)-ROW()+1,ROW(AB490:AB$2008)-ROW()+1))))","v":0},0]
[null,null,null,null,null,null,null,null,null,null,null,null,null,null,null,null,null,null,null,null,null,null,null,null,null,null,null,{"$f":"HISTO!P490","v":0},{"$f":"IF(AC490=\"\",\"Zonard\",INDEX(AB491:AB$2008,MIN(IF(COUNTIF(AC$2:AC490,AB491:AB$2008),ROW(AB$2008)-ROW()+1,ROW(AB491:AB$2008)-ROW()+1))))","v":0},0]
[null,null,null,null,null,null,null,null,null,null,null,null,null,null,null,null,null,null,null,null,null,null,null,null,null,null,null,{"$f":"HISTO!P491","v":0},{"$f":"IF(AC491=\"\",\"Zonard\",INDEX(AB492:AB$2008,MIN(IF(COUNTIF(AC$2:AC491,AB492:AB$2008),ROW(AB$2008)-ROW()+1,ROW(AB492:AB$2008)-ROW()+1))))","v":0},0]
[null,null,null,null,null,null,null,null,null,null,null,null,null,null,null,null,null,null,null,null,null,null,null,null,null,null,null,{"$f":"HISTO!P492","v":0},{"$f":"IF(AC492=\"\",\"Zonard\",INDEX(AB493:AB$2008,MIN(IF(COUNTIF(AC$2:AC492,AB493:AB$2008),ROW(AB$2008)-ROW()+1,ROW(AB493:AB$2008)-ROW()+1))))","v":0},0]
[null,null,null,null,null,null,null,null,null,null,null,null,null,null,null,null,null,null,null,null,null,null,null,null,null,null,null,{"$f":"HISTO!P493","v":0},{"$f":"IF(AC493=\"\",\"Zonard\",INDEX(AB494:AB$2008,MIN(IF(COUNTIF(AC$2:AC493,AB494:AB$2008),ROW(AB$2008)-ROW()+1,ROW(AB494:AB$2008)-ROW()+1))))","v":0},0]
[null,null,null,null,null,null,null,null,null,null,null,null,null,null,null,null,null,null,null,null,null,null,null,null,null,null,null,{"$f":"HISTO!P494","v":0},{"$f":"IF(AC494=\"\",\"Zonard\",INDEX(AB495:AB$2008,MIN(IF(COUNTIF(AC$2:AC494,AB495:AB$2008),ROW(AB$2008)-ROW()+1,ROW(AB495:AB$2008)-ROW()+1))))","v":0},0]
[null,null,null,null,null,null,null,null,null,null,null,null,null,null,null,null,null,null,null,null,null,null,null,null,null,null,null,{"$f":"HISTO!P495","v":0},{"$f":"IF(AC495=\"\",\"Zonard\",INDEX(AB496:AB$2008,MIN(IF(COUNTIF(AC$2:AC495,AB496:AB$2008),ROW(AB$2008)-ROW()+1,ROW(AB496:AB$2008)-ROW()+1))))","v":0},0]
[null,null,null,null,null,null,null,null,null,null,null,null,null,null,null,null,null,null,null,null,null,null,null,null,null,null,null,{"$f":"HISTO!P496","v":0},{"$f":"IF(AC496=\"\",\"Zonard\",INDEX(AB497:AB$2008,MIN(IF(COUNTIF(AC$2:AC496,AB497:AB$2008),ROW(AB$2008)-ROW()+1,ROW(AB497:AB$2008)-ROW()+1))))","v":0},0]
[null,null,null,null,null,null,null,null,null,null,null,null,null,null,null,null,null,null,null,null,null,null,null,null,null,null,null,{"$f":"HISTO!P497","v":0},{"$f":"IF(AC497=\"\",\"Zonard\",INDEX(AB498:AB$2008,MIN(IF(COUNTIF(AC$2:AC497,AB498:AB$2008),ROW(AB$2008)-ROW()+1,ROW(AB498:AB$2008)-ROW()+1))))","v":0},0]
[null,null,null,null,null,null,null,null,null,null,null,null,null,null,null,null,null,null,null,null,null,null,null,null,null,null,null,{"$f":"HISTO!P498","v":0},{"$f":"IF(AC498=\"\",\"Zonard\",INDEX(AB499:AB$2008,MIN(IF(COUNTIF(AC$2:AC498,AB499:AB$2008),ROW(AB$2008)-ROW()+1,ROW(AB499:AB$2008)-ROW()+1))))","v":0},0]
[null,null,null,null,null,null,null,null,null,null,null,null,null,null,null,null,null,null,null,null,null,null,null,null,null,null,null,{"$f":"HISTO!P499","v":0},{"$f":"IF(AC499=\"\",\"Zonard\",INDEX(AB500:AB$2008,MIN(IF(COUNTIF(AC$2:AC499,AB500:AB$2008),ROW(AB$2008)-ROW()+1,ROW(AB500:AB$2008)-ROW()+1))))","v":0},0]
[null,null,null,null,null,null,null,null,null,null,null,null,null,null,null,null,null,null,null,null,null,null,null,null,null,null,null,{"$f":"HISTO!P500","v":0},{"$f":"IF(AC500=\"\",\"Zonard\",INDEX(AB501:AB$2008,MIN(IF(COUNTIF(AC$2:AC500,AB501:AB$2008),ROW(AB$2008)-ROW()+1,ROW(AB501:AB$2008)-ROW()+1))))","v":0},0]
[null,null,null,null,null,null,null,null,null,null,null,null,null,null,null,null,null,null,null,null,null,null,null,null,null,null,null,{"$f":"HISTO!P501","v":0},{"$f":"IF(AC501=\"\",\"Zonard\",INDEX(AB502:AB$2008,MIN(IF(COUNTIF(AC$2:AC501,AB502:AB$2008),ROW(AB$2008)-ROW()+1,ROW(AB502:AB$2008)-ROW()+1))))","v":0},0]
[null,null,null,null,null,null,null,null,null,null,null,null,null,null,null,null,null,null,null,null,null,null,null,null,null,null,null,{"$f":"HISTO!P502","v":0},{"$f":"IF(AC502=\"\",\"Zonard\",INDEX(AB503:AB$2008,MIN(IF(COUNTIF(AC$2:AC502,AB503:AB$2008),ROW(AB$2008)-ROW()+1,ROW(AB503:AB$2008)-ROW()+1))))","v":0},0]
[null,null,null,null,null,null,null,null,null,null,null,null,null,null,null,null,null,null,null,null,null,null,null,null,null,null,null,{"$f":"HISTO!P503","v":0},{"$f":"IF(AC503=\"\",\"Zonard\",INDEX(AB504:AB$2008,MIN(IF(COUNTIF(AC$2:AC503,AB504:AB$2008),ROW(AB$2008)-ROW()+1,ROW(AB504:AB$2008)-ROW()+1))))","v":0},0]
[null,null,null,null,null,null,null,null,null,null,null,null,null,null,null,null,null,null,null,null,null,null,null,null,null,null,null,{"$f":"HISTO!P504","v":0},{"$f":"IF(AC504=\"\",\"Zonard\",INDEX(AB505:AB$2008,MIN(IF(COUNTIF(AC$2:AC504,AB505:AB$2008),ROW(AB$2008)-ROW()+1,ROW(AB505:AB$2008)-ROW()+1))))","v":0},0]
[null,null,null,null,null,null,null,null,null,null,null,null,null,null,null,null,null,null,null,null,null,null,null,null,null,null,null,{"$f":"HISTO!P505","v":0},{"$f":"IF(AC505=\"\",\"Zonard\",INDEX(AB506:AB$2008,MIN(IF(COUNTIF(AC$2:AC505,AB506:AB$2008),ROW(AB$2008)-ROW()+1,ROW(AB506:AB$2008)-ROW()+1))))","v":0},0]
[null,null,null,null,null,null,null,null,null,null,null,null,null,null,null,null,null,null,null,null,null,null,null,null,null,null,null,{"$f":"HISTO!P506","v":0},{"$f":"IF(AC506=\"\",\"Zonard\",INDEX(AB507:AB$2008,MIN(IF(COUNTIF(AC$2:AC506,AB507:AB$2008),ROW(AB$2008)-ROW()+1,ROW(AB507:AB$2008)-ROW()+1))))","v":0},0]
[null,null,null,null,null,null,null,null,null,null,null,null,null,null,null,null,null,null,null,null,null,null,null,null,null,null,null,{"$f":"HISTO!P507","v":0},{"$f":"IF(AC507=\"\",\"Zonard\",INDEX(AB508:AB$2008,MIN(IF(COUNTIF(AC$2:AC507,AB508:AB$2008),ROW(AB$2008)-ROW()+1,ROW(AB508:AB$2008)-ROW()+1))))","v":0},0]
[null,null,null,null,null,null,null,null,null,null,null,null,null,null,null,null,null,null,null,null,null,null,null,null,null,null,null,{"$f":"HISTO!P508","v":0},{"$f":"IF(AC508=\"\",\"Zonard\",INDEX(AB509:AB$2008,MIN(IF(COUNTIF(AC$2:AC508,AB509:AB$2008),ROW(AB$2008)-ROW()+1,ROW(AB509:AB$2008)-ROW()+1))))","v":0},0]
[null,null,null,null,null,null,null,null,null,null,null,null,null,null,null,null,null,null,null,null,null,null,null,null,null,null,null,{"$f":"HISTO!P509","v":0},{"$f":"IF(AC509=\"\",\"Zonard\",INDEX(AB510:AB$2008,MIN(IF(COUNTIF(AC$2:AC509,AB510:AB$2008),ROW(AB$2008)-ROW()+1,ROW(AB510:AB$2008)-ROW()+1))))","v":0},0]
[null,null,null,null,null,null,null,null,null,null,null,null,null,null,null,null,null,null,null,null,null,null,null,null,null,null,null,{"$f":"HISTO!P510","v":0},{"$f":"IF(AC510=\"\",\"Zonard\",INDEX(AB511:AB$2008,MIN(IF(COUNTIF(AC$2:AC510,AB511:AB$2008),ROW(AB$2008)-ROW()+1,ROW(AB511:AB$2008)-ROW()+1))))","v":0},0]
[null,null,null,null,null,null,null,null,null,null,null,null,null,null,null,null,null,null,null,null,null,null,null,null,null,null,null,{"$f":"HISTO!P511","v":0},{"$f":"IF(AC511=\"\",\"Zonard\",INDEX(AB512:AB$2008,MIN(IF(COUNTIF(AC$2:AC511,AB512:AB$2008),ROW(AB$2008)-ROW()+1,ROW(AB512:AB$2008)-ROW()+1))))","v":0},0]
[null,null,null,null,null,null,null,null,null,null,null,null,null,null,null,null,null,null,null,null,null,null,null,null,null,null,null,{"$f":"HISTO!P512","v":0},{"$f":"IF(AC512=\"\",\"Zonard\",INDEX(AB513:AB$2008,MIN(IF(COUNTIF(AC$2:AC512,AB513:AB$2008),ROW(AB$2008)-ROW()+1,ROW(AB513:AB$2008)-ROW()+1))))","v":0},0]
[null,null,null,null,null,null,null,null,null,null,null,null,null,null,null,null,null,null,null,null,null,null,null,null,null,null,null,{"$f":"HISTO!P513","v":0},{"$f":"IF(AC513=\"\",\"Zonard\",INDEX(AB514:AB$2008,MIN(IF(COUNTIF(AC$2:AC513,AB514:AB$2008),ROW(AB$2008)-ROW()+1,ROW(AB514:AB$2008)-ROW()+1))))","v":0},0]
[null,null,null,null,null,null,null,null,null,null,null,null,null,null,null,null,null,null,null,null,null,null,null,null,null,null,null,{"$f":"HISTO!P514","v":0},{"$f":"IF(AC514=\"\",\"Zonard\",INDEX(AB515:AB$2008,MIN(IF(COUNTIF(AC$2:AC514,AB515:AB$2008),ROW(AB$2008)-ROW()+1,ROW(AB515:AB$2008)-ROW()+1))))","v":0},0]
[null,null,null,null,null,null,null,null,null,null,null,null,null,null,null,null,null,null,null,null,null,null,null,null,null,null,null,{"$f":"HISTO!P515","v":0},{"$f":"IF(AC515=\"\",\"Zonard\",INDEX(AB516:AB$2008,MIN(IF(COUNTIF(AC$2:AC515,AB516:AB$2008),ROW(AB$2008)-ROW()+1,ROW(AB516:AB$2008)-ROW()+1))))","v":0},0]
[null,null,null,null,null,null,null,null,null,null,null,null,null,null,null,null,null,null,null,null,null,null,null,null,null,null,null,{"$f":"HISTO!P516","v":0},{"$f":"IF(AC516=\"\",\"Zonard\",INDEX(AB517:AB$2008,MIN(IF(COUNTIF(AC$2:AC516,AB517:AB$2008),ROW(AB$2008)-ROW()+1,ROW(AB517:AB$2008)-ROW()+1))))","v":0},0]
[null,null,null,null,null,null,null,null,null,null,null,null,null,null,null,null,null,null,null,null,null,null,null,null,null,null,null,{"$f":"HISTO!P517","v":0},{"$f":"IF(AC517=\"\",\"Zonard\",INDEX(AB518:AB$2008,MIN(IF(COUNTIF(AC$2:AC517,AB518:AB$2008),ROW(AB$2008)-ROW()+1,ROW(AB518:AB$2008)-ROW()+1))))","v":0},0]
[null,null,null,null,null,null,null,null,null,null,null,null,null,null,null,null,null,null,null,null,null,null,null,null,null,null,null,{"$f":"HISTO!P518","v":0},{"$f":"IF(AC518=\"\",\"Zonard\",INDEX(AB519:AB$2008,MIN(IF(COUNTIF(AC$2:AC518,AB519:AB$2008),ROW(AB$2008)-ROW()+1,ROW(AB519:AB$2008)-ROW()+1))))","v":0},0]
[null,null,null,null,null,null,null,null,null,null,null,null,null,null,null,null,null,null,null,null,null,null,null,null,null,null,null,{"$f":"HISTO!P519","v":0},{"$f":"IF(AC519=\"\",\"Zonard\",INDEX(AB520:AB$2008,MIN(IF(COUNTIF(AC$2:AC519,AB520:AB$2008),ROW(AB$2008)-ROW()+1,ROW(AB520:AB$2008)-ROW()+1))))","v":0},0]
[null,null,null,null,null,null,null,null,null,null,null,null,null,null,null,null,null,null,null,null,null,null,null,null,null,null,null,{"$f":"HISTO!P520","v":0},{"$f":"IF(AC520=\"\",\"Zonard\",INDEX(AB521:AB$2008,MIN(IF(COUNTIF(AC$2:AC520,AB521:AB$2008),ROW(AB$2008)-ROW()+1,ROW(AB521:AB$2008)-ROW()+1))))","v":0},0]
[null,null,null,null,null,null,null,null,null,null,null,null,null,null,null,null,null,null,null,null,null,null,null,null,null,null,null,{"$f":"HISTO!P521","v":0},{"$f":"IF(AC521=\"\",\"Zonard\",INDEX(AB522:AB$2008,MIN(IF(COUNTIF(AC$2:AC521,AB522:AB$2008),ROW(AB$2008)-ROW()+1,ROW(AB522:AB$2008)-ROW()+1))))","v":0},0]
[null,null,null,null,null,null,null,null,null,null,null,null,null,null,null,null,null,null,null,null,null,null,null,null,null,null,null,{"$f":"HISTO!P522","v":0},{"$f":"IF(AC522=\"\",\"Zonard\",INDEX(AB523:AB$2008,MIN(IF(COUNTIF(AC$2:AC522,AB523:AB$2008),ROW(AB$2008)-ROW()+1,ROW(AB523:AB$2008)-ROW()+1))))","v":0},0]
[null,null,null,null,null,null,null,null,null,null,null,null,null,null,null,null,null,null,null,null,null,null,null,null,null,null,null,{"$f":"HISTO!P523","v":0},{"$f":"IF(AC523=\"\",\"Zonard\",INDEX(AB524:AB$2008,MIN(IF(COUNTIF(AC$2:AC523,AB524:AB$2008),ROW(AB$2008)-ROW()+1,ROW(AB524:AB$2008)-ROW()+1))))","v":0},0]
[null,null,null,null,null,null,null,null,null,null,null,null,null,null,null,null,null,null,null,null,null,null,null,null,null,null,null,{"$f":"HISTO!P524","v":0},{"$f":"IF(AC524=\"\",\"Zonard\",INDEX(AB525:AB$2008,MIN(IF(COUNTIF(AC$2:AC524,AB525:AB$2008),ROW(AB$2008)-ROW()+1,ROW(AB525:AB$2008)-ROW()+1))))","v":0},0]
[null,null,null,null,null,null,null,null,null,null,null,null,null,null,null,null,null,null,null,null,null,null,null,null,null,null,null,{"$f":"HISTO!P525","v":0},{"$f":"IF(AC525=\"\",\"Zonard\",INDEX(AB526:AB$2008,MIN(IF(COUNTIF(AC$2:AC525,AB526:AB$2008),ROW(AB$2008)-ROW()+1,ROW(AB526:AB$2008)-ROW()+1))))","v":0},0]
[null,null,null,null,null,null,null,null,null,null,null,null,null,null,null,null,null,null,null,null,null,null,null,null,null,null,null,{"$f":"HISTO!P526","v":0},{"$f":"IF(AC526=\"\",\"Zonard\",INDEX(AB527:AB$2008,MIN(IF(COUNTIF(AC$2:AC526,AB527:AB$2008),ROW(AB$2008)-ROW()+1,ROW(AB527:AB$2008)-ROW()+1))))","v":0},0]
[null,null,null,null,null,null,null,null,null,null,null,null,null,null,null,null,null,null,null,null,null,null,null,null,null,null,null,{"$f":"HISTO!P527","v":0},{"$f":"IF(AC527=\"\",\"Zonard\",INDEX(AB528:AB$2008,MIN(IF(COUNTIF(AC$2:AC527,AB528:AB$2008),ROW(AB$2008)-ROW()+1,ROW(AB528:AB$2008)-ROW()+1))))","v":0},0]
[null,null,null,null,null,null,null,null,null,null,null,null,null,null,null,null,null,null,null,null,null,null,null,null,null,null,null,{"$f":"HISTO!P528","v":0},{"$f":"IF(AC528=\"\",\"Zonard\",INDEX(AB529:AB$2008,MIN(IF(COUNTIF(AC$2:AC528,AB529:AB$2008),ROW(AB$2008)-ROW()+1,ROW(AB529:AB$2008)-ROW()+1))))","v":0},0]
[null,null,null,null,null,null,null,null,null,null,null,null,null,null,null,null,null,null,null,null,null,null,null,null,null,null,null,{"$f":"HISTO!P529","v":0},{"$f":"IF(AC529=\"\",\"Zonard\",INDEX(AB530:AB$2008,MIN(IF(COUNTIF(AC$2:AC529,AB530:AB$2008),ROW(AB$2008)-ROW()+1,ROW(AB530:AB$2008)-ROW()+1))))","v":0},0]
[null,null,null,null,null,null,null,null,null,null,null,null,null,null,null,null,null,null,null,null,null,null,null,null,null,null,null,{"$f":"HISTO!P530","v":0},{"$f":"IF(AC530=\"\",\"Zonard\",INDEX(AB531:AB$2008,MIN(IF(COUNTIF(AC$2:AC530,AB531:AB$2008),ROW(AB$2008)-ROW()+1,ROW(AB531:AB$2008)-ROW()+1))))","v":0},0]
[null,null,null,null,null,null,null,null,null,null,null,null,null,null,null,null,null,null,null,null,null,null,null,null,null,null,null,{"$f":"HISTO!P531","v":0},{"$f":"IF(AC531=\"\",\"Zonard\",INDEX(AB532:AB$2008,MIN(IF(COUNTIF(AC$2:AC531,AB532:AB$2008),ROW(AB$2008)-ROW()+1,ROW(AB532:AB$2008)-ROW()+1))))","v":0},0]
[null,null,null,null,null,null,null,null,null,null,null,null,null,null,null,null,null,null,null,null,null,null,null,null,null,null,null,{"$f":"HISTO!P532","v":0},{"$f":"IF(AC532=\"\",\"Zonard\",INDEX(AB533:AB$2008,MIN(IF(COUNTIF(AC$2:AC532,AB533:AB$2008),ROW(AB$2008)-ROW()+1,ROW(AB533:AB$2008)-ROW()+1))))","v":0},0]
[null,null,null,null,null,null,null,null,null,null,null,null,null,null,null,null,null,null,null,null,null,null,null,null,null,null,null,{"$f":"HISTO!P533","v":0},{"$f":"IF(AC533=\"\",\"Zonard\",INDEX(AB534:AB$2008,MIN(IF(COUNTIF(AC$2:AC533,AB534:AB$2008),ROW(AB$2008)-ROW()+1,ROW(AB534:AB$2008)-ROW()+1))))","v":0},0]
[null,null,null,null,null,null,null,null,null,null,null,null,null,null,null,null,null,null,null,null,null,null,null,null,null,null,null,{"$f":"HISTO!P534","v":0},{"$f":"IF(AC534=\"\",\"Zonard\",INDEX(AB535:AB$2008,MIN(IF(COUNTIF(AC$2:AC534,AB535:AB$2008),ROW(AB$2008)-ROW()+1,ROW(AB535:AB$2008)-ROW()+1))))","v":0},0]
[null,null,null,null,null,null,null,null,null,null,null,null,null,null,null,null,null,null,null,null,null,null,null,null,null,null,null,{"$f":"HISTO!P535","v":0},{"$f":"IF(AC535=\"\",\"Zonard\",INDEX(AB536:AB$2008,MIN(IF(COUNTIF(AC$2:AC535,AB536:AB$2008),ROW(AB$2008)-ROW()+1,ROW(AB536:AB$2008)-ROW()+1))))","v":0},0]
[null,null,null,null,null,null,null,null,null,null,null,null,null,null,null,null,null,null,null,null,null,null,null,null,null,null,null,{"$f":"HISTO!P536","v":0},{"$f":"IF(AC536=\"\",\"Zonard\",INDEX(AB537:AB$2008,MIN(IF(COUNTIF(AC$2:AC536,AB537:AB$2008),ROW(AB$2008)-ROW()+1,ROW(AB537:AB$2008)-ROW()+1))))","v":0},0]
[null,null,null,null,null,null,null,null,null,null,null,null,null,null,null,null,null,null,null,null,null,null,null,null,null,null,null,{"$f":"HISTO!P537","v":0},{"$f":"IF(AC537=\"\",\"Zonard\",INDEX(AB538:AB$2008,MIN(IF(COUNTIF(AC$2:AC537,AB538:AB$2008),ROW(AB$2008)-ROW()+1,ROW(AB538:AB$2008)-ROW()+1))))","v":0},0]
[null,null,null,null,null,null,null,null,null,null,null,null,null,null,null,null,null,null,null,null,null,null,null,null,null,null,null,{"$f":"HISTO!P538","v":0},{"$f":"IF(AC538=\"\",\"Zonard\",INDEX(AB539:AB$2008,MIN(IF(COUNTIF(AC$2:AC538,AB539:AB$2008),ROW(AB$2008)-ROW()+1,ROW(AB539:AB$2008)-ROW()+1))))","v":0},0]
[null,null,null,null,null,null,null,null,null,null,null,null,null,null,null,null,null,null,null,null,null,null,null,null,null,null,null,{"$f":"HISTO!P539","v":0},{"$f":"IF(AC539=\"\",\"Zonard\",INDEX(AB540:AB$2008,MIN(IF(COUNTIF(AC$2:AC539,AB540:AB$2008),ROW(AB$2008)-ROW()+1,ROW(AB540:AB$2008)-ROW()+1))))","v":0},0]
[null,null,null,null,null,null,null,null,null,null,null,null,null,null,null,null,null,null,null,null,null,null,null,null,null,null,null,{"$f":"HISTO!P540","v":0},{"$f":"IF(AC540=\"\",\"Zonard\",INDEX(AB541:AB$2008,MIN(IF(COUNTIF(AC$2:AC540,AB541:AB$2008),ROW(AB$2008)-ROW()+1,ROW(AB541:AB$2008)-ROW()+1))))","v":0},0]
[null,null,null,null,null,null,null,null,null,null,null,null,null,null,null,null,null,null,null,null,null,null,null,null,null,null,null,{"$f":"HISTO!P541","v":0},{"$f":"IF(AC541=\"\",\"Zonard\",INDEX(AB542:AB$2008,MIN(IF(COUNTIF(AC$2:AC541,AB542:AB$2008),ROW(AB$2008)-ROW()+1,ROW(AB542:AB$2008)-ROW()+1))))","v":0},0]
[null,null,null,null,null,null,null,null,null,null,null,null,null,null,null,null,null,null,null,null,null,null,null,null,null,null,null,{"$f":"HISTO!P542","v":0},{"$f":"IF(AC542=\"\",\"Zonard\",INDEX(AB543:AB$2008,MIN(IF(COUNTIF(AC$2:AC542,AB543:AB$2008),ROW(AB$2008)-ROW()+1,ROW(AB543:AB$2008)-ROW()+1))))","v":0},0]
[null,null,null,null,null,null,null,null,null,null,null,null,null,null,null,null,null,null,null,null,null,null,null,null,null,null,null,{"$f":"HISTO!P543","v":0},{"$f":"IF(AC543=\"\",\"Zonard\",INDEX(AB544:AB$2008,MIN(IF(COUNTIF(AC$2:AC543,AB544:AB$2008),ROW(AB$2008)-ROW()+1,ROW(AB544:AB$2008)-ROW()+1))))","v":0},0]
[null,null,null,null,null,null,null,null,null,null,null,null,null,null,null,null,null,null,null,null,null,null,null,null,null,null,null,{"$f":"HISTO!P544","v":0},{"$f":"IF(AC544=\"\",\"Zonard\",INDEX(AB545:AB$2008,MIN(IF(COUNTIF(AC$2:AC544,AB545:AB$2008),ROW(AB$2008)-ROW()+1,ROW(AB545:AB$2008)-ROW()+1))))","v":0},0]
[null,null,null,null,null,null,null,null,null,null,null,null,null,null,null,null,null,null,null,null,null,null,null,null,null,null,null,{"$f":"HISTO!P545","v":0},{"$f":"IF(AC545=\"\",\"Zonard\",INDEX(AB546:AB$2008,MIN(IF(COUNTIF(AC$2:AC545,AB546:AB$2008),ROW(AB$2008)-ROW()+1,ROW(AB546:AB$2008)-ROW()+1))))","v":0},0]
[null,null,null,null,null,null,null,null,null,null,null,null,null,null,null,null,null,null,null,null,null,null,null,null,null,null,null,{"$f":"HISTO!P546","v":0},{"$f":"IF(AC546=\"\",\"Zonard\",INDEX(AB547:AB$2008,MIN(IF(COUNTIF(AC$2:AC546,AB547:AB$2008),ROW(AB$2008)-ROW()+1,ROW(AB547:AB$2008)-ROW()+1))))","v":0},0]
[null,null,null,null,null,null,null,null,null,null,null,null,null,null,null,null,null,null,null,null,null,null,null,null,null,null,null,{"$f":"HISTO!P547","v":0},{"$f":"IF(AC547=\"\",\"Zonard\",INDEX(AB548:AB$2008,MIN(IF(COUNTIF(AC$2:AC547,AB548:AB$2008),ROW(AB$2008)-ROW()+1,ROW(AB548:AB$2008)-ROW()+1))))","v":0},0]
[null,null,null,null,null,null,null,null,null,null,null,null,null,null,null,null,null,null,null,null,null,null,null,null,null,null,null,{"$f":"HISTO!P548","v":0},{"$f":"IF(AC548=\"\",\"Zonard\",INDEX(AB549:AB$2008,MIN(IF(COUNTIF(AC$2:AC548,AB549:AB$2008),ROW(AB$2008)-ROW()+1,ROW(AB549:AB$2008)-ROW()+1))))","v":0},0]
[null,null,null,null,null,null,null,null,null,null,null,null,null,null,null,null,null,null,null,null,null,null,null,null,null,null,null,{"$f":"HISTO!P549","v":0},{"$f":"IF(AC549=\"\",\"Zonard\",INDEX(AB550:AB$2008,MIN(IF(COUNTIF(AC$2:AC549,AB550:AB$2008),ROW(AB$2008)-ROW()+1,ROW(AB550:AB$2008)-ROW()+1))))","v":0},0]
[null,null,null,null,null,null,null,null,null,null,null,null,null,null,null,null,null,null,null,null,null,null,null,null,null,null,null,{"$f":"HISTO!P550","v":0},{"$f":"IF(AC550=\"\",\"Zonard\",INDEX(AB551:AB$2008,MIN(IF(COUNTIF(AC$2:AC550,AB551:AB$2008),ROW(AB$2008)-ROW()+1,ROW(AB551:AB$2008)-ROW()+1))))","v":0},0]
[null,null,null,null,null,null,null,null,null,null,null,null,null,null,null,null,null,null,null,null,null,null,null,null,null,null,null,{"$f":"HISTO!P551","v":0},{"$f":"IF(AC551=\"\",\"Zonard\",INDEX(AB552:AB$2008,MIN(IF(COUNTIF(AC$2:AC551,AB552:AB$2008),ROW(AB$2008)-ROW()+1,ROW(AB552:AB$2008)-ROW()+1))))","v":0},0]
[null,null,null,null,null,null,null,null,null,null,null,null,null,null,null,null,null,null,null,null,null,null,null,null,null,null,null,{"$f":"HISTO!P552","v":0},{"$f":"IF(AC552=\"\",\"Zonard\",INDEX(AB553:AB$2008,MIN(IF(COUNTIF(AC$2:AC552,AB553:AB$2008),ROW(AB$2008)-ROW()+1,ROW(AB553:AB$2008)-ROW()+1))))","v":0},0]
[null,null,null,null,null,null,null,null,null,null,null,null,null,null,null,null,null,null,null,null,null,null,null,null,null,null,null,{"$f":"HISTO!P553","v":0},{"$f":"IF(AC553=\"\",\"Zonard\",INDEX(AB554:AB$2008,MIN(IF(COUNTIF(AC$2:AC553,AB554:AB$2008),ROW(AB$2008)-ROW()+1,ROW(AB554:AB$2008)-ROW()+1))))","v":0},0]
[null,null,null,null,null,null,null,null,null,null,null,null,null,null,null,null,null,null,null,null,null,null,null,null,null,null,null,{"$f":"HISTO!P554","v":0},{"$f":"IF(AC554=\"\",\"Zonard\",INDEX(AB555:AB$2008,MIN(IF(COUNTIF(AC$2:AC554,AB555:AB$2008),ROW(AB$2008)-ROW()+1,ROW(AB555:AB$2008)-ROW()+1))))","v":0},0]
[null,null,null,null,null,null,null,null,null,null,null,null,null,null,null,null,null,null,null,null,null,null,null,null,null,null,null,{"$f":"HISTO!P555","v":0},{"$f":"IF(AC555=\"\",\"Zonard\",INDEX(AB556:AB$2008,MIN(IF(COUNTIF(AC$2:AC555,AB556:AB$2008),ROW(AB$2008)-ROW()+1,ROW(AB556:AB$2008)-ROW()+1))))","v":0},0]
[null,null,null,null,null,null,null,null,null,null,null,null,null,null,null,null,null,null,null,null,null,null,null,null,null,null,null,{"$f":"HISTO!P556","v":0},{"$f":"IF(AC556=\"\",\"Zonard\",INDEX(AB557:AB$2008,MIN(IF(COUNTIF(AC$2:AC556,AB557:AB$2008),ROW(AB$2008)-ROW()+1,ROW(AB557:AB$2008)-ROW()+1))))","v":0},0]
[null,null,null,null,null,null,null,null,null,null,null,null,null,null,null,null,null,null,null,null,null,null,null,null,null,null,null,{"$f":"HISTO!P557","v":0},{"$f":"IF(AC557=\"\",\"Zonard\",INDEX(AB558:AB$2008,MIN(IF(COUNTIF(AC$2:AC557,AB558:AB$2008),ROW(AB$2008)-ROW()+1,ROW(AB558:AB$2008)-ROW()+1))))","v":0},0]
[null,null,null,null,null,null,null,null,null,null,null,null,null,null,null,null,null,null,null,null,null,null,null,null,null,null,null,{"$f":"HISTO!P558","v":0},{"$f":"IF(AC558=\"\",\"Zonard\",INDEX(AB559:AB$2008,MIN(IF(COUNTIF(AC$2:AC558,AB559:AB$2008),ROW(AB$2008)-ROW()+1,ROW(AB559:AB$2008)-ROW()+1))))","v":0},0]
[null,null,null,null,null,null,null,null,null,null,null,null,null,null,null,null,null,null,null,null,null,null,null,null,null,null,null,{"$f":"HISTO!P559","v":0},{"$f":"IF(AC559=\"\",\"Zonard\",INDEX(AB560:AB$2008,MIN(IF(COUNTIF(AC$2:AC559,AB560:AB$2008),ROW(AB$2008)-ROW()+1,ROW(AB560:AB$2008)-ROW()+1))))","v":0},0]
[null,null,null,null,null,null,null,null,null,null,null,null,null,null,null,null,null,null,null,null,null,null,null,null,null,null,null,{"$f":"HISTO!P560","v":0},{"$f":"IF(AC560=\"\",\"Zonard\",INDEX(AB561:AB$2008,MIN(IF(COUNTIF(AC$2:AC560,AB561:AB$2008),ROW(AB$2008)-ROW()+1,ROW(AB561:AB$2008)-ROW()+1))))","v":0},0]
[null,null,null,null,null,null,null,null,null,null,null,null,null,null,null,null,null,null,null,null,null,null,null,null,null,null,null,{"$f":"HISTO!P561","v":0},{"$f":"IF(AC561=\"\",\"Zonard\",INDEX(AB562:AB$2008,MIN(IF(COUNTIF(AC$2:AC561,AB562:AB$2008),ROW(AB$2008)-ROW()+1,ROW(AB562:AB$2008)-ROW()+1))))","v":0},0]
[null,null,null,null,null,null,null,null,null,null,null,null,null,null,null,null,null,null,null,null,null,null,null,null,null,null,null,{"$f":"HISTO!P562","v":0},{"$f":"IF(AC562=\"\",\"Zonard\",INDEX(AB563:AB$2008,MIN(IF(COUNTIF(AC$2:AC562,AB563:AB$2008),ROW(AB$2008)-ROW()+1,ROW(AB563:AB$2008)-ROW()+1))))","v":0},0]
[null,null,null,null,null,null,null,null,null,null,null,null,null,null,null,null,null,null,null,null,null,null,null,null,null,null,null,{"$f":"HISTO!P563","v":0},{"$f":"IF(AC563=\"\",\"Zonard\",INDEX(AB564:AB$2008,MIN(IF(COUNTIF(AC$2:AC563,AB564:AB$2008),ROW(AB$2008)-ROW()+1,ROW(AB564:AB$2008)-ROW()+1))))","v":0},0]
[null,null,null,null,null,null,null,null,null,null,null,null,null,null,null,null,null,null,null,null,null,null,null,null,null,null,null,{"$f":"HISTO!P564","v":0},{"$f":"IF(AC564=\"\",\"Zonard\",INDEX(AB565:AB$2008,MIN(IF(COUNTIF(AC$2:AC564,AB565:AB$2008),ROW(AB$2008)-ROW()+1,ROW(AB565:AB$2008)-ROW()+1))))","v":0},0]
[null,null,null,null,null,null,null,null,null,null,null,null,null,null,null,null,null,null,null,null,null,null,null,null,null,null,null,{"$f":"HISTO!P565","v":0},{"$f":"IF(AC565=\"\",\"Zonard\",INDEX(AB566:AB$2008,MIN(IF(COUNTIF(AC$2:AC565,AB566:AB$2008),ROW(AB$2008)-ROW()+1,ROW(AB566:AB$2008)-ROW()+1))))","v":0},0]
[null,null,null,null,null,null,null,null,null,null,null,null,null,null,null,null,null,null,null,null,null,null,null,null,null,null,null,{"$f":"HISTO!P566","v":0},{"$f":"IF(AC566=\"\",\"Zonard\",INDEX(AB567:AB$2008,MIN(IF(COUNTIF(AC$2:AC566,AB567:AB$2008),ROW(AB$2008)-ROW()+1,ROW(AB567:AB$2008)-ROW()+1))))","v":0},0]
[null,null,null,null,null,null,null,null,null,null,null,null,null,null,null,null,null,null,null,null,null,null,null,null,null,null,null,{"$f":"HISTO!P567","v":0},{"$f":"IF(AC567=\"\",\"Zonard\",INDEX(AB568:AB$2008,MIN(IF(COUNTIF(AC$2:AC567,AB568:AB$2008),ROW(AB$2008)-ROW()+1,ROW(AB568:AB$2008)-ROW()+1))))","v":0},0]
[null,null,null,null,null,null,null,null,null,null,null,null,null,null,null,null,null,null,null,null,null,null,null,null,null,null,null,{"$f":"HISTO!P568","v":0},{"$f":"IF(AC568=\"\",\"Zonard\",INDEX(AB569:AB$2008,MIN(IF(COUNTIF(AC$2:AC568,AB569:AB$2008),ROW(AB$2008)-ROW()+1,ROW(AB569:AB$2008)-ROW()+1))))","v":0},0]
[null,null,null,null,null,null,null,null,null,null,null,null,null,null,null,null,null,null,null,null,null,null,null,null,null,null,null,{"$f":"HISTO!P569","v":0},{"$f":"IF(AC569=\"\",\"Zonard\",INDEX(AB570:AB$2008,MIN(IF(COUNTIF(AC$2:AC569,AB570:AB$2008),ROW(AB$2008)-ROW()+1,ROW(AB570:AB$2008)-ROW()+1))))","v":0},0]
[null,null,null,null,null,null,null,null,null,null,null,null,null,null,null,null,null,null,null,null,null,null,null,null,null,null,null,{"$f":"HISTO!P570","v":0},{"$f":"IF(AC570=\"\",\"Zonard\",INDEX(AB571:AB$2008,MIN(IF(COUNTIF(AC$2:AC570,AB571:AB$2008),ROW(AB$2008)-ROW()+1,ROW(AB571:AB$2008)-ROW()+1))))","v":0},0]
[null,null,null,null,null,null,null,null,null,null,null,null,null,null,null,null,null,null,null,null,null,null,null,null,null,null,null,{"$f":"HISTO!P571","v":0},{"$f":"IF(AC571=\"\",\"Zonard\",INDEX(AB572:AB$2008,MIN(IF(COUNTIF(AC$2:AC571,AB572:AB$2008),ROW(AB$2008)-ROW()+1,ROW(AB572:AB$2008)-ROW()+1))))","v":0},0]
[null,null,null,null,null,null,null,null,null,null,null,null,null,null,null,null,null,null,null,null,null,null,null,null,null,null,null,{"$f":"HISTO!P572","v":0},{"$f":"IF(AC572=\"\",\"Zonard\",INDEX(AB573:AB$2008,MIN(IF(COUNTIF(AC$2:AC572,AB573:AB$2008),ROW(AB$2008)-ROW()+1,ROW(AB573:AB$2008)-ROW()+1))))","v":0},0]
[null,null,null,null,null,null,null,null,null,null,null,null,null,null,null,null,null,null,null,null,null,null,null,null,null,null,null,{"$f":"HISTO!P573","v":0},{"$f":"IF(AC573=\"\",\"Zonard\",INDEX(AB574:AB$2008,MIN(IF(COUNTIF(AC$2:AC573,AB574:AB$2008),ROW(AB$2008)-ROW()+1,ROW(AB574:AB$2008)-ROW()+1))))","v":0},0]
[null,null,null,null,null,null,null,null,null,null,null,null,null,null,null,null,null,null,null,null,null,null,null,null,null,null,null,{"$f":"HISTO!P574","v":0},{"$f":"IF(AC574=\"\",\"Zonard\",INDEX(AB575:AB$2008,MIN(IF(COUNTIF(AC$2:AC574,AB575:AB$2008),ROW(AB$2008)-ROW()+1,ROW(AB575:AB$2008)-ROW()+1))))","v":0},0]
[null,null,null,null,null,null,null,null,null,null,null,null,null,null,null,null,null,null,null,null,null,null,null,null,null,null,null,{"$f":"HISTO!P575","v":0},{"$f":"IF(AC575=\"\",\"Zonard\",INDEX(AB576:AB$2008,MIN(IF(COUNTIF(AC$2:AC575,AB576:AB$2008),ROW(AB$2008)-ROW()+1,ROW(AB576:AB$2008)-ROW()+1))))","v":0},0]
[null,null,null,null,null,null,null,null,null,null,null,null,null,null,null,null,null,null,null,null,null,null,null,null,null,null,null,{"$f":"HISTO!P576","v":0},{"$f":"IF(AC576=\"\",\"Zonard\",INDEX(AB577:AB$2008,MIN(IF(COUNTIF(AC$2:AC576,AB577:AB$2008),ROW(AB$2008)-ROW()+1,ROW(AB577:AB$2008)-ROW()+1))))","v":0},0]
[null,null,null,null,null,null,null,null,null,null,null,null,null,null,null,null,null,null,null,null,null,null,null,null,null,null,null,{"$f":"HISTO!P577","v":0},{"$f":"IF(AC577=\"\",\"Zonard\",INDEX(AB578:AB$2008,MIN(IF(COUNTIF(AC$2:AC577,AB578:AB$2008),ROW(AB$2008)-ROW()+1,ROW(AB578:AB$2008)-ROW()+1))))","v":0},0]
[null,null,null,null,null,null,null,null,null,null,null,null,null,null,null,null,null,null,null,null,null,null,null,null,null,null,null,{"$f":"HISTO!P578","v":0},{"$f":"IF(AC578=\"\",\"Zonard\",INDEX(AB579:AB$2008,MIN(IF(COUNTIF(AC$2:AC578,AB579:AB$2008),ROW(AB$2008)-ROW()+1,ROW(AB579:AB$2008)-ROW()+1))))","v":0},0]
[null,null,null,null,null,null,null,null,null,null,null,null,null,null,null,null,null,null,null,null,null,null,null,null,null,null,null,{"$f":"HISTO!P579","v":0},{"$f":"IF(AC579=\"\",\"Zonard\",INDEX(AB580:AB$2008,MIN(IF(COUNTIF(AC$2:AC579,AB580:AB$2008),ROW(AB$2008)-ROW()+1,ROW(AB580:AB$2008)-ROW()+1))))","v":0},0]
[null,null,null,null,null,null,null,null,null,null,null,null,null,null,null,null,null,null,null,null,null,null,null,null,null,null,null,{"$f":"HISTO!P580","v":0},{"$f":"IF(AC580=\"\",\"Zonard\",INDEX(AB581:AB$2008,MIN(IF(COUNTIF(AC$2:AC580,AB581:AB$2008),ROW(AB$2008)-ROW()+1,ROW(AB581:AB$2008)-ROW()+1))))","v":0},0]
[null,null,null,null,null,null,null,null,null,null,null,null,null,null,null,null,null,null,null,null,null,null,null,null,null,null,null,{"$f":"HISTO!P581","v":0},{"$f":"IF(AC581=\"\",\"Zonard\",INDEX(AB582:AB$2008,MIN(IF(COUNTIF(AC$2:AC581,AB582:AB$2008),ROW(AB$2008)-ROW()+1,ROW(AB582:AB$2008)-ROW()+1))))","v":0},0]
[null,null,null,null,null,null,null,null,null,null,null,null,null,null,null,null,null,null,null,null,null,null,null,null,null,null,null,{"$f":"HISTO!P582","v":0},{"$f":"IF(AC582=\"\",\"Zonard\",INDEX(AB583:AB$2008,MIN(IF(COUNTIF(AC$2:AC582,AB583:AB$2008),ROW(AB$2008)-ROW()+1,ROW(AB583:AB$2008)-ROW()+1))))","v":0},0]
[null,null,null,null,null,null,null,null,null,null,null,null,null,null,null,null,null,null,null,null,null,null,null,null,null,null,null,{"$f":"HISTO!P583","v":0},{"$f":"IF(AC583=\"\",\"Zonard\",INDEX(AB584:AB$2008,MIN(IF(COUNTIF(AC$2:AC583,AB584:AB$2008),ROW(AB$2008)-ROW()+1,ROW(AB584:AB$2008)-ROW()+1))))","v":0},0]
[null,null,null,null,null,null,null,null,null,null,null,null,null,null,null,null,null,null,null,null,null,null,null,null,null,null,null,{"$f":"HISTO!P584","v":0},{"$f":"IF(AC584=\"\",\"Zonard\",INDEX(AB585:AB$2008,MIN(IF(COUNTIF(AC$2:AC584,AB585:AB$2008),ROW(AB$2008)-ROW()+1,ROW(AB585:AB$2008)-ROW()+1))))","v":0},0]
[null,null,null,null,null,null,null,null,null,null,null,null,null,null,null,null,null,null,null,null,null,null,null,null,null,null,null,{"$f":"HISTO!P585","v":0},{"$f":"IF(AC585=\"\",\"Zonard\",INDEX(AB586:AB$2008,MIN(IF(COUNTIF(AC$2:AC585,AB586:AB$2008),ROW(AB$2008)-ROW()+1,ROW(AB586:AB$2008)-ROW()+1))))","v":0},0]
[null,null,null,null,null,null,null,null,null,null,null,null,null,null,null,null,null,null,null,null,null,null,null,null,null,null,null,{"$f":"HISTO!P586","v":0},{"$f":"IF(AC586=\"\",\"Zonard\",INDEX(AB587:AB$2008,MIN(IF(COUNTIF(AC$2:AC586,AB587:AB$2008),ROW(AB$2008)-ROW()+1,ROW(AB587:AB$2008)-ROW()+1))))","v":0},0]
[null,null,null,null,null,null,null,null,null,null,null,null,null,null,null,null,null,null,null,null,null,null,null,null,null,null,null,{"$f":"HISTO!P587","v":0},{"$f":"IF(AC587=\"\",\"Zonard\",INDEX(AB588:AB$2008,MIN(IF(COUNTIF(AC$2:AC587,AB588:AB$2008),ROW(AB$2008)-ROW()+1,ROW(AB588:AB$2008)-ROW()+1))))","v":0},0]
[null,null,null,null,null,null,null,null,null,null,null,null,null,null,null,null,null,null,null,null,null,null,null,null,null,null,null,{"$f":"HISTO!P588","v":0},{"$f":"IF(AC588=\"\",\"Zonard\",INDEX(AB589:AB$2008,MIN(IF(COUNTIF(AC$2:AC588,AB589:AB$2008),ROW(AB$2008)-ROW()+1,ROW(AB589:AB$2008)-ROW()+1))))","v":0},0]
[null,null,null,null,null,null,null,null,null,null,null,null,null,null,null,null,null,null,null,null,null,null,null,null,null,null,null,{"$f":"HISTO!P589","v":0},{"$f":"IF(AC589=\"\",\"Zonard\",INDEX(AB590:AB$2008,MIN(IF(COUNTIF(AC$2:AC589,AB590:AB$2008),ROW(AB$2008)-ROW()+1,ROW(AB590:AB$2008)-ROW()+1))))","v":0},0]
[null,null,null,null,null,null,null,null,null,null,null,null,null,null,null,null,null,null,null,null,null,null,null,null,null,null,null,{"$f":"HISTO!P590","v":0},{"$f":"IF(AC590=\"\",\"Zonard\",INDEX(AB591:AB$2008,MIN(IF(COUNTIF(AC$2:AC590,AB591:AB$2008),ROW(AB$2008)-ROW()+1,ROW(AB591:AB$2008)-ROW()+1))))","v":0},0]
[null,null,null,null,null,null,null,null,null,null,null,null,null,null,null,null,null,null,null,null,null,null,null,null,null,null,null,{"$f":"HISTO!P591","v":0},{"$f":"IF(AC591=\"\",\"Zonard\",INDEX(AB592:AB$2008,MIN(IF(COUNTIF(AC$2:AC591,AB592:AB$2008),ROW(AB$2008)-ROW()+1,ROW(AB592:AB$2008)-ROW()+1))))","v":0},0]
[null,null,null,null,null,null,null,null,null,null,null,null,null,null,null,null,null,null,null,null,null,null,null,null,null,null,null,{"$f":"HISTO!P592","v":0},{"$f":"IF(AC592=\"\",\"Zonard\",INDEX(AB593:AB$2008,MIN(IF(COUNTIF(AC$2:AC592,AB593:AB$2008),ROW(AB$2008)-ROW()+1,ROW(AB593:AB$2008)-ROW()+1))))","v":0},0]
[null,null,null,null,null,null,null,null,null,null,null,null,null,null,null,null,null,null,null,null,null,null,null,null,null,null,null,{"$f":"HISTO!P593","v":0},{"$f":"IF(AC593=\"\",\"Zonard\",INDEX(AB594:AB$2008,MIN(IF(COUNTIF(AC$2:AC593,AB594:AB$2008),ROW(AB$2008)-ROW()+1,ROW(AB594:AB$2008)-ROW()+1))))","v":0},0]
[null,null,null,null,null,null,null,null,null,null,null,null,null,null,null,null,null,null,null,null,null,null,null,null,null,null,null,{"$f":"HISTO!P594","v":0},{"$f":"IF(AC594=\"\",\"Zonard\",INDEX(AB595:AB$2008,MIN(IF(COUNTIF(AC$2:AC594,AB595:AB$2008),ROW(AB$2008)-ROW()+1,ROW(AB595:AB$2008)-ROW()+1))))","v":0},0]
[null,null,null,null,null,null,null,null,null,null,null,null,null,null,null,null,null,null,null,null,null,null,null,null,null,null,null,{"$f":"HISTO!P595","v":0},{"$f":"IF(AC595=\"\",\"Zonard\",INDEX(AB596:AB$2008,MIN(IF(COUNTIF(AC$2:AC595,AB596:AB$2008),ROW(AB$2008)-ROW()+1,ROW(AB596:AB$2008)-ROW()+1))))","v":0},0]
[null,null,null,null,null,null,null,null,null,null,null,null,null,null,null,null,null,null,null,null,null,null,null,null,null,null,null,{"$f":"HISTO!P596","v":0},{"$f":"IF(AC596=\"\",\"Zonard\",INDEX(AB597:AB$2008,MIN(IF(COUNTIF(AC$2:AC596,AB597:AB$2008),ROW(AB$2008)-ROW()+1,ROW(AB597:AB$2008)-ROW()+1))))","v":0},0]
[null,null,null,null,null,null,null,null,null,null,null,null,null,null,null,null,null,null,null,null,null,null,null,null,null,null,null,{"$f":"HISTO!P597","v":0},{"$f":"IF(AC597=\"\",\"Zonard\",INDEX(AB598:AB$2008,MIN(IF(COUNTIF(AC$2:AC597,AB598:AB$2008),ROW(AB$2008)-ROW()+1,ROW(AB598:AB$2008)-ROW()+1))))","v":0},0]
[null,null,null,null,null,null,null,null,null,null,null,null,null,null,null,null,null,null,null,null,null,null,null,null,null,null,null,{"$f":"HISTO!P598","v":0},{"$f":"IF(AC598=\"\",\"Zonard\",INDEX(AB599:AB$2008,MIN(IF(COUNTIF(AC$2:AC598,AB599:AB$2008),ROW(AB$2008)-ROW()+1,ROW(AB599:AB$2008)-ROW()+1))))","v":0},0]
[null,null,null,null,null,null,null,null,null,null,null,null,null,null,null,null,null,null,null,null,null,null,null,null,null,null,null,{"$f":"HISTO!P599","v":0},{"$f":"IF(AC599=\"\",\"Zonard\",INDEX(AB600:AB$2008,MIN(IF(COUNTIF(AC$2:AC599,AB600:AB$2008),ROW(AB$2008)-ROW()+1,ROW(AB600:AB$2008)-ROW()+1))))","v":0},0]
[null,null,null,null,null,null,null,null,null,null,null,null,null,null,null,null,null,null,null,null,null,null,null,null,null,null,null,{"$f":"HISTO!P600","v":0},{"$f":"IF(AC600=\"\",\"Zonard\",INDEX(AB601:AB$2008,MIN(IF(COUNTIF(AC$2:AC600,AB601:AB$2008),ROW(AB$2008)-ROW()+1,ROW(AB601:AB$2008)-ROW()+1))))","v":0},0]
[null,null,null,null,null,null,null,null,null,null,null,null,null,null,null,null,null,null,null,null,null,null,null,null,null,null,null,{"$f":"HISTO!P601","v":0},{"$f":"IF(AC601=\"\",\"Zonard\",INDEX(AB602:AB$2008,MIN(IF(COUNTIF(AC$2:AC601,AB602:AB$2008),ROW(AB$2008)-ROW()+1,ROW(AB602:AB$2008)-ROW()+1))))","v":0},0]
[null,null,null,null,null,null,null,null,null,null,null,null,null,null,null,null,null,null,null,null,null,null,null,null,null,null,null,{"$f":"HISTO!P602","v":0},{"$f":"IF(AC602=\"\",\"Zonard\",INDEX(AB603:AB$2008,MIN(IF(COUNTIF(AC$2:AC602,AB603:AB$2008),ROW(AB$2008)-ROW()+1,ROW(AB603:AB$2008)-ROW()+1))))","v":0},0]
[null,null,null,null,null,null,null,null,null,null,null,null,null,null,null,null,null,null,null,null,null,null,null,null,null,null,null,{"$f":"HISTO!P603","v":0},{"$f":"IF(AC603=\"\",\"Zonard\",INDEX(AB604:AB$2008,MIN(IF(COUNTIF(AC$2:AC603,AB604:AB$2008),ROW(AB$2008)-ROW()+1,ROW(AB604:AB$2008)-ROW()+1))))","v":0},0]
[null,null,null,null,null,null,null,null,null,null,null,null,null,null,null,null,null,null,null,null,null,null,null,null,null,null,null,{"$f":"HISTO!P604","v":0},{"$f":"IF(AC604=\"\",\"Zonard\",INDEX(AB605:AB$2008,MIN(IF(COUNTIF(AC$2:AC604,AB605:AB$2008),ROW(AB$2008)-ROW()+1,ROW(AB605:AB$2008)-ROW()+1))))","v":0},0]
[null,null,null,null,null,null,null,null,null,null,null,null,null,null,null,null,null,null,null,null,null,null,null,null,null,null,null,{"$f":"HISTO!P605","v":0},{"$f":"IF(AC605=\"\",\"Zonard\",INDEX(AB606:AB$2008,MIN(IF(COUNTIF(AC$2:AC605,AB606:AB$2008),ROW(AB$2008)-ROW()+1,ROW(AB606:AB$2008)-ROW()+1))))","v":0},0]
[null,null,null,null,null,null,null,null,null,null,null,null,null,null,null,null,null,null,null,null,null,null,null,null,null,null,null,{"$f":"HISTO!P606","v":0},{"$f":"IF(AC606=\"\",\"Zonard\",INDEX(AB607:AB$2008,MIN(IF(COUNTIF(AC$2:AC606,AB607:AB$2008),ROW(AB$2008)-ROW()+1,ROW(AB607:AB$2008)-ROW()+1))))","v":0},0]
[null,null,null,null,null,null,null,null,null,null,null,null,null,null,null,null,null,null,null,null,null,null,null,null,null,null,null,{"$f":"HISTO!P607","v":0},{"$f":"IF(AC607=\"\",\"Zonard\",INDEX(AB608:AB$2008,MIN(IF(COUNTIF(AC$2:AC607,AB608:AB$2008),ROW(AB$2008)-ROW()+1,ROW(AB608:AB$2008)-ROW()+1))))","v":0},0]
[null,null,null,null,null,null,null,null,null,null,null,null,null,null,null,null,null,null,null,null,null,null,null,null,null,null,null,{"$f":"HISTO!P608","v":0},{"$f":"IF(AC608=\"\",\"Zonard\",INDEX(AB609:AB$2008,MIN(IF(COUNTIF(AC$2:AC608,AB609:AB$2008),ROW(AB$2008)-ROW()+1,ROW(AB609:AB$2008)-ROW()+1))))","v":0},0]
[null,null,null,null,null,null,null,null,null,null,null,null,null,null,null,null,null,null,null,null,null,null,null,null,null,null,null,{"$f":"HISTO!P609","v":0},{"$f":"IF(AC609=\"\",\"Zonard\",INDEX(AB610:AB$2008,MIN(IF(COUNTIF(AC$2:AC609,AB610:AB$2008),ROW(AB$2008)-ROW()+1,ROW(AB610:AB$2008)-ROW()+1))))","v":0},0]
[null,null,null,null,null,null,null,null,null,null,null,null,null,null,null,null,null,null,null,null,null,null,null,null,null,null,null,{"$f":"HISTO!P610","v":0},{"$f":"IF(AC610=\"\",\"Zonard\",INDEX(AB611:AB$2008,MIN(IF(COUNTIF(AC$2:AC610,AB611:AB$2008),ROW(AB$2008)-ROW()+1,ROW(AB611:AB$2008)-ROW()+1))))","v":0},0]
[null,null,null,null,null,null,null,null,null,null,null,null,null,null,null,null,null,null,null,null,null,null,null,null,null,null,null,{"$f":"HISTO!P611","v":0},{"$f":"IF(AC611=\"\",\"Zonard\",INDEX(AB612:AB$2008,MIN(IF(COUNTIF(AC$2:AC611,AB612:AB$2008),ROW(AB$2008)-ROW()+1,ROW(AB612:AB$2008)-ROW()+1))))","v":0},0]
[null,null,null,null,null,null,null,null,null,null,null,null,null,null,null,null,null,null,null,null,null,null,null,null,null,null,null,{"$f":"HISTO!P612","v":0},{"$f":"IF(AC612=\"\",\"Zonard\",INDEX(AB613:AB$2008,MIN(IF(COUNTIF(AC$2:AC612,AB613:AB$2008),ROW(AB$2008)-ROW()+1,ROW(AB613:AB$2008)-ROW()+1))))","v":0},0]
[null,null,null,null,null,null,null,null,null,null,null,null,null,null,null,null,null,null,null,null,null,null,null,null,null,null,null,{"$f":"HISTO!P613","v":0},{"$f":"IF(AC613=\"\",\"Zonard\",INDEX(AB614:AB$2008,MIN(IF(COUNTIF(AC$2:AC613,AB614:AB$2008),ROW(AB$2008)-ROW()+1,ROW(AB614:AB$2008)-ROW()+1))))","v":0},0]
[null,null,null,null,null,null,null,null,null,null,null,null,null,null,null,null,null,null,null,null,null,null,null,null,null,null,null,{"$f":"HISTO!P614","v":0},{"$f":"IF(AC614=\"\",\"Zonard\",INDEX(AB615:AB$2008,MIN(IF(COUNTIF(AC$2:AC614,AB615:AB$2008),ROW(AB$2008)-ROW()+1,ROW(AB615:AB$2008)-ROW()+1))))","v":0},0]
[null,null,null,null,null,null,null,null,null,null,null,null,null,null,null,null,null,null,null,null,null,null,null,null,null,null,null,{"$f":"HISTO!P615","v":0},{"$f":"IF(AC615=\"\",\"Zonard\",INDEX(AB616:AB$2008,MIN(IF(COUNTIF(AC$2:AC615,AB616:AB$2008),ROW(AB$2008)-ROW()+1,ROW(AB616:AB$2008)-ROW()+1))))","v":0},0]
[null,null,null,null,null,null,null,null,null,null,null,null,null,null,null,null,null,null,null,null,null,null,null,null,null,null,null,{"$f":"HISTO!P616","v":0},{"$f":"IF(AC616=\"\",\"Zonard\",INDEX(AB617:AB$2008,MIN(IF(COUNTIF(AC$2:AC616,AB617:AB$2008),ROW(AB$2008)-ROW()+1,ROW(AB617:AB$2008)-ROW()+1))))","v":0},0]
[null,null,null,null,null,null,null,null,null,null,null,null,null,null,null,null,null,null,null,null,null,null,null,null,null,null,null,{"$f":"HISTO!P617","v":0},{"$f":"IF(AC617=\"\",\"Zonard\",INDEX(AB618:AB$2008,MIN(IF(COUNTIF(AC$2:AC617,AB618:AB$2008),ROW(AB$2008)-ROW()+1,ROW(AB618:AB$2008)-ROW()+1))))","v":0},0]
[null,null,null,null,null,null,null,null,null,null,null,null,null,null,null,null,null,null,null,null,null,null,null,null,null,null,null,{"$f":"HISTO!P618","v":0},{"$f":"IF(AC618=\"\",\"Zonard\",INDEX(AB619:AB$2008,MIN(IF(COUNTIF(AC$2:AC618,AB619:AB$2008),ROW(AB$2008)-ROW()+1,ROW(AB619:AB$2008)-ROW()+1))))","v":0},0]
[null,null,null,null,null,null,null,null,null,null,null,null,null,null,null,null,null,null,null,null,null,null,null,null,null,null,null,{"$f":"HISTO!P619","v":0},{"$f":"IF(AC619=\"\",\"Zonard\",INDEX(AB620:AB$2008,MIN(IF(COUNTIF(AC$2:AC619,AB620:AB$2008),ROW(AB$2008)-ROW()+1,ROW(AB620:AB$2008)-ROW()+1))))","v":0},0]
[null,null,null,null,null,null,null,null,null,null,null,null,null,null,null,null,null,null,null,null,null,null,null,null,null,null,null,{"$f":"HISTO!P620","v":0},{"$f":"IF(AC620=\"\",\"Zonard\",INDEX(AB621:AB$2008,MIN(IF(COUNTIF(AC$2:AC620,AB621:AB$2008),ROW(AB$2008)-ROW()+1,ROW(AB621:AB$2008)-ROW()+1))))","v":0},0]
[null,null,null,null,null,null,null,null,null,null,null,null,null,null,null,null,null,null,null,null,null,null,null,null,null,null,null,{"$f":"HISTO!P621","v":0},{"$f":"IF(AC621=\"\",\"Zonard\",INDEX(AB622:AB$2008,MIN(IF(COUNTIF(AC$2:AC621,AB622:AB$2008),ROW(AB$2008)-ROW()+1,ROW(AB622:AB$2008)-ROW()+1))))","v":0},0]
[null,null,null,null,null,null,null,null,null,null,null,null,null,null,null,null,null,null,null,null,null,null,null,null,null,null,null,{"$f":"HISTO!P622","v":0},{"$f":"IF(AC622=\"\",\"Zonard\",INDEX(AB623:AB$2008,MIN(IF(COUNTIF(AC$2:AC622,AB623:AB$2008),ROW(AB$2008)-ROW()+1,ROW(AB623:AB$2008)-ROW()+1))))","v":0},0]
[null,null,null,null,null,null,null,null,null,null,null,null,null,null,null,null,null,null,null,null,null,null,null,null,null,null,null,{"$f":"HISTO!P623","v":0},{"$f":"IF(AC623=\"\",\"Zonard\",INDEX(AB624:AB$2008,MIN(IF(COUNTIF(AC$2:AC623,AB624:AB$2008),ROW(AB$2008)-ROW()+1,ROW(AB624:AB$2008)-ROW()+1))))","v":0},0]
[null,null,null,null,null,null,null,null,null,null,null,null,null,null,null,null,null,null,null,null,null,null,null,null,null,null,null,{"$f":"HISTO!P624","v":0},{"$f":"IF(AC624=\"\",\"Zonard\",INDEX(AB625:AB$2008,MIN(IF(COUNTIF(AC$2:AC624,AB625:AB$2008),ROW(AB$2008)-ROW()+1,ROW(AB625:AB$2008)-ROW()+1))))","v":0},0]
[null,null,null,null,null,null,null,null,null,null,null,null,null,null,null,null,null,null,null,null,null,null,null,null,null,null,null,{"$f":"HISTO!P625","v":0},{"$f":"IF(AC625=\"\",\"Zonard\",INDEX(AB626:AB$2008,MIN(IF(COUNTIF(AC$2:AC625,AB626:AB$2008),ROW(AB$2008)-ROW()+1,ROW(AB626:AB$2008)-ROW()+1))))","v":0},0]
[null,null,null,null,null,null,null,null,null,null,null,null,null,null,null,null,null,null,null,null,null,null,null,null,null,null,null,{"$f":"HISTO!P626","v":0},{"$f":"IF(AC626=\"\",\"Zonard\",INDEX(AB627:AB$2008,MIN(IF(COUNTIF(AC$2:AC626,AB627:AB$2008),ROW(AB$2008)-ROW()+1,ROW(AB627:AB$2008)-ROW()+1))))","v":0},0]
[null,null,null,null,null,null,null,null,null,null,null,null,null,null,null,null,null,null,null,null,null,null,null,null,null,null,null,{"$f":"HISTO!P627","v":0},{"$f":"IF(AC627=\"\",\"Zonard\",INDEX(AB628:AB$2008,MIN(IF(COUNTIF(AC$2:AC627,AB628:AB$2008),ROW(AB$2008)-ROW()+1,ROW(AB628:AB$2008)-ROW()+1))))","v":0},0]
[null,null,null,null,null,null,null,null,null,null,null,null,null,null,null,null,null,null,null,null,null,null,null,null,null,null,null,{"$f":"HISTO!P628","v":0},{"$f":"IF(AC628=\"\",\"Zonard\",INDEX(AB629:AB$2008,MIN(IF(COUNTIF(AC$2:AC628,AB629:AB$2008),ROW(AB$2008)-ROW()+1,ROW(AB629:AB$2008)-ROW()+1))))","v":0},0]
[null,null,null,null,null,null,null,null,null,null,null,null,null,null,null,null,null,null,null,null,null,null,null,null,null,null,null,{"$f":"HISTO!P629","v":0},{"$f":"IF(AC629=\"\",\"Zonard\",INDEX(AB630:AB$2008,MIN(IF(COUNTIF(AC$2:AC629,AB630:AB$2008),ROW(AB$2008)-ROW()+1,ROW(AB630:AB$2008)-ROW()+1))))","v":0},0]
[null,null,null,null,null,null,null,null,null,null,null,null,null,null,null,null,null,null,null,null,null,null,null,null,null,null,null,{"$f":"HISTO!P630","v":0},{"$f":"IF(AC630=\"\",\"Zonard\",INDEX(AB631:AB$2008,MIN(IF(COUNTIF(AC$2:AC630,AB631:AB$2008),ROW(AB$2008)-ROW()+1,ROW(AB631:AB$2008)-ROW()+1))))","v":0},0]
[null,null,null,null,null,null,null,null,null,null,null,null,null,null,null,null,null,null,null,null,null,null,null,null,null,null,null,{"$f":"HISTO!P631","v":0},{"$f":"IF(AC631=\"\",\"Zonard\",INDEX(AB632:AB$2008,MIN(IF(COUNTIF(AC$2:AC631,AB632:AB$2008),ROW(AB$2008)-ROW()+1,ROW(AB632:AB$2008)-ROW()+1))))","v":0},0]
[null,null,null,null,null,null,null,null,null,null,null,null,null,null,null,null,null,null,null,null,null,null,null,null,null,null,null,{"$f":"HISTO!P632","v":0},{"$f":"IF(AC632=\"\",\"Zonard\",INDEX(AB633:AB$2008,MIN(IF(COUNTIF(AC$2:AC632,AB633:AB$2008),ROW(AB$2008)-ROW()+1,ROW(AB633:AB$2008)-ROW()+1))))","v":0},0]
[null,null,null,null,null,null,null,null,null,null,null,null,null,null,null,null,null,null,null,null,null,null,null,null,null,null,null,{"$f":"HISTO!P633","v":0},{"$f":"IF(AC633=\"\",\"Zonard\",INDEX(AB634:AB$2008,MIN(IF(COUNTIF(AC$2:AC633,AB634:AB$2008),ROW(AB$2008)-ROW()+1,ROW(AB634:AB$2008)-ROW()+1))))","v":0},0]
[null,null,null,null,null,null,null,null,null,null,null,null,null,null,null,null,null,null,null,null,null,null,null,null,null,null,null,{"$f":"HISTO!P634","v":0},{"$f":"IF(AC634=\"\",\"Zonard\",INDEX(AB635:AB$2008,MIN(IF(COUNTIF(AC$2:AC634,AB635:AB$2008),ROW(AB$2008)-ROW()+1,ROW(AB635:AB$2008)-ROW()+1))))","v":0},0]
[null,null,null,null,null,null,null,null,null,null,null,null,null,null,null,null,null,null,null,null,null,null,null,null,null,null,null,{"$f":"HISTO!P635","v":0},{"$f":"IF(AC635=\"\",\"Zonard\",INDEX(AB636:AB$2008,MIN(IF(COUNTIF(AC$2:AC635,AB636:AB$2008),ROW(AB$2008)-ROW()+1,ROW(AB636:AB$2008)-ROW()+1))))","v":0},0]
[null,null,null,null,null,null,null,null,null,null,null,null,null,null,null,null,null,null,null,null,null,null,null,null,null,null,null,{"$f":"HISTO!P636","v":0},{"$f":"IF(AC636=\"\",\"Zonard\",INDEX(AB637:AB$2008,MIN(IF(COUNTIF(AC$2:AC636,AB637:AB$2008),ROW(AB$2008)-ROW()+1,ROW(AB637:AB$2008)-ROW()+1))))","v":0},0]
[null,null,null,null,null,null,null,null,null,null,null,null,null,null,null,null,null,null,null,null,null,null,null,null,null,null,null,{"$f":"HISTO!P637","v":0},{"$f":"IF(AC637=\"\",\"Zonard\",INDEX(AB638:AB$2008,MIN(IF(COUNTIF(AC$2:AC637,AB638:AB$2008),ROW(AB$2008)-ROW()+1,ROW(AB638:AB$2008)-ROW()+1))))","v":0},0]
[null,null,null,null,null,null,null,null,null,null,null,null,null,null,null,null,null,null,null,null,null,null,null,null,null,null,null,{"$f":"HISTO!P638","v":0},{"$f":"IF(AC638=\"\",\"Zonard\",INDEX(AB639:AB$2008,MIN(IF(COUNTIF(AC$2:AC638,AB639:AB$2008),ROW(AB$2008)-ROW()+1,ROW(AB639:AB$2008)-ROW()+1))))","v":0},0]
[null,null,null,null,null,null,null,null,null,null,null,null,null,null,null,null,null,null,null,null,null,null,null,null,null,null,null,{"$f":"HISTO!P639","v":0},{"$f":"IF(AC639=\"\",\"Zonard\",INDEX(AB640:AB$2008,MIN(IF(COUNTIF(AC$2:AC639,AB640:AB$2008),ROW(AB$2008)-ROW()+1,ROW(AB640:AB$2008)-ROW()+1))))","v":0},0]
[null,null,null,null,null,null,null,null,null,null,null,null,null,null,null,null,null,null,null,null,null,null,null,null,null,null,null,{"$f":"HISTO!P640","v":0},{"$f":"IF(AC640=\"\",\"Zonard\",INDEX(AB641:AB$2008,MIN(IF(COUNTIF(AC$2:AC640,AB641:AB$2008),ROW(AB$2008)-ROW()+1,ROW(AB641:AB$2008)-ROW()+1))))","v":0},0]
[null,null,null,null,null,null,null,null,null,null,null,null,null,null,null,null,null,null,null,null,null,null,null,null,null,null,null,{"$f":"HISTO!P641","v":0},{"$f":"IF(AC641=\"\",\"Zonard\",INDEX(AB642:AB$2008,MIN(IF(COUNTIF(AC$2:AC641,AB642:AB$2008),ROW(AB$2008)-ROW()+1,ROW(AB642:AB$2008)-ROW()+1))))","v":0},0]
[null,null,null,null,null,null,null,null,null,null,null,null,null,null,null,null,null,null,null,null,null,null,null,null,null,null,null,{"$f":"HISTO!P642","v":0},{"$f":"IF(AC642=\"\",\"Zonard\",INDEX(AB643:AB$2008,MIN(IF(COUNTIF(AC$2:AC642,AB643:AB$2008),ROW(AB$2008)-ROW()+1,ROW(AB643:AB$2008)-ROW()+1))))","v":0},0]
[null,null,null,null,null,null,null,null,null,null,null,null,null,null,null,null,null,null,null,null,null,null,null,null,null,null,null,{"$f":"HISTO!P643","v":0},{"$f":"IF(AC643=\"\",\"Zonard\",INDEX(AB644:AB$2008,MIN(IF(COUNTIF(AC$2:AC643,AB644:AB$2008),ROW(AB$2008)-ROW()+1,ROW(AB644:AB$2008)-ROW()+1))))","v":0},0]
[null,null,null,null,null,null,null,null,null,null,null,null,null,null,null,null,null,null,null,null,null,null,null,null,null,null,null,{"$f":"HISTO!P644","v":0},{"$f":"IF(AC644=\"\",\"Zonard\",INDEX(AB645:AB$2008,MIN(IF(COUNTIF(AC$2:AC644,AB645:AB$2008),ROW(AB$2008)-ROW()+1,ROW(AB645:AB$2008)-ROW()+1))))","v":0},0]
[null,null,null,null,null,null,null,null,null,null,null,null,null,null,null,null,null,null,null,null,null,null,null,null,null,null,null,{"$f":"HISTO!P645","v":0},{"$f":"IF(AC645=\"\",\"Zonard\",INDEX(AB646:AB$2008,MIN(IF(COUNTIF(AC$2:AC645,AB646:AB$2008),ROW(AB$2008)-ROW()+1,ROW(AB646:AB$2008)-ROW()+1))))","v":0},0]
[null,null,null,null,null,null,null,null,null,null,null,null,null,null,null,null,null,null,null,null,null,null,null,null,null,null,null,{"$f":"HISTO!P646","v":0},{"$f":"IF(AC646=\"\",\"Zonard\",INDEX(AB647:AB$2008,MIN(IF(COUNTIF(AC$2:AC646,AB647:AB$2008),ROW(AB$2008)-ROW()+1,ROW(AB647:AB$2008)-ROW()+1))))","v":0},0]
[null,null,null,null,null,null,null,null,null,null,null,null,null,null,null,null,null,null,null,null,null,null,null,null,null,null,null,{"$f":"HISTO!P647","v":0},{"$f":"IF(AC647=\"\",\"Zonard\",INDEX(AB648:AB$2008,MIN(IF(COUNTIF(AC$2:AC647,AB648:AB$2008),ROW(AB$2008)-ROW()+1,ROW(AB648:AB$2008)-ROW()+1))))","v":0},0]
[null,null,null,null,null,null,null,null,null,null,null,null,null,null,null,null,null,null,null,null,null,null,null,null,null,null,null,{"$f":"HISTO!P648","v":0},{"$f":"IF(AC648=\"\",\"Zonard\",INDEX(AB649:AB$2008,MIN(IF(COUNTIF(AC$2:AC648,AB649:AB$2008),ROW(AB$2008)-ROW()+1,ROW(AB649:AB$2008)-ROW()+1))))","v":0},0]
[null,null,null,null,null,null,null,null,null,null,null,null,null,null,null,null,null,null,null,null,null,null,null,null,null,null,null,{"$f":"HISTO!P649","v":0},{"$f":"IF(AC649=\"\",\"Zonard\",INDEX(AB650:AB$2008,MIN(IF(COUNTIF(AC$2:AC649,AB650:AB$2008),ROW(AB$2008)-ROW()+1,ROW(AB650:AB$2008)-ROW()+1))))","v":0},0]
[null,null,null,null,null,null,null,null,null,null,null,null,null,null,null,null,null,null,null,null,null,null,null,null,null,null,null,{"$f":"HISTO!P650","v":0},{"$f":"IF(AC650=\"\",\"Zonard\",INDEX(AB651:AB$2008,MIN(IF(COUNTIF(AC$2:AC650,AB651:AB$2008),ROW(AB$2008)-ROW()+1,ROW(AB651:AB$2008)-ROW()+1))))","v":0},0]
[null,null,null,null,null,null,null,null,null,null,null,null,null,null,null,null,null,null,null,null,null,null,null,null,null,null,null,{"$f":"HISTO!P651","v":0},{"$f":"IF(AC651=\"\",\"Zonard\",INDEX(AB652:AB$2008,MIN(IF(COUNTIF(AC$2:AC651,AB652:AB$2008),ROW(AB$2008)-ROW()+1,ROW(AB652:AB$2008)-ROW()+1))))","v":0},0]
[null,null,null,null,null,null,null,null,null,null,null,null,null,null,null,null,null,null,null,null,null,null,null,null,null,null,null,{"$f":"HISTO!P652","v":0},{"$f":"IF(AC652=\"\",\"Zonard\",INDEX(AB653:AB$2008,MIN(IF(COUNTIF(AC$2:AC652,AB653:AB$2008),ROW(AB$2008)-ROW()+1,ROW(AB653:AB$2008)-ROW()+1))))","v":0},0]
[null,null,null,null,null,null,null,null,null,null,null,null,null,null,null,null,null,null,null,null,null,null,null,null,null,null,null,{"$f":"HISTO!P653","v":0},{"$f":"IF(AC653=\"\",\"Zonard\",INDEX(AB654:AB$2008,MIN(IF(COUNTIF(AC$2:AC653,AB654:AB$2008),ROW(AB$2008)-ROW()+1,ROW(AB654:AB$2008)-ROW()+1))))","v":0},0]
[null,null,null,null,null,null,null,null,null,null,null,null,null,null,null,null,null,null,null,null,null,null,null,null,null,null,null,{"$f":"HISTO!P654","v":0},{"$f":"IF(AC654=\"\",\"Zonard\",INDEX(AB655:AB$2008,MIN(IF(COUNTIF(AC$2:AC654,AB655:AB$2008),ROW(AB$2008)-ROW()+1,ROW(AB655:AB$2008)-ROW()+1))))","v":0},0]
[null,null,null,null,null,null,null,null,null,null,null,null,null,null,null,null,null,null,null,null,null,null,null,null,null,null,null,{"$f":"HISTO!P655","v":0},{"$f":"IF(AC655=\"\",\"Zonard\",INDEX(AB656:AB$2008,MIN(IF(COUNTIF(AC$2:AC655,AB656:AB$2008),ROW(AB$2008)-ROW()+1,ROW(AB656:AB$2008)-ROW()+1))))","v":0},0]
[null,null,null,null,null,null,null,null,null,null,null,null,null,null,null,null,null,null,null,null,null,null,null,null,null,null,null,{"$f":"HISTO!P656","v":0},{"$f":"IF(AC656=\"\",\"Zonard\",INDEX(AB657:AB$2008,MIN(IF(COUNTIF(AC$2:AC656,AB657:AB$2008),ROW(AB$2008)-ROW()+1,ROW(AB657:AB$2008)-ROW()+1))))","v":0},0]
[null,null,null,null,null,null,null,null,null,null,null,null,null,null,null,null,null,null,null,null,null,null,null,null,null,null,null,{"$f":"HISTO!P657","v":0},{"$f":"IF(AC657=\"\",\"Zonard\",INDEX(AB658:AB$2008,MIN(IF(COUNTIF(AC$2:AC657,AB658:AB$2008),ROW(AB$2008)-ROW()+1,ROW(AB658:AB$2008)-ROW()+1))))","v":0},0]
[null,null,null,null,null,null,null,null,null,null,null,null,null,null,null,null,null,null,null,null,null,null,null,null,null,null,null,{"$f":"HISTO!P658","v":0},{"$f":"IF(AC658=\"\",\"Zonard\",INDEX(AB659:AB$2008,MIN(IF(COUNTIF(AC$2:AC658,AB659:AB$2008),ROW(AB$2008)-ROW()+1,ROW(AB659:AB$2008)-ROW()+1))))","v":0},0]
[null,null,null,null,null,null,null,null,null,null,null,null,null,null,null,null,null,null,null,null,null,null,null,null,null,null,null,{"$f":"HISTO!P659","v":0},{"$f":"IF(AC659=\"\",\"Zonard\",INDEX(AB660:AB$2008,MIN(IF(COUNTIF(AC$2:AC659,AB660:AB$2008),ROW(AB$2008)-ROW()+1,ROW(AB660:AB$2008)-ROW()+1))))","v":0},0]
[null,null,null,null,null,null,null,null,null,null,null,null,null,null,null,null,null,null,null,null,null,null,null,null,null,null,null,{"$f":"HISTO!P660","v":0},{"$f":"IF(AC660=\"\",\"Zonard\",INDEX(AB661:AB$2008,MIN(IF(COUNTIF(AC$2:AC660,AB661:AB$2008),ROW(AB$2008)-ROW()+1,ROW(AB661:AB$2008)-ROW()+1))))","v":0},0]
[null,null,null,null,null,null,null,null,null,null,null,null,null,null,null,null,null,null,null,null,null,null,null,null,null,null,null,{"$f":"HISTO!P661","v":0},{"$f":"IF(AC661=\"\",\"Zonard\",INDEX(AB662:AB$2008,MIN(IF(COUNTIF(AC$2:AC661,AB662:AB$2008),ROW(AB$2008)-ROW()+1,ROW(AB662:AB$2008)-ROW()+1))))","v":0},0]
[null,null,null,null,null,null,null,null,null,null,null,null,null,null,null,null,null,null,null,null,null,null,null,null,null,null,null,{"$f":"HISTO!P662","v":0},{"$f":"IF(AC662=\"\",\"Zonard\",INDEX(AB663:AB$2008,MIN(IF(COUNTIF(AC$2:AC662,AB663:AB$2008),ROW(AB$2008)-ROW()+1,ROW(AB663:AB$2008)-ROW()+1))))","v":0},0]
[null,null,null,null,null,null,null,null,null,null,null,null,null,null,null,null,null,null,null,null,null,null,null,null,null,null,null,{"$f":"HISTO!P663","v":0},{"$f":"IF(AC663=\"\",\"Zonard\",INDEX(AB664:AB$2008,MIN(IF(COUNTIF(AC$2:AC663,AB664:AB$2008),ROW(AB$2008)-ROW()+1,ROW(AB664:AB$2008)-ROW()+1))))","v":0},0]
[null,null,null,null,null,null,null,null,null,null,null,null,null,null,null,null,null,null,null,null,null,null,null,null,null,null,null,{"$f":"HISTO!P664","v":0},{"$f":"IF(AC664=\"\",\"Zonard\",INDEX(AB665:AB$2008,MIN(IF(COUNTIF(AC$2:AC664,AB665:AB$2008),ROW(AB$2008)-ROW()+1,ROW(AB665:AB$2008)-ROW()+1))))","v":0},0]
[null,null,null,null,null,null,null,null,null,null,null,null,null,null,null,null,null,null,null,null,null,null,null,null,null,null,null,{"$f":"HISTO!P665","v":0},{"$f":"IF(AC665=\"\",\"Zonard\",INDEX(AB666:AB$2008,MIN(IF(COUNTIF(AC$2:AC665,AB666:AB$2008),ROW(AB$2008)-ROW()+1,ROW(AB666:AB$2008)-ROW()+1))))","v":0},0]
[null,null,null,null,null,null,null,null,null,null,null,null,null,null,null,null,null,null,null,null,null,null,null,null,null,null,null,{"$f":"HISTO!P666","v":0},{"$f":"IF(AC666=\"\",\"Zonard\",INDEX(AB667:AB$2008,MIN(IF(COUNTIF(AC$2:AC666,AB667:AB$2008),ROW(AB$2008)-ROW()+1,ROW(AB667:AB$2008)-ROW()+1))))","v":0},0]
[null,null,null,null,null,null,null,null,null,null,null,null,null,null,null,null,null,null,null,null,null,null,null,null,null,null,null,{"$f":"HISTO!P667","v":0},{"$f":"IF(AC667=\"\",\"Zonard\",INDEX(AB668:AB$2008,MIN(IF(COUNTIF(AC$2:AC667,AB668:AB$2008),ROW(AB$2008)-ROW()+1,ROW(AB668:AB$2008)-ROW()+1))))","v":0},0]
[null,null,null,null,null,null,null,null,null,null,null,null,null,null,null,null,null,null,null,null,null,null,null,null,null,null,null,{"$f":"HISTO!P668","v":0},{"$f":"IF(AC668=\"\",\"Zonard\",INDEX(AB669:AB$2008,MIN(IF(COUNTIF(AC$2:AC668,AB669:AB$2008),ROW(AB$2008)-ROW()+1,ROW(AB669:AB$2008)-ROW()+1))))","v":0},0]
[null,null,null,null,null,null,null,null,null,null,null,null,null,null,null,null,null,null,null,null,null,null,null,null,null,null,null,{"$f":"HISTO!P669","v":0},{"$f":"IF(AC669=\"\",\"Zonard\",INDEX(AB670:AB$2008,MIN(IF(COUNTIF(AC$2:AC669,AB670:AB$2008),ROW(AB$2008)-ROW()+1,ROW(AB670:AB$2008)-ROW()+1))))","v":0},0]
[null,null,null,null,null,null,null,null,null,null,null,null,null,null,null,null,null,null,null,null,null,null,null,null,null,null,null,{"$f":"HISTO!P670","v":0},{"$f":"IF(AC670=\"\",\"Zonard\",INDEX(AB671:AB$2008,MIN(IF(COUNTIF(AC$2:AC670,AB671:AB$2008),ROW(AB$2008)-ROW()+1,ROW(AB671:AB$2008)-ROW()+1))))","v":0},0]
[null,null,null,null,null,null,null,null,null,null,null,null,null,null,null,null,null,null,null,null,null,null,null,null,null,null,null,{"$f":"HISTO!P671","v":0},{"$f":"IF(AC671=\"\",\"Zonard\",INDEX(AB672:AB$2008,MIN(IF(COUNTIF(AC$2:AC671,AB672:AB$2008),ROW(AB$2008)-ROW()+1,ROW(AB672:AB$2008)-ROW()+1))))","v":0},0]
[null,null,null,null,null,null,null,null,null,null,null,null,null,null,null,null,null,null,null,null,null,null,null,null,null,null,null,{"$f":"HISTO!P672","v":0},{"$f":"IF(AC672=\"\",\"Zonard\",INDEX(AB673:AB$2008,MIN(IF(COUNTIF(AC$2:AC672,AB673:AB$2008),ROW(AB$2008)-ROW()+1,ROW(AB673:AB$2008)-ROW()+1))))","v":0},0]
[null,null,null,null,null,null,null,null,null,null,null,null,null,null,null,null,null,null,null,null,null,null,null,null,null,null,null,{"$f":"HISTO!P673","v":0},{"$f":"IF(AC673=\"\",\"Zonard\",INDEX(AB674:AB$2008,MIN(IF(COUNTIF(AC$2:AC673,AB674:AB$2008),ROW(AB$2008)-ROW()+1,ROW(AB674:AB$2008)-ROW()+1))))","v":0},0]
[null,null,null,null,null,null,null,null,null,null,null,null,null,null,null,null,null,null,null,null,null,null,null,null,null,null,null,{"$f":"HISTO!P674","v":0},{"$f":"IF(AC674=\"\",\"Zonard\",INDEX(AB675:AB$2008,MIN(IF(COUNTIF(AC$2:AC674,AB675:AB$2008),ROW(AB$2008)-ROW()+1,ROW(AB675:AB$2008)-ROW()+1))))","v":0},0]
[null,null,null,null,null,null,null,null,null,null,null,null,null,null,null,null,null,null,null,null,null,null,null,null,null,null,null,{"$f":"HISTO!P675","v":0},{"$f":"IF(AC675=\"\",\"Zonard\",INDEX(AB676:AB$2008,MIN(IF(COUNTIF(AC$2:AC675,AB676:AB$2008),ROW(AB$2008)-ROW()+1,ROW(AB676:AB$2008)-ROW()+1))))","v":0},0]
[null,null,null,null,null,null,null,null,null,null,null,null,null,null,null,null,null,null,null,null,null,null,null,null,null,null,null,{"$f":"HISTO!P676","v":0},{"$f":"IF(AC676=\"\",\"Zonard\",INDEX(AB677:AB$2008,MIN(IF(COUNTIF(AC$2:AC676,AB677:AB$2008),ROW(AB$2008)-ROW()+1,ROW(AB677:AB$2008)-ROW()+1))))","v":0},0]
[null,null,null,null,null,null,null,null,null,null,null,null,null,null,null,null,null,null,null,null,null,null,null,null,null,null,null,{"$f":"HISTO!P677","v":0},{"$f":"IF(AC677=\"\",\"Zonard\",INDEX(AB678:AB$2008,MIN(IF(COUNTIF(AC$2:AC677,AB678:AB$2008),ROW(AB$2008)-ROW()+1,ROW(AB678:AB$2008)-ROW()+1))))","v":0},0]
[null,null,null,null,null,null,null,null,null,null,null,null,null,null,null,null,null,null,null,null,null,null,null,null,null,null,null,{"$f":"HISTO!P678","v":0},{"$f":"IF(AC678=\"\",\"Zonard\",INDEX(AB679:AB$2008,MIN(IF(COUNTIF(AC$2:AC678,AB679:AB$2008),ROW(AB$2008)-ROW()+1,ROW(AB679:AB$2008)-ROW()+1))))","v":0},0]
[null,null,null,null,null,null,null,null,null,null,null,null,null,null,null,null,null,null,null,null,null,null,null,null,null,null,null,{"$f":"HISTO!P679","v":0},{"$f":"IF(AC679=\"\",\"Zonard\",INDEX(AB680:AB$2008,MIN(IF(COUNTIF(AC$2:AC679,AB680:AB$2008),ROW(AB$2008)-ROW()+1,ROW(AB680:AB$2008)-ROW()+1))))","v":0},0]
[null,null,null,null,null,null,null,null,null,null,null,null,null,null,null,null,null,null,null,null,null,null,null,null,null,null,null,{"$f":"HISTO!P680","v":0},{"$f":"IF(AC680=\"\",\"Zonard\",INDEX(AB681:AB$2008,MIN(IF(COUNTIF(AC$2:AC680,AB681:AB$2008),ROW(AB$2008)-ROW()+1,ROW(AB681:AB$2008)-ROW()+1))))","v":0},0]
[null,null,null,null,null,null,null,null,null,null,null,null,null,null,null,null,null,null,null,null,null,null,null,null,null,null,null,{"$f":"HISTO!P681","v":0},{"$f":"IF(AC681=\"\",\"Zonard\",INDEX(AB682:AB$2008,MIN(IF(COUNTIF(AC$2:AC681,AB682:AB$2008),ROW(AB$2008)-ROW()+1,ROW(AB682:AB$2008)-ROW()+1))))","v":0},0]
[null,null,null,null,null,null,null,null,null,null,null,null,null,null,null,null,null,null,null,null,null,null,null,null,null,null,null,{"$f":"HISTO!P682","v":0},{"$f":"IF(AC682=\"\",\"Zonard\",INDEX(AB683:AB$2008,MIN(IF(COUNTIF(AC$2:AC682,AB683:AB$2008),ROW(AB$2008)-ROW()+1,ROW(AB683:AB$2008)-ROW()+1))))","v":0},0]
[null,null,null,null,null,null,null,null,null,null,null,null,null,null,null,null,null,null,null,null,null,null,null,null,null,null,null,{"$f":"HISTO!P683","v":0},{"$f":"IF(AC683=\"\",\"Zonard\",INDEX(AB684:AB$2008,MIN(IF(COUNTIF(AC$2:AC683,AB684:AB$2008),ROW(AB$2008)-ROW()+1,ROW(AB684:AB$2008)-ROW()+1))))","v":0},0]
[null,null,null,null,null,null,null,null,null,null,null,null,null,null,null,null,null,null,null,null,null,null,null,null,null,null,null,{"$f":"HISTO!P684","v":0},{"$f":"IF(AC684=\"\",\"Zonard\",INDEX(AB685:AB$2008,MIN(IF(COUNTIF(AC$2:AC684,AB685:AB$2008),ROW(AB$2008)-ROW()+1,ROW(AB685:AB$2008)-ROW()+1))))","v":0},0]
[null,null,null,null,null,null,null,null,null,null,null,null,null,null,null,null,null,null,null,null,null,null,null,null,null,null,null,{"$f":"HISTO!P685","v":0},{"$f":"IF(AC685=\"\",\"Zonard\",INDEX(AB686:AB$2008,MIN(IF(COUNTIF(AC$2:AC685,AB686:AB$2008),ROW(AB$2008)-ROW()+1,ROW(AB686:AB$2008)-ROW()+1))))","v":0},0]
[null,null,null,null,null,null,null,null,null,null,null,null,null,null,null,null,null,null,null,null,null,null,null,null,null,null,null,{"$f":"HISTO!P686","v":0},{"$f":"IF(AC686=\"\",\"Zonard\",INDEX(AB687:AB$2008,MIN(IF(COUNTIF(AC$2:AC686,AB687:AB$2008),ROW(AB$2008)-ROW()+1,ROW(AB687:AB$2008)-ROW()+1))))","v":0},0]
[null,null,null,null,null,null,null,null,null,null,null,null,null,null,null,null,null,null,null,null,null,null,null,null,null,null,null,{"$f":"HISTO!P687","v":0},{"$f":"IF(AC687=\"\",\"Zonard\",INDEX(AB688:AB$2008,MIN(IF(COUNTIF(AC$2:AC687,AB688:AB$2008),ROW(AB$2008)-ROW()+1,ROW(AB688:AB$2008)-ROW()+1))))","v":0},0]
[null,null,null,null,null,null,null,null,null,null,null,null,null,null,null,null,null,null,null,null,null,null,null,null,null,null,null,{"$f":"HISTO!P688","v":0},{"$f":"IF(AC688=\"\",\"Zonard\",INDEX(AB689:AB$2008,MIN(IF(COUNTIF(AC$2:AC688,AB689:AB$2008),ROW(AB$2008)-ROW()+1,ROW(AB689:AB$2008)-ROW()+1))))","v":0},0]
[null,null,null,null,null,null,null,null,null,null,null,null,null,null,null,null,null,null,null,null,null,null,null,null,null,null,null,{"$f":"HISTO!P689","v":0},{"$f":"IF(AC689=\"\",\"Zonard\",INDEX(AB690:AB$2008,MIN(IF(COUNTIF(AC$2:AC689,AB690:AB$2008),ROW(AB$2008)-ROW()+1,ROW(AB690:AB$2008)-ROW()+1))))","v":0},0]
[null,null,null,null,null,null,null,null,null,null,null,null,null,null,null,null,null,null,null,null,null,null,null,null,null,null,null,{"$f":"HISTO!P690","v":0},{"$f":"IF(AC690=\"\",\"Zonard\",INDEX(AB691:AB$2008,MIN(IF(COUNTIF(AC$2:AC690,AB691:AB$2008),ROW(AB$2008)-ROW()+1,ROW(AB691:AB$2008)-ROW()+1))))","v":0},0]
[null,null,null,null,null,null,null,null,null,null,null,null,null,null,null,null,null,null,null,null,null,null,null,null,null,null,null,{"$f":"HISTO!P691","v":0},{"$f":"IF(AC691=\"\",\"Zonard\",INDEX(AB692:AB$2008,MIN(IF(COUNTIF(AC$2:AC691,AB692:AB$2008),ROW(AB$2008)-ROW()+1,ROW(AB692:AB$2008)-ROW()+1))))","v":0},0]
[null,null,null,null,null,null,null,null,null,null,null,null,null,null,null,null,null,null,null,null,null,null,null,null,null,null,null,{"$f":"HISTO!P692","v":0},{"$f":"IF(AC692=\"\",\"Zonard\",INDEX(AB693:AB$2008,MIN(IF(COUNTIF(AC$2:AC692,AB693:AB$2008),ROW(AB$2008)-ROW()+1,ROW(AB693:AB$2008)-ROW()+1))))","v":0},0]
[null,null,null,null,null,null,null,null,null,null,null,null,null,null,null,null,null,null,null,null,null,null,null,null,null,null,null,{"$f":"HISTO!P693","v":0},{"$f":"IF(AC693=\"\",\"Zonard\",INDEX(AB694:AB$2008,MIN(IF(COUNTIF(AC$2:AC693,AB694:AB$2008),ROW(AB$2008)-ROW()+1,ROW(AB694:AB$2008)-ROW()+1))))","v":0},0]
[null,null,null,null,null,null,null,null,null,null,null,null,null,null,null,null,null,null,null,null,null,null,null,null,null,null,null,{"$f":"HISTO!P694","v":0},{"$f":"IF(AC694=\"\",\"Zonard\",INDEX(AB695:AB$2008,MIN(IF(COUNTIF(AC$2:AC694,AB695:AB$2008),ROW(AB$2008)-ROW()+1,ROW(AB695:AB$2008)-ROW()+1))))","v":0},0]
[null,null,null,null,null,null,null,null,null,null,null,null,null,null,null,null,null,null,null,null,null,null,null,null,null,null,null,{"$f":"HISTO!P695","v":0},{"$f":"IF(AC695=\"\",\"Zonard\",INDEX(AB696:AB$2008,MIN(IF(COUNTIF(AC$2:AC695,AB696:AB$2008),ROW(AB$2008)-ROW()+1,ROW(AB696:AB$2008)-ROW()+1))))","v":0},0]
[null,null,null,null,null,null,null,null,null,null,null,null,null,null,null,null,null,null,null,null,null,null,null,null,null,null,null,{"$f":"HISTO!P696","v":0},{"$f":"IF(AC696=\"\",\"Zonard\",INDEX(AB697:AB$2008,MIN(IF(COUNTIF(AC$2:AC696,AB697:AB$2008),ROW(AB$2008)-ROW()+1,ROW(AB697:AB$2008)-ROW()+1))))","v":0},0]
[null,null,null,null,null,null,null,null,null,null,null,null,null,null,null,null,null,null,null,null,null,null,null,null,null,null,null,{"$f":"HISTO!P697","v":0},{"$f":"IF(AC697=\"\",\"Zonard\",INDEX(AB698:AB$2008,MIN(IF(COUNTIF(AC$2:AC697,AB698:AB$2008),ROW(AB$2008)-ROW()+1,ROW(AB698:AB$2008)-ROW()+1))))","v":0},0]
[null,null,null,null,null,null,null,null,null,null,null,null,null,null,null,null,null,null,null,null,null,null,null,null,null,null,null,{"$f":"HISTO!P698","v":0},{"$f":"IF(AC698=\"\",\"Zonard\",INDEX(AB699:AB$2008,MIN(IF(COUNTIF(AC$2:AC698,AB699:AB$2008),ROW(AB$2008)-ROW()+1,ROW(AB699:AB$2008)-ROW()+1))))","v":0},0]
[null,null,null,null,null,null,null,null,null,null,null,null,null,null,null,null,null,null,null,null,null,null,null,null,null,null,null,{"$f":"HISTO!P699","v":0},{"$f":"IF(AC699=\"\",\"Zonard\",INDEX(AB700:AB$2008,MIN(IF(COUNTIF(AC$2:AC699,AB700:AB$2008),ROW(AB$2008)-ROW()+1,ROW(AB700:AB$2008)-ROW()+1))))","v":0},0]
[null,null,null,null,null,null,null,null,null,null,null,null,null,null,null,null,null,null,null,null,null,null,null,null,null,null,null,{"$f":"HISTO!P700","v":0},{"$f":"IF(AC700=\"\",\"Zonard\",INDEX(AB701:AB$2008,MIN(IF(COUNTIF(AC$2:AC700,AB701:AB$2008),ROW(AB$2008)-ROW()+1,ROW(AB701:AB$2008)-ROW()+1))))","v":0},0]
[null,null,null,null,null,null,null,null,null,null,null,null,null,null,null,null,null,null,null,null,null,null,null,null,null,null,null,{"$f":"HISTO!P701","v":0},{"$f":"IF(AC701=\"\",\"Zonard\",INDEX(AB702:AB$2008,MIN(IF(COUNTIF(AC$2:AC701,AB702:AB$2008),ROW(AB$2008)-ROW()+1,ROW(AB702:AB$2008)-ROW()+1))))","v":0},0]
[null,null,null,null,null,null,null,null,null,null,null,null,null,null,null,null,null,null,null,null,null,null,null,null,null,null,null,{"$f":"HISTO!P702","v":0},{"$f":"IF(AC702=\"\",\"Zonard\",INDEX(AB703:AB$2008,MIN(IF(COUNTIF(AC$2:AC702,AB703:AB$2008),ROW(AB$2008)-ROW()+1,ROW(AB703:AB$2008)-ROW()+1))))","v":0},0]
[null,null,null,null,null,null,null,null,null,null,null,null,null,null,null,null,null,null,null,null,null,null,null,null,null,null,null,{"$f":"HISTO!P703","v":0},{"$f":"IF(AC703=\"\",\"Zonard\",INDEX(AB704:AB$2008,MIN(IF(COUNTIF(AC$2:AC703,AB704:AB$2008),ROW(AB$2008)-ROW()+1,ROW(AB704:AB$2008)-ROW()+1))))","v":0},0]
[null,null,null,null,null,null,null,null,null,null,null,null,null,null,null,null,null,null,null,null,null,null,null,null,null,null,null,{"$f":"HISTO!P704","v":0},{"$f":"IF(AC704=\"\",\"Zonard\",INDEX(AB705:AB$2008,MIN(IF(COUNTIF(AC$2:AC704,AB705:AB$2008),ROW(AB$2008)-ROW()+1,ROW(AB705:AB$2008)-ROW()+1))))","v":0},0]
[null,null,null,null,null,null,null,null,null,null,null,null,null,null,null,null,null,null,null,null,null,null,null,null,null,null,null,{"$f":"HISTO!P705","v":0},{"$f":"IF(AC705=\"\",\"Zonard\",INDEX(AB706:AB$2008,MIN(IF(COUNTIF(AC$2:AC705,AB706:AB$2008),ROW(AB$2008)-ROW()+1,ROW(AB706:AB$2008)-ROW()+1))))","v":0},0]
[null,null,null,null,null,null,null,null,null,null,null,null,null,null,null,null,null,null,null,null,null,null,null,null,null,null,null,{"$f":"HISTO!P706","v":0},{"$f":"IF(AC706=\"\",\"Zonard\",INDEX(AB707:AB$2008,MIN(IF(COUNTIF(AC$2:AC706,AB707:AB$2008),ROW(AB$2008)-ROW()+1,ROW(AB707:AB$2008)-ROW()+1))))","v":0},0]
[null,null,null,null,null,null,null,null,null,null,null,null,null,null,null,null,null,null,null,null,null,null,null,null,null,null,null,{"$f":"HISTO!P707","v":0},{"$f":"IF(AC707=\"\",\"Zonard\",INDEX(AB708:AB$2008,MIN(IF(COUNTIF(AC$2:AC707,AB708:AB$2008),ROW(AB$2008)-ROW()+1,ROW(AB708:AB$2008)-ROW()+1))))","v":0},0]
[null,null,null,null,null,null,null,null,null,null,null,null,null,null,null,null,null,null,null,null,null,null,null,null,null,null,null,{"$f":"HISTO!P708","v":0},{"$f":"IF(AC708=\"\",\"Zonard\",INDEX(AB709:AB$2008,MIN(IF(COUNTIF(AC$2:AC708,AB709:AB$2008),ROW(AB$2008)-ROW()+1,ROW(AB709:AB$2008)-ROW()+1))))","v":0},0]
[null,null,null,null,null,null,null,null,null,null,null,null,null,null,null,null,null,null,null,null,null,null,null,null,null,null,null,{"$f":"HISTO!P709","v":0},{"$f":"IF(AC709=\"\",\"Zonard\",INDEX(AB710:AB$2008,MIN(IF(COUNTIF(AC$2:AC709,AB710:AB$2008),ROW(AB$2008)-ROW()+1,ROW(AB710:AB$2008)-ROW()+1))))","v":0},0]
[null,null,null,null,null,null,null,null,null,null,null,null,null,null,null,null,null,null,null,null,null,null,null,null,null,null,null,{"$f":"HISTO!P710","v":0},{"$f":"IF(AC710=\"\",\"Zonard\",INDEX(AB711:AB$2008,MIN(IF(COUNTIF(AC$2:AC710,AB711:AB$2008),ROW(AB$2008)-ROW()+1,ROW(AB711:AB$2008)-ROW()+1))))","v":0},0]
[null,null,null,null,null,null,null,null,null,null,null,null,null,null,null,null,null,null,null,null,null,null,null,null,null,null,null,{"$f":"HISTO!P711","v":0},{"$f":"IF(AC711=\"\",\"Zonard\",INDEX(AB712:AB$2008,MIN(IF(COUNTIF(AC$2:AC711,AB712:AB$2008),ROW(AB$2008)-ROW()+1,ROW(AB712:AB$2008)-ROW()+1))))","v":0},0]
[null,null,null,null,null,null,null,null,null,null,null,null,null,null,null,null,null,null,null,null,null,null,null,null,null,null,null,{"$f":"HISTO!P712","v":0},{"$f":"IF(AC712=\"\",\"Zonard\",INDEX(AB713:AB$2008,MIN(IF(COUNTIF(AC$2:AC712,AB713:AB$2008),ROW(AB$2008)-ROW()+1,ROW(AB713:AB$2008)-ROW()+1))))","v":0},0]
[null,null,null,null,null,null,null,null,null,null,null,null,null,null,null,null,null,null,null,null,null,null,null,null,null,null,null,{"$f":"HISTO!P713","v":0},{"$f":"IF(AC713=\"\",\"Zonard\",INDEX(AB714:AB$2008,MIN(IF(COUNTIF(AC$2:AC713,AB714:AB$2008),ROW(AB$2008)-ROW()+1,ROW(AB714:AB$2008)-ROW()+1))))","v":0},0]
[null,null,null,null,null,null,null,null,null,null,null,null,null,null,null,null,null,null,null,null,null,null,null,null,null,null,null,{"$f":"HISTO!P714","v":0},{"$f":"IF(AC714=\"\",\"Zonard\",INDEX(AB715:AB$2008,MIN(IF(COUNTIF(AC$2:AC714,AB715:AB$2008),ROW(AB$2008)-ROW()+1,ROW(AB715:AB$2008)-ROW()+1))))","v":0},0]
[null,null,null,null,null,null,null,null,null,null,null,null,null,null,null,null,null,null,null,null,null,null,null,null,null,null,null,{"$f":"HISTO!P715","v":0},{"$f":"IF(AC715=\"\",\"Zonard\",INDEX(AB716:AB$2008,MIN(IF(COUNTIF(AC$2:AC715,AB716:AB$2008),ROW(AB$2008)-ROW()+1,ROW(AB716:AB$2008)-ROW()+1))))","v":0},0]
[null,null,null,null,null,null,null,null,null,null,null,null,null,null,null,null,null,null,null,null,null,null,null,null,null,null,null,{"$f":"HISTO!P716","v":0},{"$f":"IF(AC716=\"\",\"Zonard\",INDEX(AB717:AB$2008,MIN(IF(COUNTIF(AC$2:AC716,AB717:AB$2008),ROW(AB$2008)-ROW()+1,ROW(AB717:AB$2008)-ROW()+1))))","v":0},0]
[null,null,null,null,null,null,null,null,null,null,null,null,null,null,null,null,null,null,null,null,null,null,null,null,null,null,null,{"$f":"HISTO!P717","v":0},{"$f":"IF(AC717=\"\",\"Zonard\",INDEX(AB718:AB$2008,MIN(IF(COUNTIF(AC$2:AC717,AB718:AB$2008),ROW(AB$2008)-ROW()+1,ROW(AB718:AB$2008)-ROW()+1))))","v":0},0]
[null,null,null,null,null,null,null,null,null,null,null,null,null,null,null,null,null,null,null,null,null,null,null,null,null,null,null,{"$f":"HISTO!P718","v":0},{"$f":"IF(AC718=\"\",\"Zonard\",INDEX(AB719:AB$2008,MIN(IF(COUNTIF(AC$2:AC718,AB719:AB$2008),ROW(AB$2008)-ROW()+1,ROW(AB719:AB$2008)-ROW()+1))))","v":0},0]
[null,null,null,null,null,null,null,null,null,null,null,null,null,null,null,null,null,null,null,null,null,null,null,null,null,null,null,{"$f":"HISTO!P719","v":0},{"$f":"IF(AC719=\"\",\"Zonard\",INDEX(AB720:AB$2008,MIN(IF(COUNTIF(AC$2:AC719,AB720:AB$2008),ROW(AB$2008)-ROW()+1,ROW(AB720:AB$2008)-ROW()+1))))","v":0},0]
[null,null,null,null,null,null,null,null,null,null,null,null,null,null,null,null,null,null,null,null,null,null,null,null,null,null,null,{"$f":"HISTO!P720","v":0},{"$f":"IF(AC720=\"\",\"Zonard\",INDEX(AB721:AB$2008,MIN(IF(COUNTIF(AC$2:AC720,AB721:AB$2008),ROW(AB$2008)-ROW()+1,ROW(AB721:AB$2008)-ROW()+1))))","v":0},0]
[null,null,null,null,null,null,null,null,null,null,null,null,null,null,null,null,null,null,null,null,null,null,null,null,null,null,null,{"$f":"HISTO!P721","v":0},{"$f":"IF(AC721=\"\",\"Zonard\",INDEX(AB722:AB$2008,MIN(IF(COUNTIF(AC$2:AC721,AB722:AB$2008),ROW(AB$2008)-ROW()+1,ROW(AB722:AB$2008)-ROW()+1))))","v":0},0]
[null,null,null,null,null,null,null,null,null,null,null,null,null,null,null,null,null,null,null,null,null,null,null,null,null,null,null,{"$f":"HISTO!P722","v":0},{"$f":"IF(AC722=\"\",\"Zonard\",INDEX(AB723:AB$2008,MIN(IF(COUNTIF(AC$2:AC722,AB723:AB$2008),ROW(AB$2008)-ROW()+1,ROW(AB723:AB$2008)-ROW()+1))))","v":0},0]
[null,null,null,null,null,null,null,null,null,null,null,null,null,null,null,null,null,null,null,null,null,null,null,null,null,null,null,{"$f":"HISTO!P723","v":0},{"$f":"IF(AC723=\"\",\"Zonard\",INDEX(AB724:AB$2008,MIN(IF(COUNTIF(AC$2:AC723,AB724:AB$2008),ROW(AB$2008)-ROW()+1,ROW(AB724:AB$2008)-ROW()+1))))","v":0},0]
[null,null,null,null,null,null,null,null,null,null,null,null,null,null,null,null,null,null,null,null,null,null,null,null,null,null,null,{"$f":"HISTO!P724","v":0},{"$f":"IF(AC724=\"\",\"Zonard\",INDEX(AB725:AB$2008,MIN(IF(COUNTIF(AC$2:AC724,AB725:AB$2008),ROW(AB$2008)-ROW()+1,ROW(AB725:AB$2008)-ROW()+1))))","v":0},0]
[null,null,null,null,null,null,null,null,null,null,null,null,null,null,null,null,null,null,null,null,null,null,null,null,null,null,null,{"$f":"HISTO!P725","v":0},{"$f":"IF(AC725=\"\",\"Zonard\",INDEX(AB726:AB$2008,MIN(IF(COUNTIF(AC$2:AC725,AB726:AB$2008),ROW(AB$2008)-ROW()+1,ROW(AB726:AB$2008)-ROW()+1))))","v":0},0]
[null,null,null,null,null,null,null,null,null,null,null,null,null,null,null,null,null,null,null,null,null,null,null,null,null,null,null,{"$f":"HISTO!P726","v":0},{"$f":"IF(AC726=\"\",\"Zonard\",INDEX(AB727:AB$2008,MIN(IF(COUNTIF(AC$2:AC726,AB727:AB$2008),ROW(AB$2008)-ROW()+1,ROW(AB727:AB$2008)-ROW()+1))))","v":0},0]
[null,null,null,null,null,null,null,null,null,null,null,null,null,null,null,null,null,null,null,null,null,null,null,null,null,null,null,{"$f":"HISTO!P727","v":0},{"$f":"IF(AC727=\"\",\"Zonard\",INDEX(AB728:AB$2008,MIN(IF(COUNTIF(AC$2:AC727,AB728:AB$2008),ROW(AB$2008)-ROW()+1,ROW(AB728:AB$2008)-ROW()+1))))","v":0},0]
[null,null,null,null,null,null,null,null,null,null,null,null,null,null,null,null,null,null,null,null,null,null,null,null,null,null,null,{"$f":"HISTO!P728","v":0},{"$f":"IF(AC728=\"\",\"Zonard\",INDEX(AB729:AB$2008,MIN(IF(COUNTIF(AC$2:AC728,AB729:AB$2008),ROW(AB$2008)-ROW()+1,ROW(AB729:AB$2008)-ROW()+1))))","v":0},0]
[null,null,null,null,null,null,null,null,null,null,null,null,null,null,null,null,null,null,null,null,null,null,null,null,null,null,null,{"$f":"HISTO!P729","v":0},{"$f":"IF(AC729=\"\",\"Zonard\",INDEX(AB730:AB$2008,MIN(IF(COUNTIF(AC$2:AC729,AB730:AB$2008),ROW(AB$2008)-ROW()+1,ROW(AB730:AB$2008)-ROW()+1))))","v":0},0]
[null,null,null,null,null,null,null,null,null,null,null,null,null,null,null,null,null,null,null,null,null,null,null,null,null,null,null,{"$f":"HISTO!P730","v":0},{"$f":"IF(AC730=\"\",\"Zonard\",INDEX(AB731:AB$2008,MIN(IF(COUNTIF(AC$2:AC730,AB731:AB$2008),ROW(AB$2008)-ROW()+1,ROW(AB731:AB$2008)-ROW()+1))))","v":0},0]
[null,null,null,null,null,null,null,null,null,null,null,null,null,null,null,null,null,null,null,null,null,null,null,null,null,null,null,{"$f":"HISTO!P731","v":0},{"$f":"IF(AC731=\"\",\"Zonard\",INDEX(AB732:AB$2008,MIN(IF(COUNTIF(AC$2:AC731,AB732:AB$2008),ROW(AB$2008)-ROW()+1,ROW(AB732:AB$2008)-ROW()+1))))","v":0},0]
[null,null,null,null,null,null,null,null,null,null,null,null,null,null,null,null,null,null,null,null,null,null,null,null,null,null,null,{"$f":"HISTO!P732","v":0},{"$f":"IF(AC732=\"\",\"Zonard\",INDEX(AB733:AB$2008,MIN(IF(COUNTIF(AC$2:AC732,AB733:AB$2008),ROW(AB$2008)-ROW()+1,ROW(AB733:AB$2008)-ROW()+1))))","v":0},0]
[null,null,null,null,null,null,null,null,null,null,null,null,null,null,null,null,null,null,null,null,null,null,null,null,null,null,null,{"$f":"HISTO!P733","v":0},{"$f":"IF(AC733=\"\",\"Zonard\",INDEX(AB734:AB$2008,MIN(IF(COUNTIF(AC$2:AC733,AB734:AB$2008),ROW(AB$2008)-ROW()+1,ROW(AB734:AB$2008)-ROW()+1))))","v":0},0]
[null,null,null,null,null,null,null,null,null,null,null,null,null,null,null,null,null,null,null,null,null,null,null,null,null,null,null,{"$f":"HISTO!P734","v":0},{"$f":"IF(AC734=\"\",\"Zonard\",INDEX(AB735:AB$2008,MIN(IF(COUNTIF(AC$2:AC734,AB735:AB$2008),ROW(AB$2008)-ROW()+1,ROW(AB735:AB$2008)-ROW()+1))))","v":0},0]
[null,null,null,null,null,null,null,null,null,null,null,null,null,null,null,null,null,null,null,null,null,null,null,null,null,null,null,{"$f":"HISTO!P735","v":0},{"$f":"IF(AC735=\"\",\"Zonard\",INDEX(AB736:AB$2008,MIN(IF(COUNTIF(AC$2:AC735,AB736:AB$2008),ROW(AB$2008)-ROW()+1,ROW(AB736:AB$2008)-ROW()+1))))","v":0},0]
[null,null,null,null,null,null,null,null,null,null,null,null,null,null,null,null,null,null,null,null,null,null,null,null,null,null,null,{"$f":"HISTO!P736","v":0},{"$f":"IF(AC736=\"\",\"Zonard\",INDEX(AB737:AB$2008,MIN(IF(COUNTIF(AC$2:AC736,AB737:AB$2008),ROW(AB$2008)-ROW()+1,ROW(AB737:AB$2008)-ROW()+1))))","v":0},0]
[null,null,null,null,null,null,null,null,null,null,null,null,null,null,null,null,null,null,null,null,null,null,null,null,null,null,null,{"$f":"HISTO!P737","v":0},{"$f":"IF(AC737=\"\",\"Zonard\",INDEX(AB738:AB$2008,MIN(IF(COUNTIF(AC$2:AC737,AB738:AB$2008),ROW(AB$2008)-ROW()+1,ROW(AB738:AB$2008)-ROW()+1))))","v":0},0]
[null,null,null,null,null,null,null,null,null,null,null,null,null,null,null,null,null,null,null,null,null,null,null,null,null,null,null,{"$f":"HISTO!P738","v":0},{"$f":"IF(AC738=\"\",\"Zonard\",INDEX(AB739:AB$2008,MIN(IF(COUNTIF(AC$2:AC738,AB739:AB$2008),ROW(AB$2008)-ROW()+1,ROW(AB739:AB$2008)-ROW()+1))))","v":0},0]
[null,null,null,null,null,null,null,null,null,null,null,null,null,null,null,null,null,null,null,null,null,null,null,null,null,null,null,{"$f":"HISTO!P739","v":0},{"$f":"IF(AC739=\"\",\"Zonard\",INDEX(AB740:AB$2008,MIN(IF(COUNTIF(AC$2:AC739,AB740:AB$2008),ROW(AB$2008)-ROW()+1,ROW(AB740:AB$2008)-ROW()+1))))","v":0},0]
[null,null,null,null,null,null,null,null,null,null,null,null,null,null,null,null,null,null,null,null,null,null,null,null,null,null,null,{"$f":"HISTO!P740","v":0},{"$f":"IF(AC740=\"\",\"Zonard\",INDEX(AB741:AB$2008,MIN(IF(COUNTIF(AC$2:AC740,AB741:AB$2008),ROW(AB$2008)-ROW()+1,ROW(AB741:AB$2008)-ROW()+1))))","v":0},0]
[null,null,null,null,null,null,null,null,null,null,null,null,null,null,null,null,null,null,null,null,null,null,null,null,null,null,null,{"$f":"HISTO!P741","v":0},{"$f":"IF(AC741=\"\",\"Zonard\",INDEX(AB742:AB$2008,MIN(IF(COUNTIF(AC$2:AC741,AB742:AB$2008),ROW(AB$2008)-ROW()+1,ROW(AB742:AB$2008)-ROW()+1))))","v":0},0]
[null,null,null,null,null,null,null,null,null,null,null,null,null,null,null,null,null,null,null,null,null,null,null,null,null,null,null,{"$f":"HISTO!P742","v":0},{"$f":"IF(AC742=\"\",\"Zonard\",INDEX(AB743:AB$2008,MIN(IF(COUNTIF(AC$2:AC742,AB743:AB$2008),ROW(AB$2008)-ROW()+1,ROW(AB743:AB$2008)-ROW()+1))))","v":0},0]
[null,null,null,null,null,null,null,null,null,null,null,null,null,null,null,null,null,null,null,null,null,null,null,null,null,null,null,{"$f":"HISTO!P743","v":0},{"$f":"IF(AC743=\"\",\"Zonard\",INDEX(AB744:AB$2008,MIN(IF(COUNTIF(AC$2:AC743,AB744:AB$2008),ROW(AB$2008)-ROW()+1,ROW(AB744:AB$2008)-ROW()+1))))","v":0},0]
[null,null,null,null,null,null,null,null,null,null,null,null,null,null,null,null,null,null,null,null,null,null,null,null,null,null,null,{"$f":"HISTO!P744","v":0},{"$f":"IF(AC744=\"\",\"Zonard\",INDEX(AB745:AB$2008,MIN(IF(COUNTIF(AC$2:AC744,AB745:AB$2008),ROW(AB$2008)-ROW()+1,ROW(AB745:AB$2008)-ROW()+1))))","v":0},0]
[null,null,null,null,null,null,null,null,null,null,null,null,null,null,null,null,null,null,null,null,null,null,null,null,null,null,null,{"$f":"HISTO!P745","v":0},{"$f":"IF(AC745=\"\",\"Zonard\",INDEX(AB746:AB$2008,MIN(IF(COUNTIF(AC$2:AC745,AB746:AB$2008),ROW(AB$2008)-ROW()+1,ROW(AB746:AB$2008)-ROW()+1))))","v":0},0]
[null,null,null,null,null,null,null,null,null,null,null,null,null,null,null,null,null,null,null,null,null,null,null,null,null,null,null,{"$f":"HISTO!P746","v":0},{"$f":"IF(AC746=\"\",\"Zonard\",INDEX(AB747:AB$2008,MIN(IF(COUNTIF(AC$2:AC746,AB747:AB$2008),ROW(AB$2008)-ROW()+1,ROW(AB747:AB$2008)-ROW()+1))))","v":0},0]
[null,null,null,null,null,null,null,null,null,null,null,null,null,null,null,null,null,null,null,null,null,null,null,null,null,null,null,{"$f":"HISTO!P747","v":0},{"$f":"IF(AC747=\"\",\"Zonard\",INDEX(AB748:AB$2008,MIN(IF(COUNTIF(AC$2:AC747,AB748:AB$2008),ROW(AB$2008)-ROW()+1,ROW(AB748:AB$2008)-ROW()+1))))","v":0},0]
[null,null,null,null,null,null,null,null,null,null,null,null,null,null,null,null,null,null,null,null,null,null,null,null,null,null,null,{"$f":"HISTO!P748","v":0},{"$f":"IF(AC748=\"\",\"Zonard\",INDEX(AB749:AB$2008,MIN(IF(COUNTIF(AC$2:AC748,AB749:AB$2008),ROW(AB$2008)-ROW()+1,ROW(AB749:AB$2008)-ROW()+1))))","v":0},0]
[null,null,null,null,null,null,null,null,null,null,null,null,null,null,null,null,null,null,null,null,null,null,null,null,null,null,null,{"$f":"HISTO!P749","v":0},{"$f":"IF(AC749=\"\",\"Zonard\",INDEX(AB750:AB$2008,MIN(IF(COUNTIF(AC$2:AC749,AB750:AB$2008),ROW(AB$2008)-ROW()+1,ROW(AB750:AB$2008)-ROW()+1))))","v":0},0]
[null,null,null,null,null,null,null,null,null,null,null,null,null,null,null,null,null,null,null,null,null,null,null,null,null,null,null,{"$f":"HISTO!P750","v":0},{"$f":"IF(AC750=\"\",\"Zonard\",INDEX(AB751:AB$2008,MIN(IF(COUNTIF(AC$2:AC750,AB751:AB$2008),ROW(AB$2008)-ROW()+1,ROW(AB751:AB$2008)-ROW()+1))))","v":0},0]
[null,null,null,null,null,null,null,null,null,null,null,null,null,null,null,null,null,null,null,null,null,null,null,null,null,null,null,{"$f":"HISTO!P751","v":0},{"$f":"IF(AC751=\"\",\"Zonard\",INDEX(AB752:AB$2008,MIN(IF(COUNTIF(AC$2:AC751,AB752:AB$2008),ROW(AB$2008)-ROW()+1,ROW(AB752:AB$2008)-ROW()+1))))","v":0},0]
[null,null,null,null,null,null,null,null,null,null,null,null,null,null,null,null,null,null,null,null,null,null,null,null,null,null,null,{"$f":"HISTO!P752","v":0},{"$f":"IF(AC752=\"\",\"Zonard\",INDEX(AB753:AB$2008,MIN(IF(COUNTIF(AC$2:AC752,AB753:AB$2008),ROW(AB$2008)-ROW()+1,ROW(AB753:AB$2008)-ROW()+1))))","v":0},0]
[null,null,null,null,null,null,null,null,null,null,null,null,null,null,null,null,null,null,null,null,null,null,null,null,null,null,null,{"$f":"HISTO!P753","v":0},{"$f":"IF(AC753=\"\",\"Zonard\",INDEX(AB754:AB$2008,MIN(IF(COUNTIF(AC$2:AC753,AB754:AB$2008),ROW(AB$2008)-ROW()+1,ROW(AB754:AB$2008)-ROW()+1))))","v":0},0]
[null,null,null,null,null,null,null,null,null,null,null,null,null,null,null,null,null,null,null,null,null,null,null,null,null,null,null,{"$f":"HISTO!P754","v":0},{"$f":"IF(AC754=\"\",\"Zonard\",INDEX(AB755:AB$2008,MIN(IF(COUNTIF(AC$2:AC754,AB755:AB$2008),ROW(AB$2008)-ROW()+1,ROW(AB755:AB$2008)-ROW()+1))))","v":0},0]
[null,null,null,null,null,null,null,null,null,null,null,null,null,null,null,null,null,null,null,null,null,null,null,null,null,null,null,{"$f":"HISTO!P755","v":0},{"$f":"IF(AC755=\"\",\"Zonard\",INDEX(AB756:AB$2008,MIN(IF(COUNTIF(AC$2:AC755,AB756:AB$2008),ROW(AB$2008)-ROW()+1,ROW(AB756:AB$2008)-ROW()+1))))","v":0},0]
[null,null,null,null,null,null,null,null,null,null,null,null,null,null,null,null,null,null,null,null,null,null,null,null,null,null,null,{"$f":"HISTO!P756","v":0},{"$f":"IF(AC756=\"\",\"Zonard\",INDEX(AB757:AB$2008,MIN(IF(COUNTIF(AC$2:AC756,AB757:AB$2008),ROW(AB$2008)-ROW()+1,ROW(AB757:AB$2008)-ROW()+1))))","v":0},0]
[null,null,null,null,null,null,null,null,null,null,null,null,null,null,null,null,null,null,null,null,null,null,null,null,null,null,null,{"$f":"HISTO!P757","v":0},{"$f":"IF(AC757=\"\",\"Zonard\",INDEX(AB758:AB$2008,MIN(IF(COUNTIF(AC$2:AC757,AB758:AB$2008),ROW(AB$2008)-ROW()+1,ROW(AB758:AB$2008)-ROW()+1))))","v":0},0]
[null,null,null,null,null,null,null,null,null,null,null,null,null,null,null,null,null,null,null,null,null,null,null,null,null,null,null,{"$f":"HISTO!P758","v":0},{"$f":"IF(AC758=\"\",\"Zonard\",INDEX(AB759:AB$2008,MIN(IF(COUNTIF(AC$2:AC758,AB759:AB$2008),ROW(AB$2008)-ROW()+1,ROW(AB759:AB$2008)-ROW()+1))))","v":0},0]
[null,null,null,null,null,null,null,null,null,null,null,null,null,null,null,null,null,null,null,null,null,null,null,null,null,null,null,{"$f":"HISTO!P759","v":0},{"$f":"IF(AC759=\"\",\"Zonard\",INDEX(AB760:AB$2008,MIN(IF(COUNTIF(AC$2:AC759,AB760:AB$2008),ROW(AB$2008)-ROW()+1,ROW(AB760:AB$2008)-ROW()+1))))","v":0},0]
[null,null,null,null,null,null,null,null,null,null,null,null,null,null,null,null,null,null,null,null,null,null,null,null,null,null,null,{"$f":"HISTO!P760","v":0},{"$f":"IF(AC760=\"\",\"Zonard\",INDEX(AB761:AB$2008,MIN(IF(COUNTIF(AC$2:AC760,AB761:AB$2008),ROW(AB$2008)-ROW()+1,ROW(AB761:AB$2008)-ROW()+1))))","v":0},0]
[null,null,null,null,null,null,null,null,null,null,null,null,null,null,null,null,null,null,null,null,null,null,null,null,null,null,null,{"$f":"HISTO!P761","v":0},{"$f":"IF(AC761=\"\",\"Zonard\",INDEX(AB762:AB$2008,MIN(IF(COUNTIF(AC$2:AC761,AB762:AB$2008),ROW(AB$2008)-ROW()+1,ROW(AB762:AB$2008)-ROW()+1))))","v":0},0]
[null,null,null,null,null,null,null,null,null,null,null,null,null,null,null,null,null,null,null,null,null,null,null,null,null,null,null,{"$f":"HISTO!P762","v":0},{"$f":"IF(AC762=\"\",\"Zonard\",INDEX(AB763:AB$2008,MIN(IF(COUNTIF(AC$2:AC762,AB763:AB$2008),ROW(AB$2008)-ROW()+1,ROW(AB763:AB$2008)-ROW()+1))))","v":0},0]
[null,null,null,null,null,null,null,null,null,null,null,null,null,null,null,null,null,null,null,null,null,null,null,null,null,null,null,{"$f":"HISTO!P763","v":0},{"$f":"IF(AC763=\"\",\"Zonard\",INDEX(AB764:AB$2008,MIN(IF(COUNTIF(AC$2:AC763,AB764:AB$2008),ROW(AB$2008)-ROW()+1,ROW(AB764:AB$2008)-ROW()+1))))","v":0},0]
[null,null,null,null,null,null,null,null,null,null,null,null,null,null,null,null,null,null,null,null,null,null,null,null,null,null,null,{"$f":"HISTO!P764","v":0},{"$f":"IF(AC764=\"\",\"Zonard\",INDEX(AB765:AB$2008,MIN(IF(COUNTIF(AC$2:AC764,AB765:AB$2008),ROW(AB$2008)-ROW()+1,ROW(AB765:AB$2008)-ROW()+1))))","v":0},0]
[null,null,null,null,null,null,null,null,null,null,null,null,null,null,null,null,null,null,null,null,null,null,null,null,null,null,null,{"$f":"HISTO!P765","v":0},{"$f":"IF(AC765=\"\",\"Zonard\",INDEX(AB766:AB$2008,MIN(IF(COUNTIF(AC$2:AC765,AB766:AB$2008),ROW(AB$2008)-ROW()+1,ROW(AB766:AB$2008)-ROW()+1))))","v":0},0]
[null,null,null,null,null,null,null,null,null,null,null,null,null,null,null,null,null,null,null,null,null,null,null,null,null,null,null,{"$f":"HISTO!P766","v":0},{"$f":"IF(AC766=\"\",\"Zonard\",INDEX(AB767:AB$2008,MIN(IF(COUNTIF(AC$2:AC766,AB767:AB$2008),ROW(AB$2008)-ROW()+1,ROW(AB767:AB$2008)-ROW()+1))))","v":0},0]
[null,null,null,null,null,null,null,null,null,null,null,null,null,null,null,null,null,null,null,null,null,null,null,null,null,null,null,{"$f":"HISTO!P767","v":0},{"$f":"IF(AC767=\"\",\"Zonard\",INDEX(AB768:AB$2008,MIN(IF(COUNTIF(AC$2:AC767,AB768:AB$2008),ROW(AB$2008)-ROW()+1,ROW(AB768:AB$2008)-ROW()+1))))","v":0},0]
[null,null,null,null,null,null,null,null,null,null,null,null,null,null,null,null,null,null,null,null,null,null,null,null,null,null,null,{"$f":"HISTO!P768","v":0},{"$f":"IF(AC768=\"\",\"Zonard\",INDEX(AB769:AB$2008,MIN(IF(COUNTIF(AC$2:AC768,AB769:AB$2008),ROW(AB$2008)-ROW()+1,ROW(AB769:AB$2008)-ROW()+1))))","v":0},0]
[null,null,null,null,null,null,null,null,null,null,null,null,null,null,null,null,null,null,null,null,null,null,null,null,null,null,null,{"$f":"HISTO!P769","v":0},{"$f":"IF(AC769=\"\",\"Zonard\",INDEX(AB770:AB$2008,MIN(IF(COUNTIF(AC$2:AC769,AB770:AB$2008),ROW(AB$2008)-ROW()+1,ROW(AB770:AB$2008)-ROW()+1))))","v":0},0]
[null,null,null,null,null,null,null,null,null,null,null,null,null,null,null,null,null,null,null,null,null,null,null,null,null,null,null,{"$f":"HISTO!P770","v":0},{"$f":"IF(AC770=\"\",\"Zonard\",INDEX(AB771:AB$2008,MIN(IF(COUNTIF(AC$2:AC770,AB771:AB$2008),ROW(AB$2008)-ROW()+1,ROW(AB771:AB$2008)-ROW()+1))))","v":0},0]
[null,null,null,null,null,null,null,null,null,null,null,null,null,null,null,null,null,null,null,null,null,null,null,null,null,null,null,{"$f":"HISTO!P771","v":0},{"$f":"IF(AC771=\"\",\"Zonard\",INDEX(AB772:AB$2008,MIN(IF(COUNTIF(AC$2:AC771,AB772:AB$2008),ROW(AB$2008)-ROW()+1,ROW(AB772:AB$2008)-ROW()+1))))","v":0},0]
[null,null,null,null,null,null,null,null,null,null,null,null,null,null,null,null,null,null,null,null,null,null,null,null,null,null,null,{"$f":"HISTO!P772","v":0},{"$f":"IF(AC772=\"\",\"Zonard\",INDEX(AB773:AB$2008,MIN(IF(COUNTIF(AC$2:AC772,AB773:AB$2008),ROW(AB$2008)-ROW()+1,ROW(AB773:AB$2008)-ROW()+1))))","v":0},0]
[null,null,null,null,null,null,null,null,null,null,null,null,null,null,null,null,null,null,null,null,null,null,null,null,null,null,null,{"$f":"HISTO!P773","v":0},{"$f":"IF(AC773=\"\",\"Zonard\",INDEX(AB774:AB$2008,MIN(IF(COUNTIF(AC$2:AC773,AB774:AB$2008),ROW(AB$2008)-ROW()+1,ROW(AB774:AB$2008)-ROW()+1))))","v":0},0]
[null,null,null,null,null,null,null,null,null,null,null,null,null,null,null,null,null,null,null,null,null,null,null,null,null,null,null,{"$f":"HISTO!P774","v":0},{"$f":"IF(AC774=\"\",\"Zonard\",INDEX(AB775:AB$2008,MIN(IF(COUNTIF(AC$2:AC774,AB775:AB$2008),ROW(AB$2008)-ROW()+1,ROW(AB775:AB$2008)-ROW()+1))))","v":0},0]
[null,null,null,null,null,null,null,null,null,null,null,null,null,null,null,null,null,null,null,null,null,null,null,null,null,null,null,{"$f":"HISTO!P775","v":0},{"$f":"IF(AC775=\"\",\"Zonard\",INDEX(AB776:AB$2008,MIN(IF(COUNTIF(AC$2:AC775,AB776:AB$2008),ROW(AB$2008)-ROW()+1,ROW(AB776:AB$2008)-ROW()+1))))","v":0},0]
[null,null,null,null,null,null,null,null,null,null,null,null,null,null,null,null,null,null,null,null,null,null,null,null,null,null,null,{"$f":"HISTO!P776","v":0},{"$f":"IF(AC776=\"\",\"Zonard\",INDEX(AB777:AB$2008,MIN(IF(COUNTIF(AC$2:AC776,AB777:AB$2008),ROW(AB$2008)-ROW()+1,ROW(AB777:AB$2008)-ROW()+1))))","v":0},0]
[null,null,null,null,null,null,null,null,null,null,null,null,null,null,null,null,null,null,null,null,null,null,null,null,null,null,null,{"$f":"HISTO!P777","v":0},{"$f":"IF(AC777=\"\",\"Zonard\",INDEX(AB778:AB$2008,MIN(IF(COUNTIF(AC$2:AC777,AB778:AB$2008),ROW(AB$2008)-ROW()+1,ROW(AB778:AB$2008)-ROW()+1))))","v":0},0]
[null,null,null,null,null,null,null,null,null,null,null,null,null,null,null,null,null,null,null,null,null,null,null,null,null,null,null,{"$f":"HISTO!P778","v":0},{"$f":"IF(AC778=\"\",\"Zonard\",INDEX(AB779:AB$2008,MIN(IF(COUNTIF(AC$2:AC778,AB779:AB$2008),ROW(AB$2008)-ROW()+1,ROW(AB779:AB$2008)-ROW()+1))))","v":0},0]
[null,null,null,null,null,null,null,null,null,null,null,null,null,null,null,null,null,null,null,null,null,null,null,null,null,null,null,{"$f":"HISTO!P779","v":0},{"$f":"IF(AC779=\"\",\"Zonard\",INDEX(AB780:AB$2008,MIN(IF(COUNTIF(AC$2:AC779,AB780:AB$2008),ROW(AB$2008)-ROW()+1,ROW(AB780:AB$2008)-ROW()+1))))","v":0},0]
[null,null,null,null,null,null,null,null,null,null,null,null,null,null,null,null,null,null,null,null,null,null,null,null,null,null,null,{"$f":"HISTO!P780","v":0},{"$f":"IF(AC780=\"\",\"Zonard\",INDEX(AB781:AB$2008,MIN(IF(COUNTIF(AC$2:AC780,AB781:AB$2008),ROW(AB$2008)-ROW()+1,ROW(AB781:AB$2008)-ROW()+1))))","v":0},0]
[null,null,null,null,null,null,null,null,null,null,null,null,null,null,null,null,null,null,null,null,null,null,null,null,null,null,null,{"$f":"HISTO!P781","v":0},{"$f":"IF(AC781=\"\",\"Zonard\",INDEX(AB782:AB$2008,MIN(IF(COUNTIF(AC$2:AC781,AB782:AB$2008),ROW(AB$2008)-ROW()+1,ROW(AB782:AB$2008)-ROW()+1))))","v":0},0]
[null,null,null,null,null,null,null,null,null,null,null,null,null,null,null,null,null,null,null,null,null,null,null,null,null,null,null,{"$f":"HISTO!P782","v":0},{"$f":"IF(AC782=\"\",\"Zonard\",INDEX(AB783:AB$2008,MIN(IF(COUNTIF(AC$2:AC782,AB783:AB$2008),ROW(AB$2008)-ROW()+1,ROW(AB783:AB$2008)-ROW()+1))))","v":0},0]
[null,null,null,null,null,null,null,null,null,null,null,null,null,null,null,null,null,null,null,null,null,null,null,null,null,null,null,{"$f":"HISTO!P783","v":0},{"$f":"IF(AC783=\"\",\"Zonard\",INDEX(AB784:AB$2008,MIN(IF(COUNTIF(AC$2:AC783,AB784:AB$2008),ROW(AB$2008)-ROW()+1,ROW(AB784:AB$2008)-ROW()+1))))","v":0},0]
[null,null,null,null,null,null,null,null,null,null,null,null,null,null,null,null,null,null,null,null,null,null,null,null,null,null,null,{"$f":"HISTO!P784","v":0},{"$f":"IF(AC784=\"\",\"Zonard\",INDEX(AB785:AB$2008,MIN(IF(COUNTIF(AC$2:AC784,AB785:AB$2008),ROW(AB$2008)-ROW()+1,ROW(AB785:AB$2008)-ROW()+1))))","v":0},0]
[null,null,null,null,null,null,null,null,null,null,null,null,null,null,null,null,null,null,null,null,null,null,null,null,null,null,null,{"$f":"HISTO!P785","v":0},{"$f":"IF(AC785=\"\",\"Zonard\",INDEX(AB786:AB$2008,MIN(IF(COUNTIF(AC$2:AC785,AB786:AB$2008),ROW(AB$2008)-ROW()+1,ROW(AB786:AB$2008)-ROW()+1))))","v":0},0]
[null,null,null,null,null,null,null,null,null,null,null,null,null,null,null,null,null,null,null,null,null,null,null,null,null,null,null,{"$f":"HISTO!P786","v":0},{"$f":"IF(AC786=\"\",\"Zonard\",INDEX(AB787:AB$2008,MIN(IF(COUNTIF(AC$2:AC786,AB787:AB$2008),ROW(AB$2008)-ROW()+1,ROW(AB787:AB$2008)-ROW()+1))))","v":0},0]
[null,null,null,null,null,null,null,null,null,null,null,null,null,null,null,null,null,null,null,null,null,null,null,null,null,null,null,{"$f":"HISTO!P787","v":0},{"$f":"IF(AC787=\"\",\"Zonard\",INDEX(AB788:AB$2008,MIN(IF(COUNTIF(AC$2:AC787,AB788:AB$2008),ROW(AB$2008)-ROW()+1,ROW(AB788:AB$2008)-ROW()+1))))","v":0},0]
[null,null,null,null,null,null,null,null,null,null,null,null,null,null,null,null,null,null,null,null,null,null,null,null,null,null,null,{"$f":"HISTO!P788","v":0},{"$f":"IF(AC788=\"\",\"Zonard\",INDEX(AB789:AB$2008,MIN(IF(COUNTIF(AC$2:AC788,AB789:AB$2008),ROW(AB$2008)-ROW()+1,ROW(AB789:AB$2008)-ROW()+1))))","v":0},0]
[null,null,null,null,null,null,null,null,null,null,null,null,null,null,null,null,null,null,null,null,null,null,null,null,null,null,null,{"$f":"HISTO!P789","v":0},{"$f":"IF(AC789=\"\",\"Zonard\",INDEX(AB790:AB$2008,MIN(IF(COUNTIF(AC$2:AC789,AB790:AB$2008),ROW(AB$2008)-ROW()+1,ROW(AB790:AB$2008)-ROW()+1))))","v":0},0]
[null,null,null,null,null,null,null,null,null,null,null,null,null,null,null,null,null,null,null,null,null,null,null,null,null,null,null,{"$f":"HISTO!P790","v":0},{"$f":"IF(AC790=\"\",\"Zonard\",INDEX(AB791:AB$2008,MIN(IF(COUNTIF(AC$2:AC790,AB791:AB$2008),ROW(AB$2008)-ROW()+1,ROW(AB791:AB$2008)-ROW()+1))))","v":0},0]
[null,null,null,null,null,null,null,null,null,null,null,null,null,null,null,null,null,null,null,null,null,null,null,null,null,null,null,{"$f":"HISTO!P791","v":0},{"$f":"IF(AC791=\"\",\"Zonard\",INDEX(AB792:AB$2008,MIN(IF(COUNTIF(AC$2:AC791,AB792:AB$2008),ROW(AB$2008)-ROW()+1,ROW(AB792:AB$2008)-ROW()+1))))","v":0},0]
[null,null,null,null,null,null,null,null,null,null,null,null,null,null,null,null,null,null,null,null,null,null,null,null,null,null,null,{"$f":"HISTO!P792","v":0},{"$f":"IF(AC792=\"\",\"Zonard\",INDEX(AB793:AB$2008,MIN(IF(COUNTIF(AC$2:AC792,AB793:AB$2008),ROW(AB$2008)-ROW()+1,ROW(AB793:AB$2008)-ROW()+1))))","v":0},0]
[null,null,null,null,null,null,null,null,null,null,null,null,null,null,null,null,null,null,null,null,null,null,null,null,null,null,null,{"$f":"HISTO!P793","v":0},{"$f":"IF(AC793=\"\",\"Zonard\",INDEX(AB794:AB$2008,MIN(IF(COUNTIF(AC$2:AC793,AB794:AB$2008),ROW(AB$2008)-ROW()+1,ROW(AB794:AB$2008)-ROW()+1))))","v":0},0]
[null,null,null,null,null,null,null,null,null,null,null,null,null,null,null,null,null,null,null,null,null,null,null,null,null,null,null,{"$f":"HISTO!P794","v":0},{"$f":"IF(AC794=\"\",\"Zonard\",INDEX(AB795:AB$2008,MIN(IF(COUNTIF(AC$2:AC794,AB795:AB$2008),ROW(AB$2008)-ROW()+1,ROW(AB795:AB$2008)-ROW()+1))))","v":0},0]
[null,null,null,null,null,null,null,null,null,null,null,null,null,null,null,null,null,null,null,null,null,null,null,null,null,null,null,{"$f":"HISTO!P795","v":0},{"$f":"IF(AC795=\"\",\"Zonard\",INDEX(AB796:AB$2008,MIN(IF(COUNTIF(AC$2:AC795,AB796:AB$2008),ROW(AB$2008)-ROW()+1,ROW(AB796:AB$2008)-ROW()+1))))","v":0},0]
[null,null,null,null,null,null,null,null,null,null,null,null,null,null,null,null,null,null,null,null,null,null,null,null,null,null,null,{"$f":"HISTO!P796","v":0},{"$f":"IF(AC796=\"\",\"Zonard\",INDEX(AB797:AB$2008,MIN(IF(COUNTIF(AC$2:AC796,AB797:AB$2008),ROW(AB$2008)-ROW()+1,ROW(AB797:AB$2008)-ROW()+1))))","v":0},0]
[null,null,null,null,null,null,null,null,null,null,null,null,null,null,null,null,null,null,null,null,null,null,null,null,null,null,null,{"$f":"HISTO!P797","v":0},{"$f":"IF(AC797=\"\",\"Zonard\",INDEX(AB798:AB$2008,MIN(IF(COUNTIF(AC$2:AC797,AB798:AB$2008),ROW(AB$2008)-ROW()+1,ROW(AB798:AB$2008)-ROW()+1))))","v":0},0]
[null,null,null,null,null,null,null,null,null,null,null,null,null,null,null,null,null,null,null,null,null,null,null,null,null,null,null,{"$f":"HISTO!P798","v":0},{"$f":"IF(AC798=\"\",\"Zonard\",INDEX(AB799:AB$2008,MIN(IF(COUNTIF(AC$2:AC798,AB799:AB$2008),ROW(AB$2008)-ROW()+1,ROW(AB799:AB$2008)-ROW()+1))))","v":0},0]
[null,null,null,null,null,null,null,null,null,null,null,null,null,null,null,null,null,null,null,null,null,null,null,null,null,null,null,{"$f":"HISTO!P799","v":0},{"$f":"IF(AC799=\"\",\"Zonard\",INDEX(AB800:AB$2008,MIN(IF(COUNTIF(AC$2:AC799,AB800:AB$2008),ROW(AB$2008)-ROW()+1,ROW(AB800:AB$2008)-ROW()+1))))","v":0},0]
[null,null,null,null,null,null,null,null,null,null,null,null,null,null,null,null,null,null,null,null,null,null,null,null,null,null,null,{"$f":"HISTO!P800","v":0},{"$f":"IF(AC800=\"\",\"Zonard\",INDEX(AB801:AB$2008,MIN(IF(COUNTIF(AC$2:AC800,AB801:AB$2008),ROW(AB$2008)-ROW()+1,ROW(AB801:AB$2008)-ROW()+1))))","v":0},0]
[null,null,null,null,null,null,null,null,null,null,null,null,null,null,null,null,null,null,null,null,null,null,null,null,null,null,null,{"$f":"HISTO!P801","v":0},{"$f":"IF(AC801=\"\",\"Zonard\",INDEX(AB802:AB$2008,MIN(IF(COUNTIF(AC$2:AC801,AB802:AB$2008),ROW(AB$2008)-ROW()+1,ROW(AB802:AB$2008)-ROW()+1))))","v":0},0]
[null,null,null,null,null,null,null,null,null,null,null,null,null,null,null,null,null,null,null,null,null,null,null,null,null,null,null,{"$f":"HISTO!P802","v":0},{"$f":"IF(AC802=\"\",\"Zonard\",INDEX(AB803:AB$2008,MIN(IF(COUNTIF(AC$2:AC802,AB803:AB$2008),ROW(AB$2008)-ROW()+1,ROW(AB803:AB$2008)-ROW()+1))))","v":0},0]
[null,null,null,null,null,null,null,null,null,null,null,null,null,null,null,null,null,null,null,null,null,null,null,null,null,null,null,{"$f":"HISTO!P803","v":0},{"$f":"IF(AC803=\"\",\"Zonard\",INDEX(AB804:AB$2008,MIN(IF(COUNTIF(AC$2:AC803,AB804:AB$2008),ROW(AB$2008)-ROW()+1,ROW(AB804:AB$2008)-ROW()+1))))","v":0},0]
[null,null,null,null,null,null,null,null,null,null,null,null,null,null,null,null,null,null,null,null,null,null,null,null,null,null,null,{"$f":"HISTO!P804","v":0},{"$f":"IF(AC804=\"\",\"Zonard\",INDEX(AB805:AB$2008,MIN(IF(COUNTIF(AC$2:AC804,AB805:AB$2008),ROW(AB$2008)-ROW()+1,ROW(AB805:AB$2008)-ROW()+1))))","v":0},0]
[null,null,null,null,null,null,null,null,null,null,null,null,null,null,null,null,null,null,null,null,null,null,null,null,null,null,null,{"$f":"HISTO!P805","v":0},{"$f":"IF(AC805=\"\",\"Zonard\",INDEX(AB806:AB$2008,MIN(IF(COUNTIF(AC$2:AC805,AB806:AB$2008),ROW(AB$2008)-ROW()+1,ROW(AB806:AB$2008)-ROW()+1))))","v":0},0]
[null,null,null,null,null,null,null,null,null,null,null,null,null,null,null,null,null,null,null,null,null,null,null,null,null,null,null,{"$f":"HISTO!P806","v":0},{"$f":"IF(AC806=\"\",\"Zonard\",INDEX(AB807:AB$2008,MIN(IF(COUNTIF(AC$2:AC806,AB807:AB$2008),ROW(AB$2008)-ROW()+1,ROW(AB807:AB$2008)-ROW()+1))))","v":0},0]
[null,null,null,null,null,null,null,null,null,null,null,null,null,null,null,null,null,null,null,null,null,null,null,null,null,null,null,{"$f":"HISTO!P807","v":0},{"$f":"IF(AC807=\"\",\"Zonard\",INDEX(AB808:AB$2008,MIN(IF(COUNTIF(AC$2:AC807,AB808:AB$2008),ROW(AB$2008)-ROW()+1,ROW(AB808:AB$2008)-ROW()+1))))","v":0},0]
[null,null,null,null,null,null,null,null,null,null,null,null,null,null,null,null,null,null,null,null,null,null,null,null,null,null,null,{"$f":"HISTO!P808","v":0},{"$f":"IF(AC808=\"\",\"Zonard\",INDEX(AB809:AB$2008,MIN(IF(COUNTIF(AC$2:AC808,AB809:AB$2008),ROW(AB$2008)-ROW()+1,ROW(AB809:AB$2008)-ROW()+1))))","v":0},0]
[null,null,null,null,null,null,null,null,null,null,null,null,null,null,null,null,null,null,null,null,null,null,null,null,null,null,null,{"$f":"HISTO!P809","v":0},{"$f":"IF(AC809=\"\",\"Zonard\",INDEX(AB810:AB$2008,MIN(IF(COUNTIF(AC$2:AC809,AB810:AB$2008),ROW(AB$2008)-ROW()+1,ROW(AB810:AB$2008)-ROW()+1))))","v":0},0]
[null,null,null,null,null,null,null,null,null,null,null,null,null,null,null,null,null,null,null,null,null,null,null,null,null,null,null,{"$f":"HISTO!P810","v":0},{"$f":"IF(AC810=\"\",\"Zonard\",INDEX(AB811:AB$2008,MIN(IF(COUNTIF(AC$2:AC810,AB811:AB$2008),ROW(AB$2008)-ROW()+1,ROW(AB811:AB$2008)-ROW()+1))))","v":0},0]
[null,null,null,null,null,null,null,null,null,null,null,null,null,null,null,null,null,null,null,null,null,null,null,null,null,null,null,{"$f":"HISTO!P811","v":0},{"$f":"IF(AC811=\"\",\"Zonard\",INDEX(AB812:AB$2008,MIN(IF(COUNTIF(AC$2:AC811,AB812:AB$2008),ROW(AB$2008)-ROW()+1,ROW(AB812:AB$2008)-ROW()+1))))","v":0},0]
[null,null,null,null,null,null,null,null,null,null,null,null,null,null,null,null,null,null,null,null,null,null,null,null,null,null,null,{"$f":"HISTO!P812","v":0},{"$f":"IF(AC812=\"\",\"Zonard\",INDEX(AB813:AB$2008,MIN(IF(COUNTIF(AC$2:AC812,AB813:AB$2008),ROW(AB$2008)-ROW()+1,ROW(AB813:AB$2008)-ROW()+1))))","v":0},0]
[null,null,null,null,null,null,null,null,null,null,null,null,null,null,null,null,null,null,null,null,null,null,null,null,null,null,null,{"$f":"HISTO!P813","v":0},{"$f":"IF(AC813=\"\",\"Zonard\",INDEX(AB814:AB$2008,MIN(IF(COUNTIF(AC$2:AC813,AB814:AB$2008),ROW(AB$2008)-ROW()+1,ROW(AB814:AB$2008)-ROW()+1))))","v":0},0]
[null,null,null,null,null,null,null,null,null,null,null,null,null,null,null,null,null,null,null,null,null,null,null,null,null,null,null,{"$f":"HISTO!P814","v":0},{"$f":"IF(AC814=\"\",\"Zonard\",INDEX(AB815:AB$2008,MIN(IF(COUNTIF(AC$2:AC814,AB815:AB$2008),ROW(AB$2008)-ROW()+1,ROW(AB815:AB$2008)-ROW()+1))))","v":0},0]
[null,null,null,null,null,null,null,null,null,null,null,null,null,null,null,null,null,null,null,null,null,null,null,null,null,null,null,{"$f":"HISTO!P815","v":0},{"$f":"IF(AC815=\"\",\"Zonard\",INDEX(AB816:AB$2008,MIN(IF(COUNTIF(AC$2:AC815,AB816:AB$2008),ROW(AB$2008)-ROW()+1,ROW(AB816:AB$2008)-ROW()+1))))","v":0},0]
[null,null,null,null,null,null,null,null,null,null,null,null,null,null,null,null,null,null,null,null,null,null,null,null,null,null,null,{"$f":"HISTO!P816","v":0},{"$f":"IF(AC816=\"\",\"Zonard\",INDEX(AB817:AB$2008,MIN(IF(COUNTIF(AC$2:AC816,AB817:AB$2008),ROW(AB$2008)-ROW()+1,ROW(AB817:AB$2008)-ROW()+1))))","v":0},0]
[null,null,null,null,null,null,null,null,null,null,null,null,null,null,null,null,null,null,null,null,null,null,null,null,null,null,null,{"$f":"HISTO!P817","v":0},{"$f":"IF(AC817=\"\",\"Zonard\",INDEX(AB818:AB$2008,MIN(IF(COUNTIF(AC$2:AC817,AB818:AB$2008),ROW(AB$2008)-ROW()+1,ROW(AB818:AB$2008)-ROW()+1))))","v":0},0]
[null,null,null,null,null,null,null,null,null,null,null,null,null,null,null,null,null,null,null,null,null,null,null,null,null,null,null,{"$f":"HISTO!P818","v":0},{"$f":"IF(AC818=\"\",\"Zonard\",INDEX(AB819:AB$2008,MIN(IF(COUNTIF(AC$2:AC818,AB819:AB$2008),ROW(AB$2008)-ROW()+1,ROW(AB819:AB$2008)-ROW()+1))))","v":0},0]
[null,null,null,null,null,null,null,null,null,null,null,null,null,null,null,null,null,null,null,null,null,null,null,null,null,null,null,{"$f":"HISTO!P819","v":0},{"$f":"IF(AC819=\"\",\"Zonard\",INDEX(AB820:AB$2008,MIN(IF(COUNTIF(AC$2:AC819,AB820:AB$2008),ROW(AB$2008)-ROW()+1,ROW(AB820:AB$2008)-ROW()+1))))","v":0},0]
[null,null,null,null,null,null,null,null,null,null,null,null,null,null,null,null,null,null,null,null,null,null,null,null,null,null,null,{"$f":"HISTO!P820","v":0},{"$f":"IF(AC820=\"\",\"Zonard\",INDEX(AB821:AB$2008,MIN(IF(COUNTIF(AC$2:AC820,AB821:AB$2008),ROW(AB$2008)-ROW()+1,ROW(AB821:AB$2008)-ROW()+1))))","v":0},0]
[null,null,null,null,null,null,null,null,null,null,null,null,null,null,null,null,null,null,null,null,null,null,null,null,null,null,null,{"$f":"HISTO!P821","v":0},{"$f":"IF(AC821=\"\",\"Zonard\",INDEX(AB822:AB$2008,MIN(IF(COUNTIF(AC$2:AC821,AB822:AB$2008),ROW(AB$2008)-ROW()+1,ROW(AB822:AB$2008)-ROW()+1))))","v":0},0]
[null,null,null,null,null,null,null,null,null,null,null,null,null,null,null,null,null,null,null,null,null,null,null,null,null,null,null,{"$f":"HISTO!P822","v":0},{"$f":"IF(AC822=\"\",\"Zonard\",INDEX(AB823:AB$2008,MIN(IF(COUNTIF(AC$2:AC822,AB823:AB$2008),ROW(AB$2008)-ROW()+1,ROW(AB823:AB$2008)-ROW()+1))))","v":0},0]
[null,null,null,null,null,null,null,null,null,null,null,null,null,null,null,null,null,null,null,null,null,null,null,null,null,null,null,{"$f":"HISTO!P823","v":0},{"$f":"IF(AC823=\"\",\"Zonard\",INDEX(AB824:AB$2008,MIN(IF(COUNTIF(AC$2:AC823,AB824:AB$2008),ROW(AB$2008)-ROW()+1,ROW(AB824:AB$2008)-ROW()+1))))","v":0},0]
[null,null,null,null,null,null,null,null,null,null,null,null,null,null,null,null,null,null,null,null,null,null,null,null,null,null,null,{"$f":"HISTO!P824","v":0},{"$f":"IF(AC824=\"\",\"Zonard\",INDEX(AB825:AB$2008,MIN(IF(COUNTIF(AC$2:AC824,AB825:AB$2008),ROW(AB$2008)-ROW()+1,ROW(AB825:AB$2008)-ROW()+1))))","v":0},0]
[null,null,null,null,null,null,null,null,null,null,null,null,null,null,null,null,null,null,null,null,null,null,null,null,null,null,null,{"$f":"HISTO!P825","v":0},{"$f":"IF(AC825=\"\",\"Zonard\",INDEX(AB826:AB$2008,MIN(IF(COUNTIF(AC$2:AC825,AB826:AB$2008),ROW(AB$2008)-ROW()+1,ROW(AB826:AB$2008)-ROW()+1))))","v":0},0]
[null,null,null,null,null,null,null,null,null,null,null,null,null,null,null,null,null,null,null,null,null,null,null,null,null,null,null,{"$f":"HISTO!P826","v":0},{"$f":"IF(AC826=\"\",\"Zonard\",INDEX(AB827:AB$2008,MIN(IF(COUNTIF(AC$2:AC826,AB827:AB$2008),ROW(AB$2008)-ROW()+1,ROW(AB827:AB$2008)-ROW()+1))))","v":0},0]
[null,null,null,null,null,null,null,null,null,null,null,null,null,null,null,null,null,null,null,null,null,null,null,null,null,null,null,{"$f":"HISTO!P827","v":0},{"$f":"IF(AC827=\"\",\"Zonard\",INDEX(AB828:AB$2008,MIN(IF(COUNTIF(AC$2:AC827,AB828:AB$2008),ROW(AB$2008)-ROW()+1,ROW(AB828:AB$2008)-ROW()+1))))","v":0},0]
[null,null,null,null,null,null,null,null,null,null,null,null,null,null,null,null,null,null,null,null,null,null,null,null,null,null,null,{"$f":"HISTO!P828","v":0},{"$f":"IF(AC828=\"\",\"Zonard\",INDEX(AB829:AB$2008,MIN(IF(COUNTIF(AC$2:AC828,AB829:AB$2008),ROW(AB$2008)-ROW()+1,ROW(AB829:AB$2008)-ROW()+1))))","v":0},0]
[null,null,null,null,null,null,null,null,null,null,null,null,null,null,null,null,null,null,null,null,null,null,null,null,null,null,null,{"$f":"HISTO!P829","v":0},{"$f":"IF(AC829=\"\",\"Zonard\",INDEX(AB830:AB$2008,MIN(IF(COUNTIF(AC$2:AC829,AB830:AB$2008),ROW(AB$2008)-ROW()+1,ROW(AB830:AB$2008)-ROW()+1))))","v":0},0]
[null,null,null,null,null,null,null,null,null,null,null,null,null,null,null,null,null,null,null,null,null,null,null,null,null,null,null,{"$f":"HISTO!P830","v":0},{"$f":"IF(AC830=\"\",\"Zonard\",INDEX(AB831:AB$2008,MIN(IF(COUNTIF(AC$2:AC830,AB831:AB$2008),ROW(AB$2008)-ROW()+1,ROW(AB831:AB$2008)-ROW()+1))))","v":0},0]
[null,null,null,null,null,null,null,null,null,null,null,null,null,null,null,null,null,null,null,null,null,null,null,null,null,null,null,{"$f":"HISTO!P831","v":0},{"$f":"IF(AC831=\"\",\"Zonard\",INDEX(AB832:AB$2008,MIN(IF(COUNTIF(AC$2:AC831,AB832:AB$2008),ROW(AB$2008)-ROW()+1,ROW(AB832:AB$2008)-ROW()+1))))","v":0},0]
[null,null,null,null,null,null,null,null,null,null,null,null,null,null,null,null,null,null,null,null,null,null,null,null,null,null,null,{"$f":"HISTO!P832","v":0},{"$f":"IF(AC832=\"\",\"Zonard\",INDEX(AB833:AB$2008,MIN(IF(COUNTIF(AC$2:AC832,AB833:AB$2008),ROW(AB$2008)-ROW()+1,ROW(AB833:AB$2008)-ROW()+1))))","v":0},0]
[null,null,null,null,null,null,null,null,null,null,null,null,null,null,null,null,null,null,null,null,null,null,null,null,null,null,null,{"$f":"HISTO!P833","v":0},{"$f":"IF(AC833=\"\",\"Zonard\",INDEX(AB834:AB$2008,MIN(IF(COUNTIF(AC$2:AC833,AB834:AB$2008),ROW(AB$2008)-ROW()+1,ROW(AB834:AB$2008)-ROW()+1))))","v":0},0]
[null,null,null,null,null,null,null,null,null,null,null,null,null,null,null,null,null,null,null,null,null,null,null,null,null,null,null,{"$f":"HISTO!P834","v":0},{"$f":"IF(AC834=\"\",\"Zonard\",INDEX(AB835:AB$2008,MIN(IF(COUNTIF(AC$2:AC834,AB835:AB$2008),ROW(AB$2008)-ROW()+1,ROW(AB835:AB$2008)-ROW()+1))))","v":0},0]
[null,null,null,null,null,null,null,null,null,null,null,null,null,null,null,null,null,null,null,null,null,null,null,null,null,null,null,{"$f":"HISTO!P835","v":0},{"$f":"IF(AC835=\"\",\"Zonard\",INDEX(AB836:AB$2008,MIN(IF(COUNTIF(AC$2:AC835,AB836:AB$2008),ROW(AB$2008)-ROW()+1,ROW(AB836:AB$2008)-ROW()+1))))","v":0},0]
[null,null,null,null,null,null,null,null,null,null,null,null,null,null,null,null,null,null,null,null,null,null,null,null,null,null,null,{"$f":"HISTO!P836","v":0},{"$f":"IF(AC836=\"\",\"Zonard\",INDEX(AB837:AB$2008,MIN(IF(COUNTIF(AC$2:AC836,AB837:AB$2008),ROW(AB$2008)-ROW()+1,ROW(AB837:AB$2008)-ROW()+1))))","v":0},0]
[null,null,null,null,null,null,null,null,null,null,null,null,null,null,null,null,null,null,null,null,null,null,null,null,null,null,null,{"$f":"HISTO!P837","v":0},{"$f":"IF(AC837=\"\",\"Zonard\",INDEX(AB838:AB$2008,MIN(IF(COUNTIF(AC$2:AC837,AB838:AB$2008),ROW(AB$2008)-ROW()+1,ROW(AB838:AB$2008)-ROW()+1))))","v":0},0]
[null,null,null,null,null,null,null,null,null,null,null,null,null,null,null,null,null,null,null,null,null,null,null,null,null,null,null,{"$f":"HISTO!P838","v":0},{"$f":"IF(AC838=\"\",\"Zonard\",INDEX(AB839:AB$2008,MIN(IF(COUNTIF(AC$2:AC838,AB839:AB$2008),ROW(AB$2008)-ROW()+1,ROW(AB839:AB$2008)-ROW()+1))))","v":0},0]
[null,null,null,null,null,null,null,null,null,null,null,null,null,null,null,null,null,null,null,null,null,null,null,null,null,null,null,{"$f":"HISTO!P839","v":0},{"$f":"IF(AC839=\"\",\"Zonard\",INDEX(AB840:AB$2008,MIN(IF(COUNTIF(AC$2:AC839,AB840:AB$2008),ROW(AB$2008)-ROW()+1,ROW(AB840:AB$2008)-ROW()+1))))","v":0},0]
[null,null,null,null,null,null,null,null,null,null,null,null,null,null,null,null,null,null,null,null,null,null,null,null,null,null,null,{"$f":"HISTO!P840","v":0},{"$f":"IF(AC840=\"\",\"Zonard\",INDEX(AB841:AB$2008,MIN(IF(COUNTIF(AC$2:AC840,AB841:AB$2008),ROW(AB$2008)-ROW()+1,ROW(AB841:AB$2008)-ROW()+1))))","v":0},0]
[null,null,null,null,null,null,null,null,null,null,null,null,null,null,null,null,null,null,null,null,null,null,null,null,null,null,null,{"$f":"HISTO!P841","v":0},{"$f":"IF(AC841=\"\",\"Zonard\",INDEX(AB842:AB$2008,MIN(IF(COUNTIF(AC$2:AC841,AB842:AB$2008),ROW(AB$2008)-ROW()+1,ROW(AB842:AB$2008)-ROW()+1))))","v":0},0]
[null,null,null,null,null,null,null,null,null,null,null,null,null,null,null,null,null,null,null,null,null,null,null,null,null,null,null,{"$f":"HISTO!P842","v":0},{"$f":"IF(AC842=\"\",\"Zonard\",INDEX(AB843:AB$2008,MIN(IF(COUNTIF(AC$2:AC842,AB843:AB$2008),ROW(AB$2008)-ROW()+1,ROW(AB843:AB$2008)-ROW()+1))))","v":0},0]
[null,null,null,null,null,null,null,null,null,null,null,null,null,null,null,null,null,null,null,null,null,null,null,null,null,null,null,{"$f":"HISTO!P843","v":0},{"$f":"IF(AC843=\"\",\"Zonard\",INDEX(AB844:AB$2008,MIN(IF(COUNTIF(AC$2:AC843,AB844:AB$2008),ROW(AB$2008)-ROW()+1,ROW(AB844:AB$2008)-ROW()+1))))","v":0},0]
[null,null,null,null,null,null,null,null,null,null,null,null,null,null,null,null,null,null,null,null,null,null,null,null,null,null,null,{"$f":"HISTO!P844","v":0},{"$f":"IF(AC844=\"\",\"Zonard\",INDEX(AB845:AB$2008,MIN(IF(COUNTIF(AC$2:AC844,AB845:AB$2008),ROW(AB$2008)-ROW()+1,ROW(AB845:AB$2008)-ROW()+1))))","v":0},0]
[null,null,null,null,null,null,null,null,null,null,null,null,null,null,null,null,null,null,null,null,null,null,null,null,null,null,null,{"$f":"HISTO!P845","v":0},{"$f":"IF(AC845=\"\",\"Zonard\",INDEX(AB846:AB$2008,MIN(IF(COUNTIF(AC$2:AC845,AB846:AB$2008),ROW(AB$2008)-ROW()+1,ROW(AB846:AB$2008)-ROW()+1))))","v":0},0]
[null,null,null,null,null,null,null,null,null,null,null,null,null,null,null,null,null,null,null,null,null,null,null,null,null,null,null,{"$f":"HISTO!P846","v":0},{"$f":"IF(AC846=\"\",\"Zonard\",INDEX(AB847:AB$2008,MIN(IF(COUNTIF(AC$2:AC846,AB847:AB$2008),ROW(AB$2008)-ROW()+1,ROW(AB847:AB$2008)-ROW()+1))))","v":0},0]
[null,null,null,null,null,null,null,null,null,null,null,null,null,null,null,null,null,null,null,null,null,null,null,null,null,null,null,{"$f":"HISTO!P847","v":0},{"$f":"IF(AC847=\"\",\"Zonard\",INDEX(AB848:AB$2008,MIN(IF(COUNTIF(AC$2:AC847,AB848:AB$2008),ROW(AB$2008)-ROW()+1,ROW(AB848:AB$2008)-ROW()+1))))","v":0},0]
[null,null,null,null,null,null,null,null,null,null,null,null,null,null,null,null,null,null,null,null,null,null,null,null,null,null,null,{"$f":"HISTO!P848","v":0},{"$f":"IF(AC848=\"\",\"Zonard\",INDEX(AB849:AB$2008,MIN(IF(COUNTIF(AC$2:AC848,AB849:AB$2008),ROW(AB$2008)-ROW()+1,ROW(AB849:AB$2008)-ROW()+1))))","v":0},0]
[null,null,null,null,null,null,null,null,null,null,null,null,null,null,null,null,null,null,null,null,null,null,null,null,null,null,null,{"$f":"HISTO!P849","v":0},{"$f":"IF(AC849=\"\",\"Zonard\",INDEX(AB850:AB$2008,MIN(IF(COUNTIF(AC$2:AC849,AB850:AB$2008),ROW(AB$2008)-ROW()+1,ROW(AB850:AB$2008)-ROW()+1))))","v":0},0]
[null,null,null,null,null,null,null,null,null,null,null,null,null,null,null,null,null,null,null,null,null,null,null,null,null,null,null,{"$f":"HISTO!P850","v":0},{"$f":"IF(AC850=\"\",\"Zonard\",INDEX(AB851:AB$2008,MIN(IF(COUNTIF(AC$2:AC850,AB851:AB$2008),ROW(AB$2008)-ROW()+1,ROW(AB851:AB$2008)-ROW()+1))))","v":0},0]
[null,null,null,null,null,null,null,null,null,null,null,null,null,null,null,null,null,null,null,null,null,null,null,null,null,null,null,{"$f":"HISTO!P851","v":0},{"$f":"IF(AC851=\"\",\"Zonard\",INDEX(AB852:AB$2008,MIN(IF(COUNTIF(AC$2:AC851,AB852:AB$2008),ROW(AB$2008)-ROW()+1,ROW(AB852:AB$2008)-ROW()+1))))","v":0},0]
[null,null,null,null,null,null,null,null,null,null,null,null,null,null,null,null,null,null,null,null,null,null,null,null,null,null,null,{"$f":"HISTO!P852","v":0},{"$f":"IF(AC852=\"\",\"Zonard\",INDEX(AB853:AB$2008,MIN(IF(COUNTIF(AC$2:AC852,AB853:AB$2008),ROW(AB$2008)-ROW()+1,ROW(AB853:AB$2008)-ROW()+1))))","v":0},0]
[null,null,null,null,null,null,null,null,null,null,null,null,null,null,null,null,null,null,null,null,null,null,null,null,null,null,null,{"$f":"HISTO!P853","v":0},{"$f":"IF(AC853=\"\",\"Zonard\",INDEX(AB854:AB$2008,MIN(IF(COUNTIF(AC$2:AC853,AB854:AB$2008),ROW(AB$2008)-ROW()+1,ROW(AB854:AB$2008)-ROW()+1))))","v":0},0]
[null,null,null,null,null,null,null,null,null,null,null,null,null,null,null,null,null,null,null,null,null,null,null,null,null,null,null,{"$f":"HISTO!P854","v":0},{"$f":"IF(AC854=\"\",\"Zonard\",INDEX(AB855:AB$2008,MIN(IF(COUNTIF(AC$2:AC854,AB855:AB$2008),ROW(AB$2008)-ROW()+1,ROW(AB855:AB$2008)-ROW()+1))))","v":0},0]
[null,null,null,null,null,null,null,null,null,null,null,null,null,null,null,null,null,null,null,null,null,null,null,null,null,null,null,{"$f":"HISTO!P855","v":0},{"$f":"IF(AC855=\"\",\"Zonard\",INDEX(AB856:AB$2008,MIN(IF(COUNTIF(AC$2:AC855,AB856:AB$2008),ROW(AB$2008)-ROW()+1,ROW(AB856:AB$2008)-ROW()+1))))","v":0},0]
[null,null,null,null,null,null,null,null,null,null,null,null,null,null,null,null,null,null,null,null,null,null,null,null,null,null,null,{"$f":"HISTO!P856","v":0},{"$f":"IF(AC856=\"\",\"Zonard\",INDEX(AB857:AB$2008,MIN(IF(COUNTIF(AC$2:AC856,AB857:AB$2008),ROW(AB$2008)-ROW()+1,ROW(AB857:AB$2008)-ROW()+1))))","v":0},0]
[null,null,null,null,null,null,null,null,null,null,null,null,null,null,null,null,null,null,null,null,null,null,null,null,null,null,null,{"$f":"HISTO!P857","v":0},{"$f":"IF(AC857=\"\",\"Zonard\",INDEX(AB858:AB$2008,MIN(IF(COUNTIF(AC$2:AC857,AB858:AB$2008),ROW(AB$2008)-ROW()+1,ROW(AB858:AB$2008)-ROW()+1))))","v":0},0]
[null,null,null,null,null,null,null,null,null,null,null,null,null,null,null,null,null,null,null,null,null,null,null,null,null,null,null,{"$f":"HISTO!P858","v":0},{"$f":"IF(AC858=\"\",\"Zonard\",INDEX(AB859:AB$2008,MIN(IF(COUNTIF(AC$2:AC858,AB859:AB$2008),ROW(AB$2008)-ROW()+1,ROW(AB859:AB$2008)-ROW()+1))))","v":0},0]
[null,null,null,null,null,null,null,null,null,null,null,null,null,null,null,null,null,null,null,null,null,null,null,null,null,null,null,{"$f":"HISTO!P859","v":0},{"$f":"IF(AC859=\"\",\"Zonard\",INDEX(AB860:AB$2008,MIN(IF(COUNTIF(AC$2:AC859,AB860:AB$2008),ROW(AB$2008)-ROW()+1,ROW(AB860:AB$2008)-ROW()+1))))","v":0},0]
[null,null,null,null,null,null,null,null,null,null,null,null,null,null,null,null,null,null,null,null,null,null,null,null,null,null,null,{"$f":"HISTO!P860","v":0},{"$f":"IF(AC860=\"\",\"Zonard\",INDEX(AB861:AB$2008,MIN(IF(COUNTIF(AC$2:AC860,AB861:AB$2008),ROW(AB$2008)-ROW()+1,ROW(AB861:AB$2008)-ROW()+1))))","v":0},0]
[null,null,null,null,null,null,null,null,null,null,null,null,null,null,null,null,null,null,null,null,null,null,null,null,null,null,null,{"$f":"HISTO!P861","v":0},{"$f":"IF(AC861=\"\",\"Zonard\",INDEX(AB862:AB$2008,MIN(IF(COUNTIF(AC$2:AC861,AB862:AB$2008),ROW(AB$2008)-ROW()+1,ROW(AB862:AB$2008)-ROW()+1))))","v":0},0]
[null,null,null,null,null,null,null,null,null,null,null,null,null,null,null,null,null,null,null,null,null,null,null,null,null,null,null,{"$f":"HISTO!P862","v":0},{"$f":"IF(AC862=\"\",\"Zonard\",INDEX(AB863:AB$2008,MIN(IF(COUNTIF(AC$2:AC862,AB863:AB$2008),ROW(AB$2008)-ROW()+1,ROW(AB863:AB$2008)-ROW()+1))))","v":0},0]
[null,null,null,null,null,null,null,null,null,null,null,null,null,null,null,null,null,null,null,null,null,null,null,null,null,null,null,{"$f":"HISTO!P863","v":0},{"$f":"IF(AC863=\"\",\"Zonard\",INDEX(AB864:AB$2008,MIN(IF(COUNTIF(AC$2:AC863,AB864:AB$2008),ROW(AB$2008)-ROW()+1,ROW(AB864:AB$2008)-ROW()+1))))","v":0},0]
[null,null,null,null,null,null,null,null,null,null,null,null,null,null,null,null,null,null,null,null,null,null,null,null,null,null,null,{"$f":"HISTO!P864","v":0},{"$f":"IF(AC864=\"\",\"Zonard\",INDEX(AB865:AB$2008,MIN(IF(COUNTIF(AC$2:AC864,AB865:AB$2008),ROW(AB$2008)-ROW()+1,ROW(AB865:AB$2008)-ROW()+1))))","v":0},0]
[null,null,null,null,null,null,null,null,null,null,null,null,null,null,null,null,null,null,null,null,null,null,null,null,null,null,null,{"$f":"HISTO!P865","v":0},{"$f":"IF(AC865=\"\",\"Zonard\",INDEX(AB866:AB$2008,MIN(IF(COUNTIF(AC$2:AC865,AB866:AB$2008),ROW(AB$2008)-ROW()+1,ROW(AB866:AB$2008)-ROW()+1))))","v":0},0]
[null,null,null,null,null,null,null,null,null,null,null,null,null,null,null,null,null,null,null,null,null,null,null,null,null,null,null,{"$f":"HISTO!P866","v":0},{"$f":"IF(AC866=\"\",\"Zonard\",INDEX(AB867:AB$2008,MIN(IF(COUNTIF(AC$2:AC866,AB867:AB$2008),ROW(AB$2008)-ROW()+1,ROW(AB867:AB$2008)-ROW()+1))))","v":0},0]
[null,null,null,null,null,null,null,null,null,null,null,null,null,null,null,null,null,null,null,null,null,null,null,null,null,null,null,{"$f":"HISTO!P867","v":0},{"$f":"IF(AC867=\"\",\"Zonard\",INDEX(AB868:AB$2008,MIN(IF(COUNTIF(AC$2:AC867,AB868:AB$2008),ROW(AB$2008)-ROW()+1,ROW(AB868:AB$2008)-ROW()+1))))","v":0},0]
[null,null,null,null,null,null,null,null,null,null,null,null,null,null,null,null,null,null,null,null,null,null,null,null,null,null,null,{"$f":"HISTO!P868","v":0},{"$f":"IF(AC868=\"\",\"Zonard\",INDEX(AB869:AB$2008,MIN(IF(COUNTIF(AC$2:AC868,AB869:AB$2008),ROW(AB$2008)-ROW()+1,ROW(AB869:AB$2008)-ROW()+1))))","v":0},0]
[null,null,null,null,null,null,null,null,null,null,null,null,null,null,null,null,null,null,null,null,null,null,null,null,null,null,null,{"$f":"HISTO!P869","v":0},{"$f":"IF(AC869=\"\",\"Zonard\",INDEX(AB870:AB$2008,MIN(IF(COUNTIF(AC$2:AC869,AB870:AB$2008),ROW(AB$2008)-ROW()+1,ROW(AB870:AB$2008)-ROW()+1))))","v":0},0]
[null,null,null,null,null,null,null,null,null,null,null,null,null,null,null,null,null,null,null,null,null,null,null,null,null,null,null,{"$f":"HISTO!P870","v":0},{"$f":"IF(AC870=\"\",\"Zonard\",INDEX(AB871:AB$2008,MIN(IF(COUNTIF(AC$2:AC870,AB871:AB$2008),ROW(AB$2008)-ROW()+1,ROW(AB871:AB$2008)-ROW()+1))))","v":0},0]
[null,null,null,null,null,null,null,null,null,null,null,null,null,null,null,null,null,null,null,null,null,null,null,null,null,null,null,{"$f":"HISTO!P871","v":0},{"$f":"IF(AC871=\"\",\"Zonard\",INDEX(AB872:AB$2008,MIN(IF(COUNTIF(AC$2:AC871,AB872:AB$2008),ROW(AB$2008)-ROW()+1,ROW(AB872:AB$2008)-ROW()+1))))","v":0},0]
[null,null,null,null,null,null,null,null,null,null,null,null,null,null,null,null,null,null,null,null,null,null,null,null,null,null,null,{"$f":"HISTO!P872","v":0},{"$f":"IF(AC872=\"\",\"Zonard\",INDEX(AB873:AB$2008,MIN(IF(COUNTIF(AC$2:AC872,AB873:AB$2008),ROW(AB$2008)-ROW()+1,ROW(AB873:AB$2008)-ROW()+1))))","v":0},0]
[null,null,null,null,null,null,null,null,null,null,null,null,null,null,null,null,null,null,null,null,null,null,null,null,null,null,null,{"$f":"HISTO!P873","v":0},{"$f":"IF(AC873=\"\",\"Zonard\",INDEX(AB874:AB$2008,MIN(IF(COUNTIF(AC$2:AC873,AB874:AB$2008),ROW(AB$2008)-ROW()+1,ROW(AB874:AB$2008)-ROW()+1))))","v":0},0]
[null,null,null,null,null,null,null,null,null,null,null,null,null,null,null,null,null,null,null,null,null,null,null,null,null,null,null,{"$f":"HISTO!P874","v":0},{"$f":"IF(AC874=\"\",\"Zonard\",INDEX(AB875:AB$2008,MIN(IF(COUNTIF(AC$2:AC874,AB875:AB$2008),ROW(AB$2008)-ROW()+1,ROW(AB875:AB$2008)-ROW()+1))))","v":0},0]
[null,null,null,null,null,null,null,null,null,null,null,null,null,null,null,null,null,null,null,null,null,null,null,null,null,null,null,{"$f":"HISTO!P875","v":0},{"$f":"IF(AC875=\"\",\"Zonard\",INDEX(AB876:AB$2008,MIN(IF(COUNTIF(AC$2:AC875,AB876:AB$2008),ROW(AB$2008)-ROW()+1,ROW(AB876:AB$2008)-ROW()+1))))","v":0},0]
[null,null,null,null,null,null,null,null,null,null,null,null,null,null,null,null,null,null,null,null,null,null,null,null,null,null,null,{"$f":"HISTO!P876","v":0},{"$f":"IF(AC876=\"\",\"Zonard\",INDEX(AB877:AB$2008,MIN(IF(COUNTIF(AC$2:AC876,AB877:AB$2008),ROW(AB$2008)-ROW()+1,ROW(AB877:AB$2008)-ROW()+1))))","v":0},0]
[null,null,null,null,null,null,null,null,null,null,null,null,null,null,null,null,null,null,null,null,null,null,null,null,null,null,null,{"$f":"HISTO!P877","v":0},{"$f":"IF(AC877=\"\",\"Zonard\",INDEX(AB878:AB$2008,MIN(IF(COUNTIF(AC$2:AC877,AB878:AB$2008),ROW(AB$2008)-ROW()+1,ROW(AB878:AB$2008)-ROW()+1))))","v":0},0]
[null,null,null,null,null,null,null,null,null,null,null,null,null,null,null,null,null,null,null,null,null,null,null,null,null,null,null,{"$f":"HISTO!P878","v":0},{"$f":"IF(AC878=\"\",\"Zonard\",INDEX(AB879:AB$2008,MIN(IF(COUNTIF(AC$2:AC878,AB879:AB$2008),ROW(AB$2008)-ROW()+1,ROW(AB879:AB$2008)-ROW()+1))))","v":0},0]
[null,null,null,null,null,null,null,null,null,null,null,null,null,null,null,null,null,null,null,null,null,null,null,null,null,null,null,{"$f":"HISTO!P879","v":0},{"$f":"IF(AC879=\"\",\"Zonard\",INDEX(AB880:AB$2008,MIN(IF(COUNTIF(AC$2:AC879,AB880:AB$2008),ROW(AB$2008)-ROW()+1,ROW(AB880:AB$2008)-ROW()+1))))","v":0},0]
[null,null,null,null,null,null,null,null,null,null,null,null,null,null,null,null,null,null,null,null,null,null,null,null,null,null,null,{"$f":"HISTO!P880","v":0},{"$f":"IF(AC880=\"\",\"Zonard\",INDEX(AB881:AB$2008,MIN(IF(COUNTIF(AC$2:AC880,AB881:AB$2008),ROW(AB$2008)-ROW()+1,ROW(AB881:AB$2008)-ROW()+1))))","v":0},0]
[null,null,null,null,null,null,null,null,null,null,null,null,null,null,null,null,null,null,null,null,null,null,null,null,null,null,null,{"$f":"HISTO!P881","v":0},{"$f":"IF(AC881=\"\",\"Zonard\",INDEX(AB882:AB$2008,MIN(IF(COUNTIF(AC$2:AC881,AB882:AB$2008),ROW(AB$2008)-ROW()+1,ROW(AB882:AB$2008)-ROW()+1))))","v":0},0]
[null,null,null,null,null,null,null,null,null,null,null,null,null,null,null,null,null,null,null,null,null,null,null,null,null,null,null,{"$f":"HISTO!P882","v":0},{"$f":"IF(AC882=\"\",\"Zonard\",INDEX(AB883:AB$2008,MIN(IF(COUNTIF(AC$2:AC882,AB883:AB$2008),ROW(AB$2008)-ROW()+1,ROW(AB883:AB$2008)-ROW()+1))))","v":0},0]
[null,null,null,null,null,null,null,null,null,null,null,null,null,null,null,null,null,null,null,null,null,null,null,null,null,null,null,{"$f":"HISTO!P883","v":0},{"$f":"IF(AC883=\"\",\"Zonard\",INDEX(AB884:AB$2008,MIN(IF(COUNTIF(AC$2:AC883,AB884:AB$2008),ROW(AB$2008)-ROW()+1,ROW(AB884:AB$2008)-ROW()+1))))","v":0},0]
[null,null,null,null,null,null,null,null,null,null,null,null,null,null,null,null,null,null,null,null,null,null,null,null,null,null,null,{"$f":"HISTO!P884","v":0},{"$f":"IF(AC884=\"\",\"Zonard\",INDEX(AB885:AB$2008,MIN(IF(COUNTIF(AC$2:AC884,AB885:AB$2008),ROW(AB$2008)-ROW()+1,ROW(AB885:AB$2008)-ROW()+1))))","v":0},0]
[null,null,null,null,null,null,null,null,null,null,null,null,null,null,null,null,null,null,null,null,null,null,null,null,null,null,null,{"$f":"HISTO!P885","v":0},{"$f":"IF(AC885=\"\",\"Zonard\",INDEX(AB886:AB$2008,MIN(IF(COUNTIF(AC$2:AC885,AB886:AB$2008),ROW(AB$2008)-ROW()+1,ROW(AB886:AB$2008)-ROW()+1))))","v":0},0]
[null,null,null,null,null,null,null,null,null,null,null,null,null,null,null,null,null,null,null,null,null,null,null,null,null,null,null,{"$f":"HISTO!P886","v":0},{"$f":"IF(AC886=\"\",\"Zonard\",INDEX(AB887:AB$2008,MIN(IF(COUNTIF(AC$2:AC886,AB887:AB$2008),ROW(AB$2008)-ROW()+1,ROW(AB887:AB$2008)-ROW()+1))))","v":0},0]
[null,null,null,null,null,null,null,null,null,null,null,null,null,null,null,null,null,null,null,null,null,null,null,null,null,null,null,{"$f":"HISTO!P887","v":0},{"$f":"IF(AC887=\"\",\"Zonard\",INDEX(AB888:AB$2008,MIN(IF(COUNTIF(AC$2:AC887,AB888:AB$2008),ROW(AB$2008)-ROW()+1,ROW(AB888:AB$2008)-ROW()+1))))","v":0},0]
[null,null,null,null,null,null,null,null,null,null,null,null,null,null,null,null,null,null,null,null,null,null,null,null,null,null,null,{"$f":"HISTO!P888","v":0},{"$f":"IF(AC888=\"\",\"Zonard\",INDEX(AB889:AB$2008,MIN(IF(COUNTIF(AC$2:AC888,AB889:AB$2008),ROW(AB$2008)-ROW()+1,ROW(AB889:AB$2008)-ROW()+1))))","v":0},0]
[null,null,null,null,null,null,null,null,null,null,null,null,null,null,null,null,null,null,null,null,null,null,null,null,null,null,null,{"$f":"HISTO!P889","v":0},{"$f":"IF(AC889=\"\",\"Zonard\",INDEX(AB890:AB$2008,MIN(IF(COUNTIF(AC$2:AC889,AB890:AB$2008),ROW(AB$2008)-ROW()+1,ROW(AB890:AB$2008)-ROW()+1))))","v":0},0]
[null,null,null,null,null,null,null,null,null,null,null,null,null,null,null,null,null,null,null,null,null,null,null,null,null,null,null,{"$f":"HISTO!P890","v":0},{"$f":"IF(AC890=\"\",\"Zonard\",INDEX(AB891:AB$2008,MIN(IF(COUNTIF(AC$2:AC890,AB891:AB$2008),ROW(AB$2008)-ROW()+1,ROW(AB891:AB$2008)-ROW()+1))))","v":0},0]
[null,null,null,null,null,null,null,null,null,null,null,null,null,null,null,null,null,null,null,null,null,null,null,null,null,null,null,{"$f":"HISTO!P891","v":0},{"$f":"IF(AC891=\"\",\"Zonard\",INDEX(AB892:AB$2008,MIN(IF(COUNTIF(AC$2:AC891,AB892:AB$2008),ROW(AB$2008)-ROW()+1,ROW(AB892:AB$2008)-ROW()+1))))","v":0},0]
[null,null,null,null,null,null,null,null,null,null,null,null,null,null,null,null,null,null,null,null,null,null,null,null,null,null,null,{"$f":"HISTO!P892","v":0},{"$f":"IF(AC892=\"\",\"Zonard\",INDEX(AB893:AB$2008,MIN(IF(COUNTIF(AC$2:AC892,AB893:AB$2008),ROW(AB$2008)-ROW()+1,ROW(AB893:AB$2008)-ROW()+1))))","v":0},0]
[null,null,null,null,null,null,null,null,null,null,null,null,null,null,null,null,null,null,null,null,null,null,null,null,null,null,null,{"$f":"HISTO!P893","v":0},{"$f":"IF(AC893=\"\",\"Zonard\",INDEX(AB894:AB$2008,MIN(IF(COUNTIF(AC$2:AC893,AB894:AB$2008),ROW(AB$2008)-ROW()+1,ROW(AB894:AB$2008)-ROW()+1))))","v":0},0]
[null,null,null,null,null,null,null,null,null,null,null,null,null,null,null,null,null,null,null,null,null,null,null,null,null,null,null,{"$f":"HISTO!P894","v":0},{"$f":"IF(AC894=\"\",\"Zonard\",INDEX(AB895:AB$2008,MIN(IF(COUNTIF(AC$2:AC894,AB895:AB$2008),ROW(AB$2008)-ROW()+1,ROW(AB895:AB$2008)-ROW()+1))))","v":0},0]
[null,null,null,null,null,null,null,null,null,null,null,null,null,null,null,null,null,null,null,null,null,null,null,null,null,null,null,{"$f":"HISTO!P895","v":0},{"$f":"IF(AC895=\"\",\"Zonard\",INDEX(AB896:AB$2008,MIN(IF(COUNTIF(AC$2:AC895,AB896:AB$2008),ROW(AB$2008)-ROW()+1,ROW(AB896:AB$2008)-ROW()+1))))","v":0},0]
[null,null,null,null,null,null,null,null,null,null,null,null,null,null,null,null,null,null,null,null,null,null,null,null,null,null,null,{"$f":"HISTO!P896","v":0},{"$f":"IF(AC896=\"\",\"Zonard\",INDEX(AB897:AB$2008,MIN(IF(COUNTIF(AC$2:AC896,AB897:AB$2008),ROW(AB$2008)-ROW()+1,ROW(AB897:AB$2008)-ROW()+1))))","v":0},0]
[null,null,null,null,null,null,null,null,null,null,null,null,null,null,null,null,null,null,null,null,null,null,null,null,null,null,null,{"$f":"HISTO!P897","v":0},{"$f":"IF(AC897=\"\",\"Zonard\",INDEX(AB898:AB$2008,MIN(IF(COUNTIF(AC$2:AC897,AB898:AB$2008),ROW(AB$2008)-ROW()+1,ROW(AB898:AB$2008)-ROW()+1))))","v":0},0]
[null,null,null,null,null,null,null,null,null,null,null,null,null,null,null,null,null,null,null,null,null,null,null,null,null,null,null,{"$f":"HISTO!P898","v":0},{"$f":"IF(AC898=\"\",\"Zonard\",INDEX(AB899:AB$2008,MIN(IF(COUNTIF(AC$2:AC898,AB899:AB$2008),ROW(AB$2008)-ROW()+1,ROW(AB899:AB$2008)-ROW()+1))))","v":0},0]
[null,null,null,null,null,null,null,null,null,null,null,null,null,null,null,null,null,null,null,null,null,null,null,null,null,null,null,{"$f":"HISTO!P899","v":0},{"$f":"IF(AC899=\"\",\"Zonard\",INDEX(AB900:AB$2008,MIN(IF(COUNTIF(AC$2:AC899,AB900:AB$2008),ROW(AB$2008)-ROW()+1,ROW(AB900:AB$2008)-ROW()+1))))","v":0},0]
[null,null,null,null,null,null,null,null,null,null,null,null,null,null,null,null,null,null,null,null,null,null,null,null,null,null,null,{"$f":"HISTO!P900","v":0},{"$f":"IF(AC900=\"\",\"Zonard\",INDEX(AB901:AB$2008,MIN(IF(COUNTIF(AC$2:AC900,AB901:AB$2008),ROW(AB$2008)-ROW()+1,ROW(AB901:AB$2008)-ROW()+1))))","v":0},0]
[null,null,null,null,null,null,null,null,null,null,null,null,null,null,null,null,null,null,null,null,null,null,null,null,null,null,null,{"$f":"HISTO!P901","v":0},{"$f":"IF(AC901=\"\",\"Zonard\",INDEX(AB902:AB$2008,MIN(IF(COUNTIF(AC$2:AC901,AB902:AB$2008),ROW(AB$2008)-ROW()+1,ROW(AB902:AB$2008)-ROW()+1))))","v":0},0]
[null,null,null,null,null,null,null,null,null,null,null,null,null,null,null,null,null,null,null,null,null,null,null,null,null,null,null,{"$f":"HISTO!P902","v":0},{"$f":"IF(AC902=\"\",\"Zonard\",INDEX(AB903:AB$2008,MIN(IF(COUNTIF(AC$2:AC902,AB903:AB$2008),ROW(AB$2008)-ROW()+1,ROW(AB903:AB$2008)-ROW()+1))))","v":0},0]
[null,null,null,null,null,null,null,null,null,null,null,null,null,null,null,null,null,null,null,null,null,null,null,null,null,null,null,{"$f":"HISTO!P903","v":0},{"$f":"IF(AC903=\"\",\"Zonard\",INDEX(AB904:AB$2008,MIN(IF(COUNTIF(AC$2:AC903,AB904:AB$2008),ROW(AB$2008)-ROW()+1,ROW(AB904:AB$2008)-ROW()+1))))","v":0},0]
[null,null,null,null,null,null,null,null,null,null,null,null,null,null,null,null,null,null,null,null,null,null,null,null,null,null,null,{"$f":"HISTO!P904","v":0},{"$f":"IF(AC904=\"\",\"Zonard\",INDEX(AB905:AB$2008,MIN(IF(COUNTIF(AC$2:AC904,AB905:AB$2008),ROW(AB$2008)-ROW()+1,ROW(AB905:AB$2008)-ROW()+1))))","v":0},0]
[null,null,null,null,null,null,null,null,null,null,null,null,null,null,null,null,null,null,null,null,null,null,null,null,null,null,null,{"$f":"HISTO!P905","v":0},{"$f":"IF(AC905=\"\",\"Zonard\",INDEX(AB906:AB$2008,MIN(IF(COUNTIF(AC$2:AC905,AB906:AB$2008),ROW(AB$2008)-ROW()+1,ROW(AB906:AB$2008)-ROW()+1))))","v":0},0]
[null,null,null,null,null,null,null,null,null,null,null,null,null,null,null,null,null,null,null,null,null,null,null,null,null,null,null,{"$f":"HISTO!P906","v":0},{"$f":"IF(AC906=\"\",\"Zonard\",INDEX(AB907:AB$2008,MIN(IF(COUNTIF(AC$2:AC906,AB907:AB$2008),ROW(AB$2008)-ROW()+1,ROW(AB907:AB$2008)-ROW()+1))))","v":0},0]
[null,null,null,null,null,null,null,null,null,null,null,null,null,null,null,null,null,null,null,null,null,null,null,null,null,null,null,{"$f":"HISTO!P907","v":0},{"$f":"IF(AC907=\"\",\"Zonard\",INDEX(AB908:AB$2008,MIN(IF(COUNTIF(AC$2:AC907,AB908:AB$2008),ROW(AB$2008)-ROW()+1,ROW(AB908:AB$2008)-ROW()+1))))","v":0},0]
[null,null,null,null,null,null,null,null,null,null,null,null,null,null,null,null,null,null,null,null,null,null,null,null,null,null,null,{"$f":"HISTO!P908","v":0},{"$f":"IF(AC908=\"\",\"Zonard\",INDEX(AB909:AB$2008,MIN(IF(COUNTIF(AC$2:AC908,AB909:AB$2008),ROW(AB$2008)-ROW()+1,ROW(AB909:AB$2008)-ROW()+1))))","v":0},0]
[null,null,null,null,null,null,null,null,null,null,null,null,null,null,null,null,null,null,null,null,null,null,null,null,null,null,null,{"$f":"HISTO!P909","v":0},{"$f":"IF(AC909=\"\",\"Zonard\",INDEX(AB910:AB$2008,MIN(IF(COUNTIF(AC$2:AC909,AB910:AB$2008),ROW(AB$2008)-ROW()+1,ROW(AB910:AB$2008)-ROW()+1))))","v":0},0]
[null,null,null,null,null,null,null,null,null,null,null,null,null,null,null,null,null,null,null,null,null,null,null,null,null,null,null,{"$f":"HISTO!P910","v":0},{"$f":"IF(AC910=\"\",\"Zonard\",INDEX(AB911:AB$2008,MIN(IF(COUNTIF(AC$2:AC910,AB911:AB$2008),ROW(AB$2008)-ROW()+1,ROW(AB911:AB$2008)-ROW()+1))))","v":0},0]
[null,null,null,null,null,null,null,null,null,null,null,null,null,null,null,null,null,null,null,null,null,null,null,null,null,null,null,{"$f":"HISTO!P911","v":0},{"$f":"IF(AC911=\"\",\"Zonard\",INDEX(AB912:AB$2008,MIN(IF(COUNTIF(AC$2:AC911,AB912:AB$2008),ROW(AB$2008)-ROW()+1,ROW(AB912:AB$2008)-ROW()+1))))","v":0},0]
[null,null,null,null,null,null,null,null,null,null,null,null,null,null,null,null,null,null,null,null,null,null,null,null,null,null,null,{"$f":"HISTO!P912","v":0},{"$f":"IF(AC912=\"\",\"Zonard\",INDEX(AB913:AB$2008,MIN(IF(COUNTIF(AC$2:AC912,AB913:AB$2008),ROW(AB$2008)-ROW()+1,ROW(AB913:AB$2008)-ROW()+1))))","v":0},0]
[null,null,null,null,null,null,null,null,null,null,null,null,null,null,null,null,null,null,null,null,null,null,null,null,null,null,null,{"$f":"HISTO!P913","v":0},{"$f":"IF(AC913=\"\",\"Zonard\",INDEX(AB914:AB$2008,MIN(IF(COUNTIF(AC$2:AC913,AB914:AB$2008),ROW(AB$2008)-ROW()+1,ROW(AB914:AB$2008)-ROW()+1))))","v":0},0]
[null,null,null,null,null,null,null,null,null,null,null,null,null,null,null,null,null,null,null,null,null,null,null,null,null,null,null,{"$f":"HISTO!P914","v":0},{"$f":"IF(AC914=\"\",\"Zonard\",INDEX(AB915:AB$2008,MIN(IF(COUNTIF(AC$2:AC914,AB915:AB$2008),ROW(AB$2008)-ROW()+1,ROW(AB915:AB$2008)-ROW()+1))))","v":0},0]
[null,null,null,null,null,null,null,null,null,null,null,null,null,null,null,null,null,null,null,null,null,null,null,null,null,null,null,{"$f":"HISTO!P915","v":0},{"$f":"IF(AC915=\"\",\"Zonard\",INDEX(AB916:AB$2008,MIN(IF(COUNTIF(AC$2:AC915,AB916:AB$2008),ROW(AB$2008)-ROW()+1,ROW(AB916:AB$2008)-ROW()+1))))","v":0},0]
[null,null,null,null,null,null,null,null,null,null,null,null,null,null,null,null,null,null,null,null,null,null,null,null,null,null,null,{"$f":"HISTO!P916","v":0},{"$f":"IF(AC916=\"\",\"Zonard\",INDEX(AB917:AB$2008,MIN(IF(COUNTIF(AC$2:AC916,AB917:AB$2008),ROW(AB$2008)-ROW()+1,ROW(AB917:AB$2008)-ROW()+1))))","v":0},0]
[null,null,null,null,null,null,null,null,null,null,null,null,null,null,null,null,null,null,null,null,null,null,null,null,null,null,null,{"$f":"HISTO!P917","v":0},{"$f":"IF(AC917=\"\",\"Zonard\",INDEX(AB918:AB$2008,MIN(IF(COUNTIF(AC$2:AC917,AB918:AB$2008),ROW(AB$2008)-ROW()+1,ROW(AB918:AB$2008)-ROW()+1))))","v":0},0]
[null,null,null,null,null,null,null,null,null,null,null,null,null,null,null,null,null,null,null,null,null,null,null,null,null,null,null,{"$f":"HISTO!P918","v":0},{"$f":"IF(AC918=\"\",\"Zonard\",INDEX(AB919:AB$2008,MIN(IF(COUNTIF(AC$2:AC918,AB919:AB$2008),ROW(AB$2008)-ROW()+1,ROW(AB919:AB$2008)-ROW()+1))))","v":0},0]
[null,null,null,null,null,null,null,null,null,null,null,null,null,null,null,null,null,null,null,null,null,null,null,null,null,null,null,{"$f":"HISTO!P919","v":0},{"$f":"IF(AC919=\"\",\"Zonard\",INDEX(AB920:AB$2008,MIN(IF(COUNTIF(AC$2:AC919,AB920:AB$2008),ROW(AB$2008)-ROW()+1,ROW(AB920:AB$2008)-ROW()+1))))","v":0},0]
[null,null,null,null,null,null,null,null,null,null,null,null,null,null,null,null,null,null,null,null,null,null,null,null,null,null,null,{"$f":"HISTO!P920","v":0},{"$f":"IF(AC920=\"\",\"Zonard\",INDEX(AB921:AB$2008,MIN(IF(COUNTIF(AC$2:AC920,AB921:AB$2008),ROW(AB$2008)-ROW()+1,ROW(AB921:AB$2008)-ROW()+1))))","v":0},0]
[null,null,null,null,null,null,null,null,null,null,null,null,null,null,null,null,null,null,null,null,null,null,null,null,null,null,null,{"$f":"HISTO!P921","v":0},{"$f":"IF(AC921=\"\",\"Zonard\",INDEX(AB922:AB$2008,MIN(IF(COUNTIF(AC$2:AC921,AB922:AB$2008),ROW(AB$2008)-ROW()+1,ROW(AB922:AB$2008)-ROW()+1))))","v":0},0]
[null,null,null,null,null,null,null,null,null,null,null,null,null,null,null,null,null,null,null,null,null,null,null,null,null,null,null,{"$f":"HISTO!P922","v":0},{"$f":"IF(AC922=\"\",\"Zonard\",INDEX(AB923:AB$2008,MIN(IF(COUNTIF(AC$2:AC922,AB923:AB$2008),ROW(AB$2008)-ROW()+1,ROW(AB923:AB$2008)-ROW()+1))))","v":0},0]
[null,null,null,null,null,null,null,null,null,null,null,null,null,null,null,null,null,null,null,null,null,null,null,null,null,null,null,{"$f":"HISTO!P923","v":0},{"$f":"IF(AC923=\"\",\"Zonard\",INDEX(AB924:AB$2008,MIN(IF(COUNTIF(AC$2:AC923,AB924:AB$2008),ROW(AB$2008)-ROW()+1,ROW(AB924:AB$2008)-ROW()+1))))","v":0},0]
[null,null,null,null,null,null,null,null,null,null,null,null,null,null,null,null,null,null,null,null,null,null,null,null,null,null,null,{"$f":"HISTO!P924","v":0},{"$f":"IF(AC924=\"\",\"Zonard\",INDEX(AB925:AB$2008,MIN(IF(COUNTIF(AC$2:AC924,AB925:AB$2008),ROW(AB$2008)-ROW()+1,ROW(AB925:AB$2008)-ROW()+1))))","v":0},0]
[null,null,null,null,null,null,null,null,null,null,null,null,null,null,null,null,null,null,null,null,null,null,null,null,null,null,null,{"$f":"HISTO!P925","v":0},{"$f":"IF(AC925=\"\",\"Zonard\",INDEX(AB926:AB$2008,MIN(IF(COUNTIF(AC$2:AC925,AB926:AB$2008),ROW(AB$2008)-ROW()+1,ROW(AB926:AB$2008)-ROW()+1))))","v":0},0]
[null,null,null,null,null,null,null,null,null,null,null,null,null,null,null,null,null,null,null,null,null,null,null,null,null,null,null,{"$f":"HISTO!P926","v":0},{"$f":"IF(AC926=\"\",\"Zonard\",INDEX(AB927:AB$2008,MIN(IF(COUNTIF(AC$2:AC926,AB927:AB$2008),ROW(AB$2008)-ROW()+1,ROW(AB927:AB$2008)-ROW()+1))))","v":0},0]
[null,null,null,null,null,null,null,null,null,null,null,null,null,null,null,null,null,null,null,null,null,null,null,null,null,null,null,{"$f":"HISTO!P927","v":0},{"$f":"IF(AC927=\"\",\"Zonard\",INDEX(AB928:AB$2008,MIN(IF(COUNTIF(AC$2:AC927,AB928:AB$2008),ROW(AB$2008)-ROW()+1,ROW(AB928:AB$2008)-ROW()+1))))","v":0},0]
[null,null,null,null,null,null,null,null,null,null,null,null,null,null,null,null,null,null,null,null,null,null,null,null,null,null,null,{"$f":"HISTO!P928","v":0},{"$f":"IF(AC928=\"\",\"Zonard\",INDEX(AB929:AB$2008,MIN(IF(COUNTIF(AC$2:AC928,AB929:AB$2008),ROW(AB$2008)-ROW()+1,ROW(AB929:AB$2008)-ROW()+1))))","v":0},0]
[null,null,null,null,null,null,null,null,null,null,null,null,null,null,null,null,null,null,null,null,null,null,null,null,null,null,null,{"$f":"HISTO!P929","v":0},{"$f":"IF(AC929=\"\",\"Zonard\",INDEX(AB930:AB$2008,MIN(IF(COUNTIF(AC$2:AC929,AB930:AB$2008),ROW(AB$2008)-ROW()+1,ROW(AB930:AB$2008)-ROW()+1))))","v":0},0]
[null,null,null,null,null,null,null,null,null,null,null,null,null,null,null,null,null,null,null,null,null,null,null,null,null,null,null,{"$f":"HISTO!P930","v":0},{"$f":"IF(AC930=\"\",\"Zonard\",INDEX(AB931:AB$2008,MIN(IF(COUNTIF(AC$2:AC930,AB931:AB$2008),ROW(AB$2008)-ROW()+1,ROW(AB931:AB$2008)-ROW()+1))))","v":0},0]
[null,null,null,null,null,null,null,null,null,null,null,null,null,null,null,null,null,null,null,null,null,null,null,null,null,null,null,{"$f":"HISTO!P931","v":0},{"$f":"IF(AC931=\"\",\"Zonard\",INDEX(AB932:AB$2008,MIN(IF(COUNTIF(AC$2:AC931,AB932:AB$2008),ROW(AB$2008)-ROW()+1,ROW(AB932:AB$2008)-ROW()+1))))","v":0},0]
[null,null,null,null,null,null,null,null,null,null,null,null,null,null,null,null,null,null,null,null,null,null,null,null,null,null,null,{"$f":"HISTO!P932","v":0},{"$f":"IF(AC932=\"\",\"Zonard\",INDEX(AB933:AB$2008,MIN(IF(COUNTIF(AC$2:AC932,AB933:AB$2008),ROW(AB$2008)-ROW()+1,ROW(AB933:AB$2008)-ROW()+1))))","v":0},0]
[null,null,null,null,null,null,null,null,null,null,null,null,null,null,null,null,null,null,null,null,null,null,null,null,null,null,null,{"$f":"HISTO!P933","v":0},{"$f":"IF(AC933=\"\",\"Zonard\",INDEX(AB934:AB$2008,MIN(IF(COUNTIF(AC$2:AC933,AB934:AB$2008),ROW(AB$2008)-ROW()+1,ROW(AB934:AB$2008)-ROW()+1))))","v":0},0]
[null,null,null,null,null,null,null,null,null,null,null,null,null,null,null,null,null,null,null,null,null,null,null,null,null,null,null,{"$f":"HISTO!P934","v":0},{"$f":"IF(AC934=\"\",\"Zonard\",INDEX(AB935:AB$2008,MIN(IF(COUNTIF(AC$2:AC934,AB935:AB$2008),ROW(AB$2008)-ROW()+1,ROW(AB935:AB$2008)-ROW()+1))))","v":0},0]
[null,null,null,null,null,null,null,null,null,null,null,null,null,null,null,null,null,null,null,null,null,null,null,null,null,null,null,{"$f":"HISTO!P935","v":0},{"$f":"IF(AC935=\"\",\"Zonard\",INDEX(AB936:AB$2008,MIN(IF(COUNTIF(AC$2:AC935,AB936:AB$2008),ROW(AB$2008)-ROW()+1,ROW(AB936:AB$2008)-ROW()+1))))","v":0},0]
[null,null,null,null,null,null,null,null,null,null,null,null,null,null,null,null,null,null,null,null,null,null,null,null,null,null,null,{"$f":"HISTO!P936","v":0},{"$f":"IF(AC936=\"\",\"Zonard\",INDEX(AB937:AB$2008,MIN(IF(COUNTIF(AC$2:AC936,AB937:AB$2008),ROW(AB$2008)-ROW()+1,ROW(AB937:AB$2008)-ROW()+1))))","v":0},0]
[null,null,null,null,null,null,null,null,null,null,null,null,null,null,null,null,null,null,null,null,null,null,null,null,null,null,null,{"$f":"HISTO!P937","v":0},{"$f":"IF(AC937=\"\",\"Zonard\",INDEX(AB938:AB$2008,MIN(IF(COUNTIF(AC$2:AC937,AB938:AB$2008),ROW(AB$2008)-ROW()+1,ROW(AB938:AB$2008)-ROW()+1))))","v":0},0]
[null,null,null,null,null,null,null,null,null,null,null,null,null,null,null,null,null,null,null,null,null,null,null,null,null,null,null,{"$f":"HISTO!P938","v":0},{"$f":"IF(AC938=\"\",\"Zonard\",INDEX(AB939:AB$2008,MIN(IF(COUNTIF(AC$2:AC938,AB939:AB$2008),ROW(AB$2008)-ROW()+1,ROW(AB939:AB$2008)-ROW()+1))))","v":0},0]
[null,null,null,null,null,null,null,null,null,null,null,null,null,null,null,null,null,null,null,null,null,null,null,null,null,null,null,{"$f":"HISTO!P939","v":0},{"$f":"IF(AC939=\"\",\"Zonard\",INDEX(AB940:AB$2008,MIN(IF(COUNTIF(AC$2:AC939,AB940:AB$2008),ROW(AB$2008)-ROW()+1,ROW(AB940:AB$2008)-ROW()+1))))","v":0},0]
[null,null,null,null,null,null,null,null,null,null,null,null,null,null,null,null,null,null,null,null,null,null,null,null,null,null,null,{"$f":"HISTO!P940","v":0},{"$f":"IF(AC940=\"\",\"Zonard\",INDEX(AB941:AB$2008,MIN(IF(COUNTIF(AC$2:AC940,AB941:AB$2008),ROW(AB$2008)-ROW()+1,ROW(AB941:AB$2008)-ROW()+1))))","v":0},0]
[null,null,null,null,null,null,null,null,null,null,null,null,null,null,null,null,null,null,null,null,null,null,null,null,null,null,null,{"$f":"HISTO!P941","v":0},{"$f":"IF(AC941=\"\",\"Zonard\",INDEX(AB942:AB$2008,MIN(IF(COUNTIF(AC$2:AC941,AB942:AB$2008),ROW(AB$2008)-ROW()+1,ROW(AB942:AB$2008)-ROW()+1))))","v":0},0]
[null,null,null,null,null,null,null,null,null,null,null,null,null,null,null,null,null,null,null,null,null,null,null,null,null,null,null,{"$f":"HISTO!P942","v":0},{"$f":"IF(AC942=\"\",\"Zonard\",INDEX(AB943:AB$2008,MIN(IF(COUNTIF(AC$2:AC942,AB943:AB$2008),ROW(AB$2008)-ROW()+1,ROW(AB943:AB$2008)-ROW()+1))))","v":0},0]
[null,null,null,null,null,null,null,null,null,null,null,null,null,null,null,null,null,null,null,null,null,null,null,null,null,null,null,{"$f":"HISTO!P943","v":0},{"$f":"IF(AC943=\"\",\"Zonard\",INDEX(AB944:AB$2008,MIN(IF(COUNTIF(AC$2:AC943,AB944:AB$2008),ROW(AB$2008)-ROW()+1,ROW(AB944:AB$2008)-ROW()+1))))","v":0},0]
[null,null,null,null,null,null,null,null,null,null,null,null,null,null,null,null,null,null,null,null,null,null,null,null,null,null,null,{"$f":"HISTO!P944","v":0},{"$f":"IF(AC944=\"\",\"Zonard\",INDEX(AB945:AB$2008,MIN(IF(COUNTIF(AC$2:AC944,AB945:AB$2008),ROW(AB$2008)-ROW()+1,ROW(AB945:AB$2008)-ROW()+1))))","v":0},0]
[null,null,null,null,null,null,null,null,null,null,null,null,null,null,null,null,null,null,null,null,null,null,null,null,null,null,null,{"$f":"HISTO!P945","v":0},{"$f":"IF(AC945=\"\",\"Zonard\",INDEX(AB946:AB$2008,MIN(IF(COUNTIF(AC$2:AC945,AB946:AB$2008),ROW(AB$2008)-ROW()+1,ROW(AB946:AB$2008)-ROW()+1))))","v":0},0]
[null,null,null,null,null,null,null,null,null,null,null,null,null,null,null,null,null,null,null,null,null,null,null,null,null,null,null,{"$f":"HISTO!P946","v":0},{"$f":"IF(AC946=\"\",\"Zonard\",INDEX(AB947:AB$2008,MIN(IF(COUNTIF(AC$2:AC946,AB947:AB$2008),ROW(AB$2008)-ROW()+1,ROW(AB947:AB$2008)-ROW()+1))))","v":0},0]
[null,null,null,null,null,null,null,null,null,null,null,null,null,null,null,null,null,null,null,null,null,null,null,null,null,null,null,{"$f":"HISTO!P947","v":0},{"$f":"IF(AC947=\"\",\"Zonard\",INDEX(AB948:AB$2008,MIN(IF(COUNTIF(AC$2:AC947,AB948:AB$2008),ROW(AB$2008)-ROW()+1,ROW(AB948:AB$2008)-ROW()+1))))","v":0},0]
[null,null,null,null,null,null,null,null,null,null,null,null,null,null,null,null,null,null,null,null,null,null,null,null,null,null,null,{"$f":"HISTO!P948","v":0},{"$f":"IF(AC948=\"\",\"Zonard\",INDEX(AB949:AB$2008,MIN(IF(COUNTIF(AC$2:AC948,AB949:AB$2008),ROW(AB$2008)-ROW()+1,ROW(AB949:AB$2008)-ROW()+1))))","v":0},0]
[null,null,null,null,null,null,null,null,null,null,null,null,null,null,null,null,null,null,null,null,null,null,null,null,null,null,null,{"$f":"HISTO!P949","v":0},{"$f":"IF(AC949=\"\",\"Zonard\",INDEX(AB950:AB$2008,MIN(IF(COUNTIF(AC$2:AC949,AB950:AB$2008),ROW(AB$2008)-ROW()+1,ROW(AB950:AB$2008)-ROW()+1))))","v":0},0]
[null,null,null,null,null,null,null,null,null,null,null,null,null,null,null,null,null,null,null,null,null,null,null,null,null,null,null,{"$f":"HISTO!P950","v":0},{"$f":"IF(AC950=\"\",\"Zonard\",INDEX(AB951:AB$2008,MIN(IF(COUNTIF(AC$2:AC950,AB951:AB$2008),ROW(AB$2008)-ROW()+1,ROW(AB951:AB$2008)-ROW()+1))))","v":0},0]
[null,null,null,null,null,null,null,null,null,null,null,null,null,null,null,null,null,null,null,null,null,null,null,null,null,null,null,{"$f":"HISTO!P951","v":0},{"$f":"IF(AC951=\"\",\"Zonard\",INDEX(AB952:AB$2008,MIN(IF(COUNTIF(AC$2:AC951,AB952:AB$2008),ROW(AB$2008)-ROW()+1,ROW(AB952:AB$2008)-ROW()+1))))","v":0},0]
[null,null,null,null,null,null,null,null,null,null,null,null,null,null,null,null,null,null,null,null,null,null,null,null,null,null,null,{"$f":"HISTO!P952","v":0},{"$f":"IF(AC952=\"\",\"Zonard\",INDEX(AB953:AB$2008,MIN(IF(COUNTIF(AC$2:AC952,AB953:AB$2008),ROW(AB$2008)-ROW()+1,ROW(AB953:AB$2008)-ROW()+1))))","v":0},0]
[null,null,null,null,null,null,null,null,null,null,null,null,null,null,null,null,null,null,null,null,null,null,null,null,null,null,null,{"$f":"HISTO!P953","v":0},{"$f":"IF(AC953=\"\",\"Zonard\",INDEX(AB954:AB$2008,MIN(IF(COUNTIF(AC$2:AC953,AB954:AB$2008),ROW(AB$2008)-ROW()+1,ROW(AB954:AB$2008)-ROW()+1))))","v":0},0]
[null,null,null,null,null,null,null,null,null,null,null,null,null,null,null,null,null,null,null,null,null,null,null,null,null,null,null,{"$f":"HISTO!P954","v":0},{"$f":"IF(AC954=\"\",\"Zonard\",INDEX(AB955:AB$2008,MIN(IF(COUNTIF(AC$2:AC954,AB955:AB$2008),ROW(AB$2008)-ROW()+1,ROW(AB955:AB$2008)-ROW()+1))))","v":0},0]
[null,null,null,null,null,null,null,null,null,null,null,null,null,null,null,null,null,null,null,null,null,null,null,null,null,null,null,{"$f":"HISTO!P955","v":0},{"$f":"IF(AC955=\"\",\"Zonard\",INDEX(AB956:AB$2008,MIN(IF(COUNTIF(AC$2:AC955,AB956:AB$2008),ROW(AB$2008)-ROW()+1,ROW(AB956:AB$2008)-ROW()+1))))","v":0},0]
[null,null,null,null,null,null,null,null,null,null,null,null,null,null,null,null,null,null,null,null,null,null,null,null,null,null,null,{"$f":"HISTO!P956","v":0},{"$f":"IF(AC956=\"\",\"Zonard\",INDEX(AB957:AB$2008,MIN(IF(COUNTIF(AC$2:AC956,AB957:AB$2008),ROW(AB$2008)-ROW()+1,ROW(AB957:AB$2008)-ROW()+1))))","v":0},0]
[null,null,null,null,null,null,null,null,null,null,null,null,null,null,null,null,null,null,null,null,null,null,null,null,null,null,null,{"$f":"HISTO!P957","v":0},{"$f":"IF(AC957=\"\",\"Zonard\",INDEX(AB958:AB$2008,MIN(IF(COUNTIF(AC$2:AC957,AB958:AB$2008),ROW(AB$2008)-ROW()+1,ROW(AB958:AB$2008)-ROW()+1))))","v":0},0]
[null,null,null,null,null,null,null,null,null,null,null,null,null,null,null,null,null,null,null,null,null,null,null,null,null,null,null,{"$f":"HISTO!P958","v":0},{"$f":"IF(AC958=\"\",\"Zonard\",INDEX(AB959:AB$2008,MIN(IF(COUNTIF(AC$2:AC958,AB959:AB$2008),ROW(AB$2008)-ROW()+1,ROW(AB959:AB$2008)-ROW()+1))))","v":0},0]
[null,null,null,null,null,null,null,null,null,null,null,null,null,null,null,null,null,null,null,null,null,null,null,null,null,null,null,{"$f":"HISTO!P959","v":0},{"$f":"IF(AC959=\"\",\"Zonard\",INDEX(AB960:AB$2008,MIN(IF(COUNTIF(AC$2:AC959,AB960:AB$2008),ROW(AB$2008)-ROW()+1,ROW(AB960:AB$2008)-ROW()+1))))","v":0},0]
[null,null,null,null,null,null,null,null,null,null,null,null,null,null,null,null,null,null,null,null,null,null,null,null,null,null,null,{"$f":"HISTO!P960","v":0},{"$f":"IF(AC960=\"\",\"Zonard\",INDEX(AB961:AB$2008,MIN(IF(COUNTIF(AC$2:AC960,AB961:AB$2008),ROW(AB$2008)-ROW()+1,ROW(AB961:AB$2008)-ROW()+1))))","v":0},0]
[null,null,null,null,null,null,null,null,null,null,null,null,null,null,null,null,null,null,null,null,null,null,null,null,null,null,null,{"$f":"HISTO!P961","v":0},{"$f":"IF(AC961=\"\",\"Zonard\",INDEX(AB962:AB$2008,MIN(IF(COUNTIF(AC$2:AC961,AB962:AB$2008),ROW(AB$2008)-ROW()+1,ROW(AB962:AB$2008)-ROW()+1))))","v":0},0]
[null,null,null,null,null,null,null,null,null,null,null,null,null,null,null,null,null,null,null,null,null,null,null,null,null,null,null,{"$f":"HISTO!P962","v":0},{"$f":"IF(AC962=\"\",\"Zonard\",INDEX(AB963:AB$2008,MIN(IF(COUNTIF(AC$2:AC962,AB963:AB$2008),ROW(AB$2008)-ROW()+1,ROW(AB963:AB$2008)-ROW()+1))))","v":0},0]
[null,null,null,null,null,null,null,null,null,null,null,null,null,null,null,null,null,null,null,null,null,null,null,null,null,null,null,{"$f":"HISTO!P963","v":0},{"$f":"IF(AC963=\"\",\"Zonard\",INDEX(AB964:AB$2008,MIN(IF(COUNTIF(AC$2:AC963,AB964:AB$2008),ROW(AB$2008)-ROW()+1,ROW(AB964:AB$2008)-ROW()+1))))","v":0},0]
[null,null,null,null,null,null,null,null,null,null,null,null,null,null,null,null,null,null,null,null,null,null,null,null,null,null,null,{"$f":"HISTO!P964","v":0},{"$f":"IF(AC964=\"\",\"Zonard\",INDEX(AB965:AB$2008,MIN(IF(COUNTIF(AC$2:AC964,AB965:AB$2008),ROW(AB$2008)-ROW()+1,ROW(AB965:AB$2008)-ROW()+1))))","v":0},0]
[null,null,null,null,null,null,null,null,null,null,null,null,null,null,null,null,null,null,null,null,null,null,null,null,null,null,null,{"$f":"HISTO!P965","v":0},{"$f":"IF(AC965=\"\",\"Zonard\",INDEX(AB966:AB$2008,MIN(IF(COUNTIF(AC$2:AC965,AB966:AB$2008),ROW(AB$2008)-ROW()+1,ROW(AB966:AB$2008)-ROW()+1))))","v":0},0]
[null,null,null,null,null,null,null,null,null,null,null,null,null,null,null,null,null,null,null,null,null,null,null,null,null,null,null,{"$f":"HISTO!P966","v":0},{"$f":"IF(AC966=\"\",\"Zonard\",INDEX(AB967:AB$2008,MIN(IF(COUNTIF(AC$2:AC966,AB967:AB$2008),ROW(AB$2008)-ROW()+1,ROW(AB967:AB$2008)-ROW()+1))))","v":0},0]
[null,null,null,null,null,null,null,null,null,null,null,null,null,null,null,null,null,null,null,null,null,null,null,null,null,null,null,{"$f":"HISTO!P967","v":0},{"$f":"IF(AC967=\"\",\"Zonard\",INDEX(AB968:AB$2008,MIN(IF(COUNTIF(AC$2:AC967,AB968:AB$2008),ROW(AB$2008)-ROW()+1,ROW(AB968:AB$2008)-ROW()+1))))","v":0},0]
[null,null,null,null,null,null,null,null,null,null,null,null,null,null,null,null,null,null,null,null,null,null,null,null,null,null,null,{"$f":"HISTO!P968","v":0},{"$f":"IF(AC968=\"\",\"Zonard\",INDEX(AB969:AB$2008,MIN(IF(COUNTIF(AC$2:AC968,AB969:AB$2008),ROW(AB$2008)-ROW()+1,ROW(AB969:AB$2008)-ROW()+1))))","v":0},0]
[null,null,null,null,null,null,null,null,null,null,null,null,null,null,null,null,null,null,null,null,null,null,null,null,null,null,null,{"$f":"HISTO!P969","v":0},{"$f":"IF(AC969=\"\",\"Zonard\",INDEX(AB970:AB$2008,MIN(IF(COUNTIF(AC$2:AC969,AB970:AB$2008),ROW(AB$2008)-ROW()+1,ROW(AB970:AB$2008)-ROW()+1))))","v":0},0]
[null,null,null,null,null,null,null,null,null,null,null,null,null,null,null,null,null,null,null,null,null,null,null,null,null,null,null,{"$f":"HISTO!P970","v":0},{"$f":"IF(AC970=\"\",\"Zonard\",INDEX(AB971:AB$2008,MIN(IF(COUNTIF(AC$2:AC970,AB971:AB$2008),ROW(AB$2008)-ROW()+1,ROW(AB971:AB$2008)-ROW()+1))))","v":0},0]
[null,null,null,null,null,null,null,null,null,null,null,null,null,null,null,null,null,null,null,null,null,null,null,null,null,null,null,{"$f":"HISTO!P971","v":0},{"$f":"IF(AC971=\"\",\"Zonard\",INDEX(AB972:AB$2008,MIN(IF(COUNTIF(AC$2:AC971,AB972:AB$2008),ROW(AB$2008)-ROW()+1,ROW(AB972:AB$2008)-ROW()+1))))","v":0},0]
[null,null,null,null,null,null,null,null,null,null,null,null,null,null,null,null,null,null,null,null,null,null,null,null,null,null,null,{"$f":"HISTO!P972","v":0},{"$f":"IF(AC972=\"\",\"Zonard\",INDEX(AB973:AB$2008,MIN(IF(COUNTIF(AC$2:AC972,AB973:AB$2008),ROW(AB$2008)-ROW()+1,ROW(AB973:AB$2008)-ROW()+1))))","v":0},0]
[null,null,null,null,null,null,null,null,null,null,null,null,null,null,null,null,null,null,null,null,null,null,null,null,null,null,null,{"$f":"HISTO!P973","v":0},{"$f":"IF(AC973=\"\",\"Zonard\",INDEX(AB974:AB$2008,MIN(IF(COUNTIF(AC$2:AC973,AB974:AB$2008),ROW(AB$2008)-ROW()+1,ROW(AB974:AB$2008)-ROW()+1))))","v":0},0]
[null,null,null,null,null,null,null,null,null,null,null,null,null,null,null,null,null,null,null,null,null,null,null,null,null,null,null,{"$f":"HISTO!P974","v":0},{"$f":"IF(AC974=\"\",\"Zonard\",INDEX(AB975:AB$2008,MIN(IF(COUNTIF(AC$2:AC974,AB975:AB$2008),ROW(AB$2008)-ROW()+1,ROW(AB975:AB$2008)-ROW()+1))))","v":0},0]
[null,null,null,null,null,null,null,null,null,null,null,null,null,null,null,null,null,null,null,null,null,null,null,null,null,null,null,{"$f":"HISTO!P975","v":0},{"$f":"IF(AC975=\"\",\"Zonard\",INDEX(AB976:AB$2008,MIN(IF(COUNTIF(AC$2:AC975,AB976:AB$2008),ROW(AB$2008)-ROW()+1,ROW(AB976:AB$2008)-ROW()+1))))","v":0},0]
[null,null,null,null,null,null,null,null,null,null,null,null,null,null,null,null,null,null,null,null,null,null,null,null,null,null,null,{"$f":"HISTO!P976","v":0},{"$f":"IF(AC976=\"\",\"Zonard\",INDEX(AB977:AB$2008,MIN(IF(COUNTIF(AC$2:AC976,AB977:AB$2008),ROW(AB$2008)-ROW()+1,ROW(AB977:AB$2008)-ROW()+1))))","v":0},0]
[null,null,null,null,null,null,null,null,null,null,null,null,null,null,null,null,null,null,null,null,null,null,null,null,null,null,null,{"$f":"HISTO!P977","v":0},{"$f":"IF(AC977=\"\",\"Zonard\",INDEX(AB978:AB$2008,MIN(IF(COUNTIF(AC$2:AC977,AB978:AB$2008),ROW(AB$2008)-ROW()+1,ROW(AB978:AB$2008)-ROW()+1))))","v":0},0]
[null,null,null,null,null,null,null,null,null,null,null,null,null,null,null,null,null,null,null,null,null,null,null,null,null,null,null,{"$f":"HISTO!P978","v":0},{"$f":"IF(AC978=\"\",\"Zonard\",INDEX(AB979:AB$2008,MIN(IF(COUNTIF(AC$2:AC978,AB979:AB$2008),ROW(AB$2008)-ROW()+1,ROW(AB979:AB$2008)-ROW()+1))))","v":0},0]
[null,null,null,null,null,null,null,null,null,null,null,null,null,null,null,null,null,null,null,null,null,null,null,null,null,null,null,{"$f":"HISTO!P979","v":0},{"$f":"IF(AC979=\"\",\"Zonard\",INDEX(AB980:AB$2008,MIN(IF(COUNTIF(AC$2:AC979,AB980:AB$2008),ROW(AB$2008)-ROW()+1,ROW(AB980:AB$2008)-ROW()+1))))","v":0},0]
[null,null,null,null,null,null,null,null,null,null,null,null,null,null,null,null,null,null,null,null,null,null,null,null,null,null,null,{"$f":"HISTO!P980","v":0},{"$f":"IF(AC980=\"\",\"Zonard\",INDEX(AB981:AB$2008,MIN(IF(COUNTIF(AC$2:AC980,AB981:AB$2008),ROW(AB$2008)-ROW()+1,ROW(AB981:AB$2008)-ROW()+1))))","v":0},0]
[null,null,null,null,null,null,null,null,null,null,null,null,null,null,null,null,null,null,null,null,null,null,null,null,null,null,null,{"$f":"HISTO!P981","v":0},{"$f":"IF(AC981=\"\",\"Zonard\",INDEX(AB982:AB$2008,MIN(IF(COUNTIF(AC$2:AC981,AB982:AB$2008),ROW(AB$2008)-ROW()+1,ROW(AB982:AB$2008)-ROW()+1))))","v":0},0]
[null,null,null,null,null,null,null,null,null,null,null,null,null,null,null,null,null,null,null,null,null,null,null,null,null,null,null,{"$f":"HISTO!P982","v":0},{"$f":"IF(AC982=\"\",\"Zonard\",INDEX(AB983:AB$2008,MIN(IF(COUNTIF(AC$2:AC982,AB983:AB$2008),ROW(AB$2008)-ROW()+1,ROW(AB983:AB$2008)-ROW()+1))))","v":0},0]
[null,null,null,null,null,null,null,null,null,null,null,null,null,null,null,null,null,null,null,null,null,null,null,null,null,null,null,{"$f":"HISTO!P983","v":0},{"$f":"IF(AC983=\"\",\"Zonard\",INDEX(AB984:AB$2008,MIN(IF(COUNTIF(AC$2:AC983,AB984:AB$2008),ROW(AB$2008)-ROW()+1,ROW(AB984:AB$2008)-ROW()+1))))","v":0},0]
[null,null,null,null,null,null,null,null,null,null,null,null,null,null,null,null,null,null,null,null,null,null,null,null,null,null,null,{"$f":"HISTO!P984","v":0},{"$f":"IF(AC984=\"\",\"Zonard\",INDEX(AB985:AB$2008,MIN(IF(COUNTIF(AC$2:AC984,AB985:AB$2008),ROW(AB$2008)-ROW()+1,ROW(AB985:AB$2008)-ROW()+1))))","v":0},0]
[null,null,null,null,null,null,null,null,null,null,null,null,null,null,null,null,null,null,null,null,null,null,null,null,null,null,null,{"$f":"HISTO!P985","v":0},{"$f":"IF(AC985=\"\",\"Zonard\",INDEX(AB986:AB$2008,MIN(IF(COUNTIF(AC$2:AC985,AB986:AB$2008),ROW(AB$2008)-ROW()+1,ROW(AB986:AB$2008)-ROW()+1))))","v":0},0]
[null,null,null,null,null,null,null,null,null,null,null,null,null,null,null,null,null,null,null,null,null,null,null,null,null,null,null,{"$f":"HISTO!P986","v":0},{"$f":"IF(AC986=\"\",\"Zonard\",INDEX(AB987:AB$2008,MIN(IF(COUNTIF(AC$2:AC986,AB987:AB$2008),ROW(AB$2008)-ROW()+1,ROW(AB987:AB$2008)-ROW()+1))))","v":0},0]
[null,null,null,null,null,null,null,null,null,null,null,null,null,null,null,null,null,null,null,null,null,null,null,null,null,null,null,{"$f":"HISTO!P987","v":0},{"$f":"IF(AC987=\"\",\"Zonard\",INDEX(AB988:AB$2008,MIN(IF(COUNTIF(AC$2:AC987,AB988:AB$2008),ROW(AB$2008)-ROW()+1,ROW(AB988:AB$2008)-ROW()+1))))","v":0},0]
[null,null,null,null,null,null,null,null,null,null,null,null,null,null,null,null,null,null,null,null,null,null,null,null,null,null,null,{"$f":"HISTO!P988","v":0},{"$f":"IF(AC988=\"\",\"Zonard\",INDEX(AB989:AB$2008,MIN(IF(COUNTIF(AC$2:AC988,AB989:AB$2008),ROW(AB$2008)-ROW()+1,ROW(AB989:AB$2008)-ROW()+1))))","v":0},0]
[null,null,null,null,null,null,null,null,null,null,null,null,null,null,null,null,null,null,null,null,null,null,null,null,null,null,null,{"$f":"HISTO!P989","v":0},{"$f":"IF(AC989=\"\",\"Zonard\",INDEX(AB990:AB$2008,MIN(IF(COUNTIF(AC$2:AC989,AB990:AB$2008),ROW(AB$2008)-ROW()+1,ROW(AB990:AB$2008)-ROW()+1))))","v":0},0]
[null,null,null,null,null,null,null,null,null,null,null,null,null,null,null,null,null,null,null,null,null,null,null,null,null,null,null,{"$f":"HISTO!P990","v":0},{"$f":"IF(AC990=\"\",\"Zonard\",INDEX(AB991:AB$2008,MIN(IF(COUNTIF(AC$2:AC990,AB991:AB$2008),ROW(AB$2008)-ROW()+1,ROW(AB991:AB$2008)-ROW()+1))))","v":0},0]
[null,null,null,null,null,null,null,null,null,null,null,null,null,null,null,null,null,null,null,null,null,null,null,null,null,null,null,{"$f":"HISTO!P991","v":0},{"$f":"IF(AC991=\"\",\"Zonard\",INDEX(AB992:AB$2008,MIN(IF(COUNTIF(AC$2:AC991,AB992:AB$2008),ROW(AB$2008)-ROW()+1,ROW(AB992:AB$2008)-ROW()+1))))","v":0},0]
[null,null,null,null,null,null,null,null,null,null,null,null,null,null,null,null,null,null,null,null,null,null,null,null,null,null,null,{"$f":"HISTO!P992","v":0},{"$f":"IF(AC992=\"\",\"Zonard\",INDEX(AB993:AB$2008,MIN(IF(COUNTIF(AC$2:AC992,AB993:AB$2008),ROW(AB$2008)-ROW()+1,ROW(AB993:AB$2008)-ROW()+1))))","v":0},0]
[null,null,null,null,null,null,null,null,null,null,null,null,null,null,null,null,null,null,null,null,null,null,null,null,null,null,null,{"$f":"HISTO!P993","v":0},{"$f":"IF(AC993=\"\",\"Zonard\",INDEX(AB994:AB$2008,MIN(IF(COUNTIF(AC$2:AC993,AB994:AB$2008),ROW(AB$2008)-ROW()+1,ROW(AB994:AB$2008)-ROW()+1))))","v":0},0]
[null,null,null,null,null,null,null,null,null,null,null,null,null,null,null,null,null,null,null,null,null,null,null,null,null,null,null,{"$f":"HISTO!P994","v":0},{"$f":"IF(AC994=\"\",\"Zonard\",INDEX(AB995:AB$2008,MIN(IF(COUNTIF(AC$2:AC994,AB995:AB$2008),ROW(AB$2008)-ROW()+1,ROW(AB995:AB$2008)-ROW()+1))))","v":0},0]
[null,null,null,null,null,null,null,null,null,null,null,null,null,null,null,null,null,null,null,null,null,null,null,null,null,null,null,{"$f":"HISTO!P995","v":0},{"$f":"IF(AC995=\"\",\"Zonard\",INDEX(AB996:AB$2008,MIN(IF(COUNTIF(AC$2:AC995,AB996:AB$2008),ROW(AB$2008)-ROW()+1,ROW(AB996:AB$2008)-ROW()+1))))","v":0},0]
[null,null,null,null,null,null,null,null,null,null,null,null,null,null,null,null,null,null,null,null,null,null,null,null,null,null,null,{"$f":"HISTO!P996","v":0},{"$f":"IF(AC996=\"\",\"Zonard\",INDEX(AB997:AB$2008,MIN(IF(COUNTIF(AC$2:AC996,AB997:AB$2008),ROW(AB$2008)-ROW()+1,ROW(AB997:AB$2008)-ROW()+1))))","v":0},0]
[null,null,null,null,null,null,null,null,null,null,null,null,null,null,null,null,null,null,null,null,null,null,null,null,null,null,null,{"$f":"HISTO!P997","v":0},{"$f":"IF(AC997=\"\",\"Zonard\",INDEX(AB998:AB$2008,MIN(IF(COUNTIF(AC$2:AC997,AB998:AB$2008),ROW(AB$2008)-ROW()+1,ROW(AB998:AB$2008)-ROW()+1))))","v":0},0]
[null,null,null,null,null,null,null,null,null,null,null,null,null,null,null,null,null,null,null,null,null,null,null,null,null,null,null,{"$f":"HISTO!P998","v":0},{"$f":"IF(AC998=\"\",\"Zonard\",INDEX(AB999:AB$2008,MIN(IF(COUNTIF(AC$2:AC998,AB999:AB$2008),ROW(AB$2008)-ROW()+1,ROW(AB999:AB$2008)-ROW()+1))))","v":0},0]
[null,null,null,null,null,null,null,null,null,null,null,null,null,null,null,null,null,null,null,null,null,null,null,null,null,null,null,{"$f":"HISTO!P999","v":0},{"$f":"IF(AC999=\"\",\"Zonard\",INDEX(AB1000:AB$2008,MIN(IF(COUNTIF(AC$2:AC999,AB1000:AB$2008),ROW(AB$2008)-ROW()+1,ROW(AB1000:AB$2008)-ROW()+1))))","v":0},0]
[null,null,null,null,null,null,null,null,null,null,null,null,null,null,null,null,null,null,null,null,null,null,null,null,null,null,null,{"$f":"HISTO!P1000","v":0},{"$f":"IF(AC1000=\"\",\"Zonard\",INDEX(AB1001:AB$2008,MIN(IF(COUNTIF(AC$2:AC1000,AB1001:AB$2008),ROW(AB$2008)-ROW()+1,ROW(AB1001:AB$2008)-ROW()+1))))","v":0},0]
[null,null,null,null,null,null,null,null,null,null,null,null,null,null,null,null,null,null,null,null,null,null,null,null,null,null,null,{"$f":"HISTO!P1001","v":0},{"$f":"IF(AC1001=\"\",\"Zonard\",INDEX(AB1002:AB$2008,MIN(IF(COUNTIF(AC$2:AC1001,AB1002:AB$2008),ROW(AB$2008)-ROW()+1,ROW(AB1002:AB$2008)-ROW()+1))))","v":0},0]
[null,null,null,null,null,null,null,null,null,null,null,null,null,null,null,null,null,null,null,null,null,null,null,null,null,null,null,{"$f":"HISTO!P1002","v":0},{"$f":"IF(AC1002=\"\",\"Zonard\",INDEX(AB1003:AB$2008,MIN(IF(COUNTIF(AC$2:AC1002,AB1003:AB$2008),ROW(AB$2008)-ROW()+1,ROW(AB1003:AB$2008)-ROW()+1))))","v":0},0]
[null,null,null,null,null,null,null,null,null,null,null,null,null,null,null,null,null,null,null,null,null,null,null,null,null,null,null,{"$f":"HISTO!P1003","v":0},{"$f":"IF(AC1003=\"\",\"Zonard\",INDEX(AB1004:AB$2008,MIN(IF(COUNTIF(AC$2:AC1003,AB1004:AB$2008),ROW(AB$2008)-ROW()+1,ROW(AB1004:AB$2008)-ROW()+1))))","v":0},0]
[null,null,null,null,null,null,null,null,null,null,null,null,null,null,null,null,null,null,null,null,null,null,null,null,null,null,null,{"$f":"HISTO!P1004","v":0},{"$f":"IF(AC1004=\"\",\"Zonard\",INDEX(AB1005:AB$2008,MIN(IF(COUNTIF(AC$2:AC1004,AB1005:AB$2008),ROW(AB$2008)-ROW()+1,ROW(AB1005:AB$2008)-ROW()+1))))","v":0},0]
[null,null,null,null,null,null,null,null,null,null,null,null,null,null,null,null,null,null,null,null,null,null,null,null,null,null,null,{"$f":"HISTO!P1005","v":0},{"$f":"IF(AC1005=\"\",\"Zonard\",INDEX(AB1006:AB$2008,MIN(IF(COUNTIF(AC$2:AC1005,AB1006:AB$2008),ROW(AB$2008)-ROW()+1,ROW(AB1006:AB$2008)-ROW()+1))))","v":0},0]
[null,null,null,null,null,null,null,null,null,null,null,null,null,null,null,null,null,null,null,null,null,null,null,null,null,null,null,{"$f":"HISTO!P1006","v":0},{"$f":"IF(AC1006=\"\",\"Zonard\",INDEX(AB1007:AB$2008,MIN(IF(COUNTIF(AC$2:AC1006,AB1007:AB$2008),ROW(AB$2008)-ROW()+1,ROW(AB1007:AB$2008)-ROW()+1))))","v":0},0]
[null,null,null,null,null,null,null,null,null,null,null,null,null,null,null,null,null,null,null,null,null,null,null,null,null,null,null,{"$f":"HISTO!P1007","v":0},{"$f":"IF(AC1007=\"\",\"Zonard\",INDEX(AB1008:AB$2008,MIN(IF(COUNTIF(AC$2:AC1007,AB1008:AB$2008),ROW(AB$2008)-ROW()+1,ROW(AB1008:AB$2008)-ROW()+1))))","v":0},0]
[null,null,null,null,null,null,null,null,null,null,null,null,null,null,null,null,null,null,null,null,null,null,null,null,null,null,null,{"$f":"HISTO!P1008","v":0},{"$f":"IF(AC1008=\"\",\"Zonard\",INDEX(AB1009:AB$2008,MIN(IF(COUNTIF(AC$2:AC1008,AB1009:AB$2008),ROW(AB$2008)-ROW()+1,ROW(AB1009:AB$2008)-ROW()+1))))","v":0},0]
[null,null,null,null,null,null,null,null,null,null,null,null,null,null,null,null,null,null,null,null,null,null,null,null,null,null,null,{"$f":"HISTO!P1009","v":0},{"$f":"IF(AC1009=\"\",\"Zonard\",INDEX(AB1010:AB$2008,MIN(IF(COUNTIF(AC$2:AC1009,AB1010:AB$2008),ROW(AB$2008)-ROW()+1,ROW(AB1010:AB$2008)-ROW()+1))))","v":0},0]
[null,null,null,null,null,null,null,null,null,null,null,null,null,null,null,null,null,null,null,null,null,null,null,null,null,null,null,{"$f":"HISTO!P1010","v":0},{"$f":"IF(AC1010=\"\",\"Zonard\",INDEX(AB1011:AB$2008,MIN(IF(COUNTIF(AC$2:AC1010,AB1011:AB$2008),ROW(AB$2008)-ROW()+1,ROW(AB1011:AB$2008)-ROW()+1))))","v":0},0]
[null,null,null,null,null,null,null,null,null,null,null,null,null,null,null,null,null,null,null,null,null,null,null,null,null,null,null,{"$f":"HISTO!P1011","v":0},{"$f":"IF(AC1011=\"\",\"Zonard\",INDEX(AB1012:AB$2008,MIN(IF(COUNTIF(AC$2:AC1011,AB1012:AB$2008),ROW(AB$2008)-ROW()+1,ROW(AB1012:AB$2008)-ROW()+1))))","v":0},0]
[null,null,null,null,null,null,null,null,null,null,null,null,null,null,null,null,null,null,null,null,null,null,null,null,null,null,null,{"$f":"HISTO!P1012","v":0},{"$f":"IF(AC1012=\"\",\"Zonard\",INDEX(AB1013:AB$2008,MIN(IF(COUNTIF(AC$2:AC1012,AB1013:AB$2008),ROW(AB$2008)-ROW()+1,ROW(AB1013:AB$2008)-ROW()+1))))","v":0},0]
[null,null,null,null,null,null,null,null,null,null,null,null,null,null,null,null,null,null,null,null,null,null,null,null,null,null,null,{"$f":"HISTO!P1013","v":0},{"$f":"IF(AC1013=\"\",\"Zonard\",INDEX(AB1014:AB$2008,MIN(IF(COUNTIF(AC$2:AC1013,AB1014:AB$2008),ROW(AB$2008)-ROW()+1,ROW(AB1014:AB$2008)-ROW()+1))))","v":0},0]
[null,null,null,null,null,null,null,null,null,null,null,null,null,null,null,null,null,null,null,null,null,null,null,null,null,null,null,{"$f":"HISTO!P1014","v":0},{"$f":"IF(AC1014=\"\",\"Zonard\",INDEX(AB1015:AB$2008,MIN(IF(COUNTIF(AC$2:AC1014,AB1015:AB$2008),ROW(AB$2008)-ROW()+1,ROW(AB1015:AB$2008)-ROW()+1))))","v":0},0]
[null,null,null,null,null,null,null,null,null,null,null,null,null,null,null,null,null,null,null,null,null,null,null,null,null,null,null,{"$f":"HISTO!P1015","v":0},{"$f":"IF(AC1015=\"\",\"Zonard\",INDEX(AB1016:AB$2008,MIN(IF(COUNTIF(AC$2:AC1015,AB1016:AB$2008),ROW(AB$2008)-ROW()+1,ROW(AB1016:AB$2008)-ROW()+1))))","v":0},0]
[null,null,null,null,null,null,null,null,null,null,null,null,null,null,null,null,null,null,null,null,null,null,null,null,null,null,null,{"$f":"HISTO!P1016","v":0},{"$f":"IF(AC1016=\"\",\"Zonard\",INDEX(AB1017:AB$2008,MIN(IF(COUNTIF(AC$2:AC1016,AB1017:AB$2008),ROW(AB$2008)-ROW()+1,ROW(AB1017:AB$2008)-ROW()+1))))","v":0},0]
[null,null,null,null,null,null,null,null,null,null,null,null,null,null,null,null,null,null,null,null,null,null,null,null,null,null,null,{"$f":"HISTO!P1017","v":0},{"$f":"IF(AC1017=\"\",\"Zonard\",INDEX(AB1018:AB$2008,MIN(IF(COUNTIF(AC$2:AC1017,AB1018:AB$2008),ROW(AB$2008)-ROW()+1,ROW(AB1018:AB$2008)-ROW()+1))))","v":0},0]
[null,null,null,null,null,null,null,null,null,null,null,null,null,null,null,null,null,null,null,null,null,null,null,null,null,null,null,{"$f":"HISTO!P1018","v":0},{"$f":"IF(AC1018=\"\",\"Zonard\",INDEX(AB1019:AB$2008,MIN(IF(COUNTIF(AC$2:AC1018,AB1019:AB$2008),ROW(AB$2008)-ROW()+1,ROW(AB1019:AB$2008)-ROW()+1))))","v":0},0]
[null,null,null,null,null,null,null,null,null,null,null,null,null,null,null,null,null,null,null,null,null,null,null,null,null,null,null,{"$f":"HISTO!P1019","v":0},{"$f":"IF(AC1019=\"\",\"Zonard\",INDEX(AB1020:AB$2008,MIN(IF(COUNTIF(AC$2:AC1019,AB1020:AB$2008),ROW(AB$2008)-ROW()+1,ROW(AB1020:AB$2008)-ROW()+1))))","v":0},0]
[null,null,null,null,null,null,null,null,null,null,null,null,null,null,null,null,null,null,null,null,null,null,null,null,null,null,null,{"$f":"HISTO!P1020","v":0},{"$f":"IF(AC1020=\"\",\"Zonard\",INDEX(AB1021:AB$2008,MIN(IF(COUNTIF(AC$2:AC1020,AB1021:AB$2008),ROW(AB$2008)-ROW()+1,ROW(AB1021:AB$2008)-ROW()+1))))","v":0},0]
[null,null,null,null,null,null,null,null,null,null,null,null,null,null,null,null,null,null,null,null,null,null,null,null,null,null,null,{"$f":"HISTO!P1021","v":0},{"$f":"IF(AC1021=\"\",\"Zonard\",INDEX(AB1022:AB$2008,MIN(IF(COUNTIF(AC$2:AC1021,AB1022:AB$2008),ROW(AB$2008)-ROW()+1,ROW(AB1022:AB$2008)-ROW()+1))))","v":0},0]
[null,null,null,null,null,null,null,null,null,null,null,null,null,null,null,null,null,null,null,null,null,null,null,null,null,null,null,{"$f":"HISTO!P1022","v":0},{"$f":"IF(AC1022=\"\",\"Zonard\",INDEX(AB1023:AB$2008,MIN(IF(COUNTIF(AC$2:AC1022,AB1023:AB$2008),ROW(AB$2008)-ROW()+1,ROW(AB1023:AB$2008)-ROW()+1))))","v":0},0]
[null,null,null,null,null,null,null,null,null,null,null,null,null,null,null,null,null,null,null,null,null,null,null,null,null,null,null,{"$f":"HISTO!P1023","v":0},{"$f":"IF(AC1023=\"\",\"Zonard\",INDEX(AB1024:AB$2008,MIN(IF(COUNTIF(AC$2:AC1023,AB1024:AB$2008),ROW(AB$2008)-ROW()+1,ROW(AB1024:AB$2008)-ROW()+1))))","v":0},0]
[null,null,null,null,null,null,null,null,null,null,null,null,null,null,null,null,null,null,null,null,null,null,null,null,null,null,null,{"$f":"HISTO!P1024","v":0},{"$f":"IF(AC1024=\"\",\"Zonard\",INDEX(AB1025:AB$2008,MIN(IF(COUNTIF(AC$2:AC1024,AB1025:AB$2008),ROW(AB$2008)-ROW()+1,ROW(AB1025:AB$2008)-ROW()+1))))","v":0},0]
[null,null,null,null,null,null,null,null,null,null,null,null,null,null,null,null,null,null,null,null,null,null,null,null,null,null,null,{"$f":"HISTO!P1025","v":0},{"$f":"IF(AC1025=\"\",\"Zonard\",INDEX(AB1026:AB$2008,MIN(IF(COUNTIF(AC$2:AC1025,AB1026:AB$2008),ROW(AB$2008)-ROW()+1,ROW(AB1026:AB$2008)-ROW()+1))))","v":0},0]
[null,null,null,null,null,null,null,null,null,null,null,null,null,null,null,null,null,null,null,null,null,null,null,null,null,null,null,{"$f":"HISTO!P1026","v":0},{"$f":"IF(AC1026=\"\",\"Zonard\",INDEX(AB1027:AB$2008,MIN(IF(COUNTIF(AC$2:AC1026,AB1027:AB$2008),ROW(AB$2008)-ROW()+1,ROW(AB1027:AB$2008)-ROW()+1))))","v":0},0]
[null,null,null,null,null,null,null,null,null,null,null,null,null,null,null,null,null,null,null,null,null,null,null,null,null,null,null,{"$f":"HISTO!P1027","v":0},{"$f":"IF(AC1027=\"\",\"Zonard\",INDEX(AB1028:AB$2008,MIN(IF(COUNTIF(AC$2:AC1027,AB1028:AB$2008),ROW(AB$2008)-ROW()+1,ROW(AB1028:AB$2008)-ROW()+1))))","v":0},0]
[null,null,null,null,null,null,null,null,null,null,null,null,null,null,null,null,null,null,null,null,null,null,null,null,null,null,null,{"$f":"HISTO!P1028","v":0},{"$f":"IF(AC1028=\"\",\"Zonard\",INDEX(AB1029:AB$2008,MIN(IF(COUNTIF(AC$2:AC1028,AB1029:AB$2008),ROW(AB$2008)-ROW()+1,ROW(AB1029:AB$2008)-ROW()+1))))","v":0},0]
[null,null,null,null,null,null,null,null,null,null,null,null,null,null,null,null,null,null,null,null,null,null,null,null,null,null,null,{"$f":"HISTO!P1029","v":0},{"$f":"IF(AC1029=\"\",\"Zonard\",INDEX(AB1030:AB$2008,MIN(IF(COUNTIF(AC$2:AC1029,AB1030:AB$2008),ROW(AB$2008)-ROW()+1,ROW(AB1030:AB$2008)-ROW()+1))))","v":0},0]
[null,null,null,null,null,null,null,null,null,null,null,null,null,null,null,null,null,null,null,null,null,null,null,null,null,null,null,{"$f":"HISTO!P1030","v":0},{"$f":"IF(AC1030=\"\",\"Zonard\",INDEX(AB1031:AB$2008,MIN(IF(COUNTIF(AC$2:AC1030,AB1031:AB$2008),ROW(AB$2008)-ROW()+1,ROW(AB1031:AB$2008)-ROW()+1))))","v":0},0]
[null,null,null,null,null,null,null,null,null,null,null,null,null,null,null,null,null,null,null,null,null,null,null,null,null,null,null,{"$f":"HISTO!P1031","v":0},{"$f":"IF(AC1031=\"\",\"Zonard\",INDEX(AB1032:AB$2008,MIN(IF(COUNTIF(AC$2:AC1031,AB1032:AB$2008),ROW(AB$2008)-ROW()+1,ROW(AB1032:AB$2008)-ROW()+1))))","v":0},0]
[null,null,null,null,null,null,null,null,null,null,null,null,null,null,null,null,null,null,null,null,null,null,null,null,null,null,null,{"$f":"HISTO!P1032","v":0},{"$f":"IF(AC1032=\"\",\"Zonard\",INDEX(AB1033:AB$2008,MIN(IF(COUNTIF(AC$2:AC1032,AB1033:AB$2008),ROW(AB$2008)-ROW()+1,ROW(AB1033:AB$2008)-ROW()+1))))","v":0},0]
[null,null,null,null,null,null,null,null,null,null,null,null,null,null,null,null,null,null,null,null,null,null,null,null,null,null,null,{"$f":"HISTO!P1033","v":0},{"$f":"IF(AC1033=\"\",\"Zonard\",INDEX(AB1034:AB$2008,MIN(IF(COUNTIF(AC$2:AC1033,AB1034:AB$2008),ROW(AB$2008)-ROW()+1,ROW(AB1034:AB$2008)-ROW()+1))))","v":0},0]
[null,null,null,null,null,null,null,null,null,null,null,null,null,null,null,null,null,null,null,null,null,null,null,null,null,null,null,{"$f":"HISTO!P1034","v":0},{"$f":"IF(AC1034=\"\",\"Zonard\",INDEX(AB1035:AB$2008,MIN(IF(COUNTIF(AC$2:AC1034,AB1035:AB$2008),ROW(AB$2008)-ROW()+1,ROW(AB1035:AB$2008)-ROW()+1))))","v":0},0]
[null,null,null,null,null,null,null,null,null,null,null,null,null,null,null,null,null,null,null,null,null,null,null,null,null,null,null,{"$f":"HISTO!P1035","v":0},{"$f":"IF(AC1035=\"\",\"Zonard\",INDEX(AB1036:AB$2008,MIN(IF(COUNTIF(AC$2:AC1035,AB1036:AB$2008),ROW(AB$2008)-ROW()+1,ROW(AB1036:AB$2008)-ROW()+1))))","v":0},0]
[null,null,null,null,null,null,null,null,null,null,null,null,null,null,null,null,null,null,null,null,null,null,null,null,null,null,null,{"$f":"HISTO!P1036","v":0},{"$f":"IF(AC1036=\"\",\"Zonard\",INDEX(AB1037:AB$2008,MIN(IF(COUNTIF(AC$2:AC1036,AB1037:AB$2008),ROW(AB$2008)-ROW()+1,ROW(AB1037:AB$2008)-ROW()+1))))","v":0},0]
[null,null,null,null,null,null,null,null,null,null,null,null,null,null,null,null,null,null,null,null,null,null,null,null,null,null,null,{"$f":"HISTO!P1037","v":0},{"$f":"IF(AC1037=\"\",\"Zonard\",INDEX(AB1038:AB$2008,MIN(IF(COUNTIF(AC$2:AC1037,AB1038:AB$2008),ROW(AB$2008)-ROW()+1,ROW(AB1038:AB$2008)-ROW()+1))))","v":0},0]
[null,null,null,null,null,null,null,null,null,null,null,null,null,null,null,null,null,null,null,null,null,null,null,null,null,null,null,{"$f":"HISTO!P1038","v":0},{"$f":"IF(AC1038=\"\",\"Zonard\",INDEX(AB1039:AB$2008,MIN(IF(COUNTIF(AC$2:AC1038,AB1039:AB$2008),ROW(AB$2008)-ROW()+1,ROW(AB1039:AB$2008)-ROW()+1))))","v":0},0]
[null,null,null,null,null,null,null,null,null,null,null,null,null,null,null,null,null,null,null,null,null,null,null,null,null,null,null,{"$f":"HISTO!P1039","v":0},{"$f":"IF(AC1039=\"\",\"Zonard\",INDEX(AB1040:AB$2008,MIN(IF(COUNTIF(AC$2:AC1039,AB1040:AB$2008),ROW(AB$2008)-ROW()+1,ROW(AB1040:AB$2008)-ROW()+1))))","v":0},0]
[null,null,null,null,null,null,null,null,null,null,null,null,null,null,null,null,null,null,null,null,null,null,null,null,null,null,null,{"$f":"HISTO!P1040","v":0},{"$f":"IF(AC1040=\"\",\"Zonard\",INDEX(AB1041:AB$2008,MIN(IF(COUNTIF(AC$2:AC1040,AB1041:AB$2008),ROW(AB$2008)-ROW()+1,ROW(AB1041:AB$2008)-ROW()+1))))","v":0},0]
[null,null,null,null,null,null,null,null,null,null,null,null,null,null,null,null,null,null,null,null,null,null,null,null,null,null,null,{"$f":"HISTO!P1041","v":0},{"$f":"IF(AC1041=\"\",\"Zonard\",INDEX(AB1042:AB$2008,MIN(IF(COUNTIF(AC$2:AC1041,AB1042:AB$2008),ROW(AB$2008)-ROW()+1,ROW(AB1042:AB$2008)-ROW()+1))))","v":0},0]
[null,null,null,null,null,null,null,null,null,null,null,null,null,null,null,null,null,null,null,null,null,null,null,null,null,null,null,{"$f":"HISTO!P1042","v":0},{"$f":"IF(AC1042=\"\",\"Zonard\",INDEX(AB1043:AB$2008,MIN(IF(COUNTIF(AC$2:AC1042,AB1043:AB$2008),ROW(AB$2008)-ROW()+1,ROW(AB1043:AB$2008)-ROW()+1))))","v":0},0]
[null,null,null,null,null,null,null,null,null,null,null,null,null,null,null,null,null,null,null,null,null,null,null,null,null,null,null,{"$f":"HISTO!P1043","v":0},{"$f":"IF(AC1043=\"\",\"Zonard\",INDEX(AB1044:AB$2008,MIN(IF(COUNTIF(AC$2:AC1043,AB1044:AB$2008),ROW(AB$2008)-ROW()+1,ROW(AB1044:AB$2008)-ROW()+1))))","v":0},0]
[null,null,null,null,null,null,null,null,null,null,null,null,null,null,null,null,null,null,null,null,null,null,null,null,null,null,null,{"$f":"HISTO!P1044","v":0},{"$f":"IF(AC1044=\"\",\"Zonard\",INDEX(AB1045:AB$2008,MIN(IF(COUNTIF(AC$2:AC1044,AB1045:AB$2008),ROW(AB$2008)-ROW()+1,ROW(AB1045:AB$2008)-ROW()+1))))","v":0},0]
[null,null,null,null,null,null,null,null,null,null,null,null,null,null,null,null,null,null,null,null,null,null,null,null,null,null,null,{"$f":"HISTO!P1045","v":0},{"$f":"IF(AC1045=\"\",\"Zonard\",INDEX(AB1046:AB$2008,MIN(IF(COUNTIF(AC$2:AC1045,AB1046:AB$2008),ROW(AB$2008)-ROW()+1,ROW(AB1046:AB$2008)-ROW()+1))))","v":0},0]
[null,null,null,null,null,null,null,null,null,null,null,null,null,null,null,null,null,null,null,null,null,null,null,null,null,null,null,{"$f":"HISTO!P1046","v":0},{"$f":"IF(AC1046=\"\",\"Zonard\",INDEX(AB1047:AB$2008,MIN(IF(COUNTIF(AC$2:AC1046,AB1047:AB$2008),ROW(AB$2008)-ROW()+1,ROW(AB1047:AB$2008)-ROW()+1))))","v":0},0]
[null,null,null,null,null,null,null,null,null,null,null,null,null,null,null,null,null,null,null,null,null,null,null,null,null,null,null,{"$f":"HISTO!P1047","v":0},{"$f":"IF(AC1047=\"\",\"Zonard\",INDEX(AB1048:AB$2008,MIN(IF(COUNTIF(AC$2:AC1047,AB1048:AB$2008),ROW(AB$2008)-ROW()+1,ROW(AB1048:AB$2008)-ROW()+1))))","v":0},0]
[null,null,null,null,null,null,null,null,null,null,null,null,null,null,null,null,null,null,null,null,null,null,null,null,null,null,null,{"$f":"HISTO!P1048","v":0},{"$f":"IF(AC1048=\"\",\"Zonard\",INDEX(AB1049:AB$2008,MIN(IF(COUNTIF(AC$2:AC1048,AB1049:AB$2008),ROW(AB$2008)-ROW()+1,ROW(AB1049:AB$2008)-ROW()+1))))","v":0},0]
[null,null,null,null,null,null,null,null,null,null,null,null,null,null,null,null,null,null,null,null,null,null,null,null,null,null,null,{"$f":"HISTO!P1049","v":0},{"$f":"IF(AC1049=\"\",\"Zonard\",INDEX(AB1050:AB$2008,MIN(IF(COUNTIF(AC$2:AC1049,AB1050:AB$2008),ROW(AB$2008)-ROW()+1,ROW(AB1050:AB$2008)-ROW()+1))))","v":0},0]
[null,null,null,null,null,null,null,null,null,null,null,null,null,null,null,null,null,null,null,null,null,null,null,null,null,null,null,{"$f":"HISTO!P1050","v":0},{"$f":"IF(AC1050=\"\",\"Zonard\",INDEX(AB1051:AB$2008,MIN(IF(COUNTIF(AC$2:AC1050,AB1051:AB$2008),ROW(AB$2008)-ROW()+1,ROW(AB1051:AB$2008)-ROW()+1))))","v":0},0]
[null,null,null,null,null,null,null,null,null,null,null,null,null,null,null,null,null,null,null,null,null,null,null,null,null,null,null,{"$f":"HISTO!P1051","v":0},{"$f":"IF(AC1051=\"\",\"Zonard\",INDEX(AB1052:AB$2008,MIN(IF(COUNTIF(AC$2:AC1051,AB1052:AB$2008),ROW(AB$2008)-ROW()+1,ROW(AB1052:AB$2008)-ROW()+1))))","v":0},0]
[null,null,null,null,null,null,null,null,null,null,null,null,null,null,null,null,null,null,null,null,null,null,null,null,null,null,null,{"$f":"HISTO!P1052","v":0},{"$f":"IF(AC1052=\"\",\"Zonard\",INDEX(AB1053:AB$2008,MIN(IF(COUNTIF(AC$2:AC1052,AB1053:AB$2008),ROW(AB$2008)-ROW()+1,ROW(AB1053:AB$2008)-ROW()+1))))","v":0},0]
[null,null,null,null,null,null,null,null,null,null,null,null,null,null,null,null,null,null,null,null,null,null,null,null,null,null,null,{"$f":"HISTO!P1053","v":0},{"$f":"IF(AC1053=\"\",\"Zonard\",INDEX(AB1054:AB$2008,MIN(IF(COUNTIF(AC$2:AC1053,AB1054:AB$2008),ROW(AB$2008)-ROW()+1,ROW(AB1054:AB$2008)-ROW()+1))))","v":0},0]
[null,null,null,null,null,null,null,null,null,null,null,null,null,null,null,null,null,null,null,null,null,null,null,null,null,null,null,{"$f":"HISTO!P1054","v":0},{"$f":"IF(AC1054=\"\",\"Zonard\",INDEX(AB1055:AB$2008,MIN(IF(COUNTIF(AC$2:AC1054,AB1055:AB$2008),ROW(AB$2008)-ROW()+1,ROW(AB1055:AB$2008)-ROW()+1))))","v":0},0]
[null,null,null,null,null,null,null,null,null,null,null,null,null,null,null,null,null,null,null,null,null,null,null,null,null,null,null,{"$f":"HISTO!P1055","v":0},{"$f":"IF(AC1055=\"\",\"Zonard\",INDEX(AB1056:AB$2008,MIN(IF(COUNTIF(AC$2:AC1055,AB1056:AB$2008),ROW(AB$2008)-ROW()+1,ROW(AB1056:AB$2008)-ROW()+1))))","v":0},0]
[null,null,null,null,null,null,null,null,null,null,null,null,null,null,null,null,null,null,null,null,null,null,null,null,null,null,null,{"$f":"HISTO!P1056","v":0},{"$f":"IF(AC1056=\"\",\"Zonard\",INDEX(AB1057:AB$2008,MIN(IF(COUNTIF(AC$2:AC1056,AB1057:AB$2008),ROW(AB$2008)-ROW()+1,ROW(AB1057:AB$2008)-ROW()+1))))","v":0},0]
[null,null,null,null,null,null,null,null,null,null,null,null,null,null,null,null,null,null,null,null,null,null,null,null,null,null,null,{"$f":"HISTO!P1057","v":0},{"$f":"IF(AC1057=\"\",\"Zonard\",INDEX(AB1058:AB$2008,MIN(IF(COUNTIF(AC$2:AC1057,AB1058:AB$2008),ROW(AB$2008)-ROW()+1,ROW(AB1058:AB$2008)-ROW()+1))))","v":0},0]
[null,null,null,null,null,null,null,null,null,null,null,null,null,null,null,null,null,null,null,null,null,null,null,null,null,null,null,{"$f":"HISTO!P1058","v":0},{"$f":"IF(AC1058=\"\",\"Zonard\",INDEX(AB1059:AB$2008,MIN(IF(COUNTIF(AC$2:AC1058,AB1059:AB$2008),ROW(AB$2008)-ROW()+1,ROW(AB1059:AB$2008)-ROW()+1))))","v":0},0]
[null,null,null,null,null,null,null,null,null,null,null,null,null,null,null,null,null,null,null,null,null,null,null,null,null,null,null,{"$f":"HISTO!P1059","v":0},{"$f":"IF(AC1059=\"\",\"Zonard\",INDEX(AB1060:AB$2008,MIN(IF(COUNTIF(AC$2:AC1059,AB1060:AB$2008),ROW(AB$2008)-ROW()+1,ROW(AB1060:AB$2008)-ROW()+1))))","v":0},0]
[null,null,null,null,null,null,null,null,null,null,null,null,null,null,null,null,null,null,null,null,null,null,null,null,null,null,null,{"$f":"HISTO!P1060","v":0},{"$f":"IF(AC1060=\"\",\"Zonard\",INDEX(AB1061:AB$2008,MIN(IF(COUNTIF(AC$2:AC1060,AB1061:AB$2008),ROW(AB$2008)-ROW()+1,ROW(AB1061:AB$2008)-ROW()+1))))","v":0},0]
[null,null,null,null,null,null,null,null,null,null,null,null,null,null,null,null,null,null,null,null,null,null,null,null,null,null,null,{"$f":"HISTO!P1061","v":0},{"$f":"IF(AC1061=\"\",\"Zonard\",INDEX(AB1062:AB$2008,MIN(IF(COUNTIF(AC$2:AC1061,AB1062:AB$2008),ROW(AB$2008)-ROW()+1,ROW(AB1062:AB$2008)-ROW()+1))))","v":0},0]
[null,null,null,null,null,null,null,null,null,null,null,null,null,null,null,null,null,null,null,null,null,null,null,null,null,null,null,{"$f":"HISTO!P1062","v":0},{"$f":"IF(AC1062=\"\",\"Zonard\",INDEX(AB1063:AB$2008,MIN(IF(COUNTIF(AC$2:AC1062,AB1063:AB$2008),ROW(AB$2008)-ROW()+1,ROW(AB1063:AB$2008)-ROW()+1))))","v":0},0]
[null,null,null,null,null,null,null,null,null,null,null,null,null,null,null,null,null,null,null,null,null,null,null,null,null,null,null,{"$f":"HISTO!P1063","v":0},{"$f":"IF(AC1063=\"\",\"Zonard\",INDEX(AB1064:AB$2008,MIN(IF(COUNTIF(AC$2:AC1063,AB1064:AB$2008),ROW(AB$2008)-ROW()+1,ROW(AB1064:AB$2008)-ROW()+1))))","v":0},0]
[null,null,null,null,null,null,null,null,null,null,null,null,null,null,null,null,null,null,null,null,null,null,null,null,null,null,null,{"$f":"HISTO!P1064","v":0},{"$f":"IF(AC1064=\"\",\"Zonard\",INDEX(AB1065:AB$2008,MIN(IF(COUNTIF(AC$2:AC1064,AB1065:AB$2008),ROW(AB$2008)-ROW()+1,ROW(AB1065:AB$2008)-ROW()+1))))","v":0},0]
[null,null,null,null,null,null,null,null,null,null,null,null,null,null,null,null,null,null,null,null,null,null,null,null,null,null,null,{"$f":"HISTO!P1065","v":0},{"$f":"IF(AC1065=\"\",\"Zonard\",INDEX(AB1066:AB$2008,MIN(IF(COUNTIF(AC$2:AC1065,AB1066:AB$2008),ROW(AB$2008)-ROW()+1,ROW(AB1066:AB$2008)-ROW()+1))))","v":0},0]
[null,null,null,null,null,null,null,null,null,null,null,null,null,null,null,null,null,null,null,null,null,null,null,null,null,null,null,{"$f":"HISTO!P1066","v":0},{"$f":"IF(AC1066=\"\",\"Zonard\",INDEX(AB1067:AB$2008,MIN(IF(COUNTIF(AC$2:AC1066,AB1067:AB$2008),ROW(AB$2008)-ROW()+1,ROW(AB1067:AB$2008)-ROW()+1))))","v":0},0]
[null,null,null,null,null,null,null,null,null,null,null,null,null,null,null,null,null,null,null,null,null,null,null,null,null,null,null,{"$f":"HISTO!P1067","v":0},{"$f":"IF(AC1067=\"\",\"Zonard\",INDEX(AB1068:AB$2008,MIN(IF(COUNTIF(AC$2:AC1067,AB1068:AB$2008),ROW(AB$2008)-ROW()+1,ROW(AB1068:AB$2008)-ROW()+1))))","v":0},0]
[null,null,null,null,null,null,null,null,null,null,null,null,null,null,null,null,null,null,null,null,null,null,null,null,null,null,null,{"$f":"HISTO!P1068","v":0},{"$f":"IF(AC1068=\"\",\"Zonard\",INDEX(AB1069:AB$2008,MIN(IF(COUNTIF(AC$2:AC1068,AB1069:AB$2008),ROW(AB$2008)-ROW()+1,ROW(AB1069:AB$2008)-ROW()+1))))","v":0},0]
[null,null,null,null,null,null,null,null,null,null,null,null,null,null,null,null,null,null,null,null,null,null,null,null,null,null,null,{"$f":"HISTO!P1069","v":0},{"$f":"IF(AC1069=\"\",\"Zonard\",INDEX(AB1070:AB$2008,MIN(IF(COUNTIF(AC$2:AC1069,AB1070:AB$2008),ROW(AB$2008)-ROW()+1,ROW(AB1070:AB$2008)-ROW()+1))))","v":0},0]
[null,null,null,null,null,null,null,null,null,null,null,null,null,null,null,null,null,null,null,null,null,null,null,null,null,null,null,{"$f":"HISTO!P1070","v":0},{"$f":"IF(AC1070=\"\",\"Zonard\",INDEX(AB1071:AB$2008,MIN(IF(COUNTIF(AC$2:AC1070,AB1071:AB$2008),ROW(AB$2008)-ROW()+1,ROW(AB1071:AB$2008)-ROW()+1))))","v":0},0]
[null,null,null,null,null,null,null,null,null,null,null,null,null,null,null,null,null,null,null,null,null,null,null,null,null,null,null,{"$f":"HISTO!P1071","v":0},{"$f":"IF(AC1071=\"\",\"Zonard\",INDEX(AB1072:AB$2008,MIN(IF(COUNTIF(AC$2:AC1071,AB1072:AB$2008),ROW(AB$2008)-ROW()+1,ROW(AB1072:AB$2008)-ROW()+1))))","v":0},0]
[null,null,null,null,null,null,null,null,null,null,null,null,null,null,null,null,null,null,null,null,null,null,null,null,null,null,null,{"$f":"HISTO!P1072","v":0},{"$f":"IF(AC1072=\"\",\"Zonard\",INDEX(AB1073:AB$2008,MIN(IF(COUNTIF(AC$2:AC1072,AB1073:AB$2008),ROW(AB$2008)-ROW()+1,ROW(AB1073:AB$2008)-ROW()+1))))","v":0},0]
[null,null,null,null,null,null,null,null,null,null,null,null,null,null,null,null,null,null,null,null,null,null,null,null,null,null,null,{"$f":"HISTO!P1073","v":0},{"$f":"IF(AC1073=\"\",\"Zonard\",INDEX(AB1074:AB$2008,MIN(IF(COUNTIF(AC$2:AC1073,AB1074:AB$2008),ROW(AB$2008)-ROW()+1,ROW(AB1074:AB$2008)-ROW()+1))))","v":0},0]
[null,null,null,null,null,null,null,null,null,null,null,null,null,null,null,null,null,null,null,null,null,null,null,null,null,null,null,{"$f":"HISTO!P1074","v":0},{"$f":"IF(AC1074=\"\",\"Zonard\",INDEX(AB1075:AB$2008,MIN(IF(COUNTIF(AC$2:AC1074,AB1075:AB$2008),ROW(AB$2008)-ROW()+1,ROW(AB1075:AB$2008)-ROW()+1))))","v":0},0]
[null,null,null,null,null,null,null,null,null,null,null,null,null,null,null,null,null,null,null,null,null,null,null,null,null,null,null,{"$f":"HISTO!P1075","v":0},{"$f":"IF(AC1075=\"\",\"Zonard\",INDEX(AB1076:AB$2008,MIN(IF(COUNTIF(AC$2:AC1075,AB1076:AB$2008),ROW(AB$2008)-ROW()+1,ROW(AB1076:AB$2008)-ROW()+1))))","v":0},0]
[null,null,null,null,null,null,null,null,null,null,null,null,null,null,null,null,null,null,null,null,null,null,null,null,null,null,null,{"$f":"HISTO!P1076","v":0},{"$f":"IF(AC1076=\"\",\"Zonard\",INDEX(AB1077:AB$2008,MIN(IF(COUNTIF(AC$2:AC1076,AB1077:AB$2008),ROW(AB$2008)-ROW()+1,ROW(AB1077:AB$2008)-ROW()+1))))","v":0},0]
[null,null,null,null,null,null,null,null,null,null,null,null,null,null,null,null,null,null,null,null,null,null,null,null,null,null,null,{"$f":"HISTO!P1077","v":0},{"$f":"IF(AC1077=\"\",\"Zonard\",INDEX(AB1078:AB$2008,MIN(IF(COUNTIF(AC$2:AC1077,AB1078:AB$2008),ROW(AB$2008)-ROW()+1,ROW(AB1078:AB$2008)-ROW()+1))))","v":0},0]
[null,null,null,null,null,null,null,null,null,null,null,null,null,null,null,null,null,null,null,null,null,null,null,null,null,null,null,{"$f":"HISTO!P1078","v":0},{"$f":"IF(AC1078=\"\",\"Zonard\",INDEX(AB1079:AB$2008,MIN(IF(COUNTIF(AC$2:AC1078,AB1079:AB$2008),ROW(AB$2008)-ROW()+1,ROW(AB1079:AB$2008)-ROW()+1))))","v":0},0]
[null,null,null,null,null,null,null,null,null,null,null,null,null,null,null,null,null,null,null,null,null,null,null,null,null,null,null,{"$f":"HISTO!P1079","v":0},{"$f":"IF(AC1079=\"\",\"Zonard\",INDEX(AB1080:AB$2008,MIN(IF(COUNTIF(AC$2:AC1079,AB1080:AB$2008),ROW(AB$2008)-ROW()+1,ROW(AB1080:AB$2008)-ROW()+1))))","v":0},0]
[null,null,null,null,null,null,null,null,null,null,null,null,null,null,null,null,null,null,null,null,null,null,null,null,null,null,null,{"$f":"HISTO!P1080","v":0},{"$f":"IF(AC1080=\"\",\"Zonard\",INDEX(AB1081:AB$2008,MIN(IF(COUNTIF(AC$2:AC1080,AB1081:AB$2008),ROW(AB$2008)-ROW()+1,ROW(AB1081:AB$2008)-ROW()+1))))","v":0},0]
[null,null,null,null,null,null,null,null,null,null,null,null,null,null,null,null,null,null,null,null,null,null,null,null,null,null,null,{"$f":"HISTO!P1081","v":0},{"$f":"IF(AC1081=\"\",\"Zonard\",INDEX(AB1082:AB$2008,MIN(IF(COUNTIF(AC$2:AC1081,AB1082:AB$2008),ROW(AB$2008)-ROW()+1,ROW(AB1082:AB$2008)-ROW()+1))))","v":0},0]
[null,null,null,null,null,null,null,null,null,null,null,null,null,null,null,null,null,null,null,null,null,null,null,null,null,null,null,{"$f":"HISTO!P1082","v":0},{"$f":"IF(AC1082=\"\",\"Zonard\",INDEX(AB1083:AB$2008,MIN(IF(COUNTIF(AC$2:AC1082,AB1083:AB$2008),ROW(AB$2008)-ROW()+1,ROW(AB1083:AB$2008)-ROW()+1))))","v":0},0]
[null,null,null,null,null,null,null,null,null,null,null,null,null,null,null,null,null,null,null,null,null,null,null,null,null,null,null,{"$f":"HISTO!P1083","v":0},{"$f":"IF(AC1083=\"\",\"Zonard\",INDEX(AB1084:AB$2008,MIN(IF(COUNTIF(AC$2:AC1083,AB1084:AB$2008),ROW(AB$2008)-ROW()+1,ROW(AB1084:AB$2008)-ROW()+1))))","v":0},0]
[null,null,null,null,null,null,null,null,null,null,null,null,null,null,null,null,null,null,null,null,null,null,null,null,null,null,null,{"$f":"HISTO!P1084","v":0},{"$f":"IF(AC1084=\"\",\"Zonard\",INDEX(AB1085:AB$2008,MIN(IF(COUNTIF(AC$2:AC1084,AB1085:AB$2008),ROW(AB$2008)-ROW()+1,ROW(AB1085:AB$2008)-ROW()+1))))","v":0},0]
[null,null,null,null,null,null,null,null,null,null,null,null,null,null,null,null,null,null,null,null,null,null,null,null,null,null,null,{"$f":"HISTO!P1085","v":0},{"$f":"IF(AC1085=\"\",\"Zonard\",INDEX(AB1086:AB$2008,MIN(IF(COUNTIF(AC$2:AC1085,AB1086:AB$2008),ROW(AB$2008)-ROW()+1,ROW(AB1086:AB$2008)-ROW()+1))))","v":0},0]
[null,null,null,null,null,null,null,null,null,null,null,null,null,null,null,null,null,null,null,null,null,null,null,null,null,null,null,{"$f":"HISTO!P1086","v":0},{"$f":"IF(AC1086=\"\",\"Zonard\",INDEX(AB1087:AB$2008,MIN(IF(COUNTIF(AC$2:AC1086,AB1087:AB$2008),ROW(AB$2008)-ROW()+1,ROW(AB1087:AB$2008)-ROW()+1))))","v":0},0]
[null,null,null,null,null,null,null,null,null,null,null,null,null,null,null,null,null,null,null,null,null,null,null,null,null,null,null,{"$f":"HISTO!P1087","v":0},{"$f":"IF(AC1087=\"\",\"Zonard\",INDEX(AB1088:AB$2008,MIN(IF(COUNTIF(AC$2:AC1087,AB1088:AB$2008),ROW(AB$2008)-ROW()+1,ROW(AB1088:AB$2008)-ROW()+1))))","v":0},0]
[null,null,null,null,null,null,null,null,null,null,null,null,null,null,null,null,null,null,null,null,null,null,null,null,null,null,null,{"$f":"HISTO!P1088","v":0},{"$f":"IF(AC1088=\"\",\"Zonard\",INDEX(AB1089:AB$2008,MIN(IF(COUNTIF(AC$2:AC1088,AB1089:AB$2008),ROW(AB$2008)-ROW()+1,ROW(AB1089:AB$2008)-ROW()+1))))","v":0},0]
[null,null,null,null,null,null,null,null,null,null,null,null,null,null,null,null,null,null,null,null,null,null,null,null,null,null,null,{"$f":"HISTO!P1089","v":0},{"$f":"IF(AC1089=\"\",\"Zonard\",INDEX(AB1090:AB$2008,MIN(IF(COUNTIF(AC$2:AC1089,AB1090:AB$2008),ROW(AB$2008)-ROW()+1,ROW(AB1090:AB$2008)-ROW()+1))))","v":0},0]
[null,null,null,null,null,null,null,null,null,null,null,null,null,null,null,null,null,null,null,null,null,null,null,null,null,null,null,{"$f":"HISTO!P1090","v":0},{"$f":"IF(AC1090=\"\",\"Zonard\",INDEX(AB1091:AB$2008,MIN(IF(COUNTIF(AC$2:AC1090,AB1091:AB$2008),ROW(AB$2008)-ROW()+1,ROW(AB1091:AB$2008)-ROW()+1))))","v":0},0]
[null,null,null,null,null,null,null,null,null,null,null,null,null,null,null,null,null,null,null,null,null,null,null,null,null,null,null,{"$f":"HISTO!P1091","v":0},{"$f":"IF(AC1091=\"\",\"Zonard\",INDEX(AB1092:AB$2008,MIN(IF(COUNTIF(AC$2:AC1091,AB1092:AB$2008),ROW(AB$2008)-ROW()+1,ROW(AB1092:AB$2008)-ROW()+1))))","v":0},0]
[null,null,null,null,null,null,null,null,null,null,null,null,null,null,null,null,null,null,null,null,null,null,null,null,null,null,null,{"$f":"HISTO!P1092","v":0},{"$f":"IF(AC1092=\"\",\"Zonard\",INDEX(AB1093:AB$2008,MIN(IF(COUNTIF(AC$2:AC1092,AB1093:AB$2008),ROW(AB$2008)-ROW()+1,ROW(AB1093:AB$2008)-ROW()+1))))","v":0},0]
[null,null,null,null,null,null,null,null,null,null,null,null,null,null,null,null,null,null,null,null,null,null,null,null,null,null,null,{"$f":"HISTO!P1093","v":0},{"$f":"IF(AC1093=\"\",\"Zonard\",INDEX(AB1094:AB$2008,MIN(IF(COUNTIF(AC$2:AC1093,AB1094:AB$2008),ROW(AB$2008)-ROW()+1,ROW(AB1094:AB$2008)-ROW()+1))))","v":0},0]
[null,null,null,null,null,null,null,null,null,null,null,null,null,null,null,null,null,null,null,null,null,null,null,null,null,null,null,{"$f":"HISTO!P1094","v":0},{"$f":"IF(AC1094=\"\",\"Zonard\",INDEX(AB1095:AB$2008,MIN(IF(COUNTIF(AC$2:AC1094,AB1095:AB$2008),ROW(AB$2008)-ROW()+1,ROW(AB1095:AB$2008)-ROW()+1))))","v":0},0]
[null,null,null,null,null,null,null,null,null,null,null,null,null,null,null,null,null,null,null,null,null,null,null,null,null,null,null,{"$f":"HISTO!P1095","v":0},{"$f":"IF(AC1095=\"\",\"Zonard\",INDEX(AB1096:AB$2008,MIN(IF(COUNTIF(AC$2:AC1095,AB1096:AB$2008),ROW(AB$2008)-ROW()+1,ROW(AB1096:AB$2008)-ROW()+1))))","v":0},0]
[null,null,null,null,null,null,null,null,null,null,null,null,null,null,null,null,null,null,null,null,null,null,null,null,null,null,null,{"$f":"HISTO!P1096","v":0},{"$f":"IF(AC1096=\"\",\"Zonard\",INDEX(AB1097:AB$2008,MIN(IF(COUNTIF(AC$2:AC1096,AB1097:AB$2008),ROW(AB$2008)-ROW()+1,ROW(AB1097:AB$2008)-ROW()+1))))","v":0},0]
[null,null,null,null,null,null,null,null,null,null,null,null,null,null,null,null,null,null,null,null,null,null,null,null,null,null,null,{"$f":"HISTO!P1097","v":0},{"$f":"IF(AC1097=\"\",\"Zonard\",INDEX(AB1098:AB$2008,MIN(IF(COUNTIF(AC$2:AC1097,AB1098:AB$2008),ROW(AB$2008)-ROW()+1,ROW(AB1098:AB$2008)-ROW()+1))))","v":0},0]
[null,null,null,null,null,null,null,null,null,null,null,null,null,null,null,null,null,null,null,null,null,null,null,null,null,null,null,{"$f":"HISTO!P1098","v":0},{"$f":"IF(AC1098=\"\",\"Zonard\",INDEX(AB1099:AB$2008,MIN(IF(COUNTIF(AC$2:AC1098,AB1099:AB$2008),ROW(AB$2008)-ROW()+1,ROW(AB1099:AB$2008)-ROW()+1))))","v":0},0]
[null,null,null,null,null,null,null,null,null,null,null,null,null,null,null,null,null,null,null,null,null,null,null,null,null,null,null,{"$f":"HISTO!P1099","v":0},{"$f":"IF(AC1099=\"\",\"Zonard\",INDEX(AB1100:AB$2008,MIN(IF(COUNTIF(AC$2:AC1099,AB1100:AB$2008),ROW(AB$2008)-ROW()+1,ROW(AB1100:AB$2008)-ROW()+1))))","v":0},0]
[null,null,null,null,null,null,null,null,null,null,null,null,null,null,null,null,null,null,null,null,null,null,null,null,null,null,null,{"$f":"HISTO!P1100","v":0},{"$f":"IF(AC1100=\"\",\"Zonard\",INDEX(AB1101:AB$2008,MIN(IF(COUNTIF(AC$2:AC1100,AB1101:AB$2008),ROW(AB$2008)-ROW()+1,ROW(AB1101:AB$2008)-ROW()+1))))","v":0},0]
[null,null,null,null,null,null,null,null,null,null,null,null,null,null,null,null,null,null,null,null,null,null,null,null,null,null,null,{"$f":"HISTO!P1101","v":0},{"$f":"IF(AC1101=\"\",\"Zonard\",INDEX(AB1102:AB$2008,MIN(IF(COUNTIF(AC$2:AC1101,AB1102:AB$2008),ROW(AB$2008)-ROW()+1,ROW(AB1102:AB$2008)-ROW()+1))))","v":0},0]
[null,null,null,null,null,null,null,null,null,null,null,null,null,null,null,null,null,null,null,null,null,null,null,null,null,null,null,{"$f":"HISTO!P1102","v":0},{"$f":"IF(AC1102=\"\",\"Zonard\",INDEX(AB1103:AB$2008,MIN(IF(COUNTIF(AC$2:AC1102,AB1103:AB$2008),ROW(AB$2008)-ROW()+1,ROW(AB1103:AB$2008)-ROW()+1))))","v":0},0]
[null,null,null,null,null,null,null,null,null,null,null,null,null,null,null,null,null,null,null,null,null,null,null,null,null,null,null,{"$f":"HISTO!P1103","v":0},{"$f":"IF(AC1103=\"\",\"Zonard\",INDEX(AB1104:AB$2008,MIN(IF(COUNTIF(AC$2:AC1103,AB1104:AB$2008),ROW(AB$2008)-ROW()+1,ROW(AB1104:AB$2008)-ROW()+1))))","v":0},0]
[null,null,null,null,null,null,null,null,null,null,null,null,null,null,null,null,null,null,null,null,null,null,null,null,null,null,null,{"$f":"HISTO!P1104","v":0},{"$f":"IF(AC1104=\"\",\"Zonard\",INDEX(AB1105:AB$2008,MIN(IF(COUNTIF(AC$2:AC1104,AB1105:AB$2008),ROW(AB$2008)-ROW()+1,ROW(AB1105:AB$2008)-ROW()+1))))","v":0},0]
[null,null,null,null,null,null,null,null,null,null,null,null,null,null,null,null,null,null,null,null,null,null,null,null,null,null,null,{"$f":"HISTO!P1105","v":0},{"$f":"IF(AC1105=\"\",\"Zonard\",INDEX(AB1106:AB$2008,MIN(IF(COUNTIF(AC$2:AC1105,AB1106:AB$2008),ROW(AB$2008)-ROW()+1,ROW(AB1106:AB$2008)-ROW()+1))))","v":0},0]
[null,null,null,null,null,null,null,null,null,null,null,null,null,null,null,null,null,null,null,null,null,null,null,null,null,null,null,{"$f":"HISTO!P1106","v":0},{"$f":"IF(AC1106=\"\",\"Zonard\",INDEX(AB1107:AB$2008,MIN(IF(COUNTIF(AC$2:AC1106,AB1107:AB$2008),ROW(AB$2008)-ROW()+1,ROW(AB1107:AB$2008)-ROW()+1))))","v":0},0]
[null,null,null,null,null,null,null,null,null,null,null,null,null,null,null,null,null,null,null,null,null,null,null,null,null,null,null,{"$f":"HISTO!P1107","v":0},{"$f":"IF(AC1107=\"\",\"Zonard\",INDEX(AB1108:AB$2008,MIN(IF(COUNTIF(AC$2:AC1107,AB1108:AB$2008),ROW(AB$2008)-ROW()+1,ROW(AB1108:AB$2008)-ROW()+1))))","v":0},0]
[null,null,null,null,null,null,null,null,null,null,null,null,null,null,null,null,null,null,null,null,null,null,null,null,null,null,null,{"$f":"HISTO!P1108","v":0},{"$f":"IF(AC1108=\"\",\"Zonard\",INDEX(AB1109:AB$2008,MIN(IF(COUNTIF(AC$2:AC1108,AB1109:AB$2008),ROW(AB$2008)-ROW()+1,ROW(AB1109:AB$2008)-ROW()+1))))","v":0},0]
[null,null,null,null,null,null,null,null,null,null,null,null,null,null,null,null,null,null,null,null,null,null,null,null,null,null,null,{"$f":"HISTO!P1109","v":0},{"$f":"IF(AC1109=\"\",\"Zonard\",INDEX(AB1110:AB$2008,MIN(IF(COUNTIF(AC$2:AC1109,AB1110:AB$2008),ROW(AB$2008)-ROW()+1,ROW(AB1110:AB$2008)-ROW()+1))))","v":0},0]
[null,null,null,null,null,null,null,null,null,null,null,null,null,null,null,null,null,null,null,null,null,null,null,null,null,null,null,{"$f":"HISTO!P1110","v":0},{"$f":"IF(AC1110=\"\",\"Zonard\",INDEX(AB1111:AB$2008,MIN(IF(COUNTIF(AC$2:AC1110,AB1111:AB$2008),ROW(AB$2008)-ROW()+1,ROW(AB1111:AB$2008)-ROW()+1))))","v":0},0]
[null,null,null,null,null,null,null,null,null,null,null,null,null,null,null,null,null,null,null,null,null,null,null,null,null,null,null,{"$f":"HISTO!P1111","v":0},{"$f":"IF(AC1111=\"\",\"Zonard\",INDEX(AB1112:AB$2008,MIN(IF(COUNTIF(AC$2:AC1111,AB1112:AB$2008),ROW(AB$2008)-ROW()+1,ROW(AB1112:AB$2008)-ROW()+1))))","v":0},0]
[null,null,null,null,null,null,null,null,null,null,null,null,null,null,null,null,null,null,null,null,null,null,null,null,null,null,null,{"$f":"HISTO!P1112","v":0},{"$f":"IF(AC1112=\"\",\"Zonard\",INDEX(AB1113:AB$2008,MIN(IF(COUNTIF(AC$2:AC1112,AB1113:AB$2008),ROW(AB$2008)-ROW()+1,ROW(AB1113:AB$2008)-ROW()+1))))","v":0},0]
[null,null,null,null,null,null,null,null,null,null,null,null,null,null,null,null,null,null,null,null,null,null,null,null,null,null,null,{"$f":"HISTO!P1113","v":0},{"$f":"IF(AC1113=\"\",\"Zonard\",INDEX(AB1114:AB$2008,MIN(IF(COUNTIF(AC$2:AC1113,AB1114:AB$2008),ROW(AB$2008)-ROW()+1,ROW(AB1114:AB$2008)-ROW()+1))))","v":0},0]
[null,null,null,null,null,null,null,null,null,null,null,null,null,null,null,null,null,null,null,null,null,null,null,null,null,null,null,{"$f":"HISTO!P1114","v":0},{"$f":"IF(AC1114=\"\",\"Zonard\",INDEX(AB1115:AB$2008,MIN(IF(COUNTIF(AC$2:AC1114,AB1115:AB$2008),ROW(AB$2008)-ROW()+1,ROW(AB1115:AB$2008)-ROW()+1))))","v":0},0]
[null,null,null,null,null,null,null,null,null,null,null,null,null,null,null,null,null,null,null,null,null,null,null,null,null,null,null,{"$f":"HISTO!P1115","v":0},{"$f":"IF(AC1115=\"\",\"Zonard\",INDEX(AB1116:AB$2008,MIN(IF(COUNTIF(AC$2:AC1115,AB1116:AB$2008),ROW(AB$2008)-ROW()+1,ROW(AB1116:AB$2008)-ROW()+1))))","v":0},0]
[null,null,null,null,null,null,null,null,null,null,null,null,null,null,null,null,null,null,null,null,null,null,null,null,null,null,null,{"$f":"HISTO!P1116","v":0},{"$f":"IF(AC1116=\"\",\"Zonard\",INDEX(AB1117:AB$2008,MIN(IF(COUNTIF(AC$2:AC1116,AB1117:AB$2008),ROW(AB$2008)-ROW()+1,ROW(AB1117:AB$2008)-ROW()+1))))","v":0},0]
[null,null,null,null,null,null,null,null,null,null,null,null,null,null,null,null,null,null,null,null,null,null,null,null,null,null,null,{"$f":"HISTO!P1117","v":0},{"$f":"IF(AC1117=\"\",\"Zonard\",INDEX(AB1118:AB$2008,MIN(IF(COUNTIF(AC$2:AC1117,AB1118:AB$2008),ROW(AB$2008)-ROW()+1,ROW(AB1118:AB$2008)-ROW()+1))))","v":0},0]
[null,null,null,null,null,null,null,null,null,null,null,null,null,null,null,null,null,null,null,null,null,null,null,null,null,null,null,{"$f":"HISTO!P1118","v":0},{"$f":"IF(AC1118=\"\",\"Zonard\",INDEX(AB1119:AB$2008,MIN(IF(COUNTIF(AC$2:AC1118,AB1119:AB$2008),ROW(AB$2008)-ROW()+1,ROW(AB1119:AB$2008)-ROW()+1))))","v":0},0]
[null,null,null,null,null,null,null,null,null,null,null,null,null,null,null,null,null,null,null,null,null,null,null,null,null,null,null,{"$f":"HISTO!P1119","v":0},{"$f":"IF(AC1119=\"\",\"Zonard\",INDEX(AB1120:AB$2008,MIN(IF(COUNTIF(AC$2:AC1119,AB1120:AB$2008),ROW(AB$2008)-ROW()+1,ROW(AB1120:AB$2008)-ROW()+1))))","v":0},0]
[null,null,null,null,null,null,null,null,null,null,null,null,null,null,null,null,null,null,null,null,null,null,null,null,null,null,null,{"$f":"HISTO!P1120","v":0},{"$f":"IF(AC1120=\"\",\"Zonard\",INDEX(AB1121:AB$2008,MIN(IF(COUNTIF(AC$2:AC1120,AB1121:AB$2008),ROW(AB$2008)-ROW()+1,ROW(AB1121:AB$2008)-ROW()+1))))","v":0},0]
[null,null,null,null,null,null,null,null,null,null,null,null,null,null,null,null,null,null,null,null,null,null,null,null,null,null,null,{"$f":"HISTO!P1121","v":0},{"$f":"IF(AC1121=\"\",\"Zonard\",INDEX(AB1122:AB$2008,MIN(IF(COUNTIF(AC$2:AC1121,AB1122:AB$2008),ROW(AB$2008)-ROW()+1,ROW(AB1122:AB$2008)-ROW()+1))))","v":0},0]
[null,null,null,null,null,null,null,null,null,null,null,null,null,null,null,null,null,null,null,null,null,null,null,null,null,null,null,{"$f":"HISTO!P1122","v":0},{"$f":"IF(AC1122=\"\",\"Zonard\",INDEX(AB1123:AB$2008,MIN(IF(COUNTIF(AC$2:AC1122,AB1123:AB$2008),ROW(AB$2008)-ROW()+1,ROW(AB1123:AB$2008)-ROW()+1))))","v":0},0]
[null,null,null,null,null,null,null,null,null,null,null,null,null,null,null,null,null,null,null,null,null,null,null,null,null,null,null,{"$f":"HISTO!P1123","v":0},{"$f":"IF(AC1123=\"\",\"Zonard\",INDEX(AB1124:AB$2008,MIN(IF(COUNTIF(AC$2:AC1123,AB1124:AB$2008),ROW(AB$2008)-ROW()+1,ROW(AB1124:AB$2008)-ROW()+1))))","v":0},0]
[null,null,null,null,null,null,null,null,null,null,null,null,null,null,null,null,null,null,null,null,null,null,null,null,null,null,null,{"$f":"HISTO!P1124","v":0},{"$f":"IF(AC1124=\"\",\"Zonard\",INDEX(AB1125:AB$2008,MIN(IF(COUNTIF(AC$2:AC1124,AB1125:AB$2008),ROW(AB$2008)-ROW()+1,ROW(AB1125:AB$2008)-ROW()+1))))","v":0},0]
[null,null,null,null,null,null,null,null,null,null,null,null,null,null,null,null,null,null,null,null,null,null,null,null,null,null,null,{"$f":"HISTO!P1125","v":0},{"$f":"IF(AC1125=\"\",\"Zonard\",INDEX(AB1126:AB$2008,MIN(IF(COUNTIF(AC$2:AC1125,AB1126:AB$2008),ROW(AB$2008)-ROW()+1,ROW(AB1126:AB$2008)-ROW()+1))))","v":0},0]
[null,null,null,null,null,null,null,null,null,null,null,null,null,null,null,null,null,null,null,null,null,null,null,null,null,null,null,{"$f":"HISTO!P1126","v":0},{"$f":"IF(AC1126=\"\",\"Zonard\",INDEX(AB1127:AB$2008,MIN(IF(COUNTIF(AC$2:AC1126,AB1127:AB$2008),ROW(AB$2008)-ROW()+1,ROW(AB1127:AB$2008)-ROW()+1))))","v":0},0]
[null,null,null,null,null,null,null,null,null,null,null,null,null,null,null,null,null,null,null,null,null,null,null,null,null,null,null,{"$f":"HISTO!P1127","v":0},{"$f":"IF(AC1127=\"\",\"Zonard\",INDEX(AB1128:AB$2008,MIN(IF(COUNTIF(AC$2:AC1127,AB1128:AB$2008),ROW(AB$2008)-ROW()+1,ROW(AB1128:AB$2008)-ROW()+1))))","v":0},0]
[null,null,null,null,null,null,null,null,null,null,null,null,null,null,null,null,null,null,null,null,null,null,null,null,null,null,null,{"$f":"HISTO!P1128","v":0},{"$f":"IF(AC1128=\"\",\"Zonard\",INDEX(AB1129:AB$2008,MIN(IF(COUNTIF(AC$2:AC1128,AB1129:AB$2008),ROW(AB$2008)-ROW()+1,ROW(AB1129:AB$2008)-ROW()+1))))","v":0},0]
[null,null,null,null,null,null,null,null,null,null,null,null,null,null,null,null,null,null,null,null,null,null,null,null,null,null,null,{"$f":"HISTO!P1129","v":0},{"$f":"IF(AC1129=\"\",\"Zonard\",INDEX(AB1130:AB$2008,MIN(IF(COUNTIF(AC$2:AC1129,AB1130:AB$2008),ROW(AB$2008)-ROW()+1,ROW(AB1130:AB$2008)-ROW()+1))))","v":0},0]
[null,null,null,null,null,null,null,null,null,null,null,null,null,null,null,null,null,null,null,null,null,null,null,null,null,null,null,{"$f":"HISTO!P1130","v":0},{"$f":"IF(AC1130=\"\",\"Zonard\",INDEX(AB1131:AB$2008,MIN(IF(COUNTIF(AC$2:AC1130,AB1131:AB$2008),ROW(AB$2008)-ROW()+1,ROW(AB1131:AB$2008)-ROW()+1))))","v":0},0]
[null,null,null,null,null,null,null,null,null,null,null,null,null,null,null,null,null,null,null,null,null,null,null,null,null,null,null,{"$f":"HISTO!P1131","v":0},{"$f":"IF(AC1131=\"\",\"Zonard\",INDEX(AB1132:AB$2008,MIN(IF(COUNTIF(AC$2:AC1131,AB1132:AB$2008),ROW(AB$2008)-ROW()+1,ROW(AB1132:AB$2008)-ROW()+1))))","v":0},0]
[null,null,null,null,null,null,null,null,null,null,null,null,null,null,null,null,null,null,null,null,null,null,null,null,null,null,null,{"$f":"HISTO!P1132","v":0},{"$f":"IF(AC1132=\"\",\"Zonard\",INDEX(AB1133:AB$2008,MIN(IF(COUNTIF(AC$2:AC1132,AB1133:AB$2008),ROW(AB$2008)-ROW()+1,ROW(AB1133:AB$2008)-ROW()+1))))","v":0},0]
[null,null,null,null,null,null,null,null,null,null,null,null,null,null,null,null,null,null,null,null,null,null,null,null,null,null,null,{"$f":"HISTO!P1133","v":0},{"$f":"IF(AC1133=\"\",\"Zonard\",INDEX(AB1134:AB$2008,MIN(IF(COUNTIF(AC$2:AC1133,AB1134:AB$2008),ROW(AB$2008)-ROW()+1,ROW(AB1134:AB$2008)-ROW()+1))))","v":0},0]
[null,null,null,null,null,null,null,null,null,null,null,null,null,null,null,null,null,null,null,null,null,null,null,null,null,null,null,{"$f":"HISTO!P1134","v":0},{"$f":"IF(AC1134=\"\",\"Zonard\",INDEX(AB1135:AB$2008,MIN(IF(COUNTIF(AC$2:AC1134,AB1135:AB$2008),ROW(AB$2008)-ROW()+1,ROW(AB1135:AB$2008)-ROW()+1))))","v":0},0]
[null,null,null,null,null,null,null,null,null,null,null,null,null,null,null,null,null,null,null,null,null,null,null,null,null,null,null,{"$f":"HISTO!P1135","v":0},{"$f":"IF(AC1135=\"\",\"Zonard\",INDEX(AB1136:AB$2008,MIN(IF(COUNTIF(AC$2:AC1135,AB1136:AB$2008),ROW(AB$2008)-ROW()+1,ROW(AB1136:AB$2008)-ROW()+1))))","v":0},0]
[null,null,null,null,null,null,null,null,null,null,null,null,null,null,null,null,null,null,null,null,null,null,null,null,null,null,null,{"$f":"HISTO!P1136","v":0},{"$f":"IF(AC1136=\"\",\"Zonard\",INDEX(AB1137:AB$2008,MIN(IF(COUNTIF(AC$2:AC1136,AB1137:AB$2008),ROW(AB$2008)-ROW()+1,ROW(AB1137:AB$2008)-ROW()+1))))","v":0},0]
[null,null,null,null,null,null,null,null,null,null,null,null,null,null,null,null,null,null,null,null,null,null,null,null,null,null,null,{"$f":"HISTO!P1137","v":0},{"$f":"IF(AC1137=\"\",\"Zonard\",INDEX(AB1138:AB$2008,MIN(IF(COUNTIF(AC$2:AC1137,AB1138:AB$2008),ROW(AB$2008)-ROW()+1,ROW(AB1138:AB$2008)-ROW()+1))))","v":0},0]
[null,null,null,null,null,null,null,null,null,null,null,null,null,null,null,null,null,null,null,null,null,null,null,null,null,null,null,{"$f":"HISTO!P1138","v":0},{"$f":"IF(AC1138=\"\",\"Zonard\",INDEX(AB1139:AB$2008,MIN(IF(COUNTIF(AC$2:AC1138,AB1139:AB$2008),ROW(AB$2008)-ROW()+1,ROW(AB1139:AB$2008)-ROW()+1))))","v":0},0]
[null,null,null,null,null,null,null,null,null,null,null,null,null,null,null,null,null,null,null,null,null,null,null,null,null,null,null,{"$f":"HISTO!P1139","v":0},{"$f":"IF(AC1139=\"\",\"Zonard\",INDEX(AB1140:AB$2008,MIN(IF(COUNTIF(AC$2:AC1139,AB1140:AB$2008),ROW(AB$2008)-ROW()+1,ROW(AB1140:AB$2008)-ROW()+1))))","v":0},0]
[null,null,null,null,null,null,null,null,null,null,null,null,null,null,null,null,null,null,null,null,null,null,null,null,null,null,null,{"$f":"HISTO!P1140","v":0},{"$f":"IF(AC1140=\"\",\"Zonard\",INDEX(AB1141:AB$2008,MIN(IF(COUNTIF(AC$2:AC1140,AB1141:AB$2008),ROW(AB$2008)-ROW()+1,ROW(AB1141:AB$2008)-ROW()+1))))","v":0},0]
[null,null,null,null,null,null,null,null,null,null,null,null,null,null,null,null,null,null,null,null,null,null,null,null,null,null,null,{"$f":"HISTO!P1141","v":0},{"$f":"IF(AC1141=\"\",\"Zonard\",INDEX(AB1142:AB$2008,MIN(IF(COUNTIF(AC$2:AC1141,AB1142:AB$2008),ROW(AB$2008)-ROW()+1,ROW(AB1142:AB$2008)-ROW()+1))))","v":0},0]
[null,null,null,null,null,null,null,null,null,null,null,null,null,null,null,null,null,null,null,null,null,null,null,null,null,null,null,{"$f":"HISTO!P1142","v":0},{"$f":"IF(AC1142=\"\",\"Zonard\",INDEX(AB1143:AB$2008,MIN(IF(COUNTIF(AC$2:AC1142,AB1143:AB$2008),ROW(AB$2008)-ROW()+1,ROW(AB1143:AB$2008)-ROW()+1))))","v":0},0]
[null,null,null,null,null,null,null,null,null,null,null,null,null,null,null,null,null,null,null,null,null,null,null,null,null,null,null,{"$f":"HISTO!P1143","v":0},{"$f":"IF(AC1143=\"\",\"Zonard\",INDEX(AB1144:AB$2008,MIN(IF(COUNTIF(AC$2:AC1143,AB1144:AB$2008),ROW(AB$2008)-ROW()+1,ROW(AB1144:AB$2008)-ROW()+1))))","v":0},0]
[null,null,null,null,null,null,null,null,null,null,null,null,null,null,null,null,null,null,null,null,null,null,null,null,null,null,null,{"$f":"HISTO!P1144","v":0},{"$f":"IF(AC1144=\"\",\"Zonard\",INDEX(AB1145:AB$2008,MIN(IF(COUNTIF(AC$2:AC1144,AB1145:AB$2008),ROW(AB$2008)-ROW()+1,ROW(AB1145:AB$2008)-ROW()+1))))","v":0},0]
[null,null,null,null,null,null,null,null,null,null,null,null,null,null,null,null,null,null,null,null,null,null,null,null,null,null,null,{"$f":"HISTO!P1145","v":0},{"$f":"IF(AC1145=\"\",\"Zonard\",INDEX(AB1146:AB$2008,MIN(IF(COUNTIF(AC$2:AC1145,AB1146:AB$2008),ROW(AB$2008)-ROW()+1,ROW(AB1146:AB$2008)-ROW()+1))))","v":0},0]
[null,null,null,null,null,null,null,null,null,null,null,null,null,null,null,null,null,null,null,null,null,null,null,null,null,null,null,{"$f":"HISTO!P1146","v":0},{"$f":"IF(AC1146=\"\",\"Zonard\",INDEX(AB1147:AB$2008,MIN(IF(COUNTIF(AC$2:AC1146,AB1147:AB$2008),ROW(AB$2008)-ROW()+1,ROW(AB1147:AB$2008)-ROW()+1))))","v":0},0]
[null,null,null,null,null,null,null,null,null,null,null,null,null,null,null,null,null,null,null,null,null,null,null,null,null,null,null,{"$f":"HISTO!P1147","v":0},{"$f":"IF(AC1147=\"\",\"Zonard\",INDEX(AB1148:AB$2008,MIN(IF(COUNTIF(AC$2:AC1147,AB1148:AB$2008),ROW(AB$2008)-ROW()+1,ROW(AB1148:AB$2008)-ROW()+1))))","v":0},0]
[null,null,null,null,null,null,null,null,null,null,null,null,null,null,null,null,null,null,null,null,null,null,null,null,null,null,null,{"$f":"HISTO!P1148","v":0},{"$f":"IF(AC1148=\"\",\"Zonard\",INDEX(AB1149:AB$2008,MIN(IF(COUNTIF(AC$2:AC1148,AB1149:AB$2008),ROW(AB$2008)-ROW()+1,ROW(AB1149:AB$2008)-ROW()+1))))","v":0},0]
[null,null,null,null,null,null,null,null,null,null,null,null,null,null,null,null,null,null,null,null,null,null,null,null,null,null,null,{"$f":"HISTO!P1149","v":0},{"$f":"IF(AC1149=\"\",\"Zonard\",INDEX(AB1150:AB$2008,MIN(IF(COUNTIF(AC$2:AC1149,AB1150:AB$2008),ROW(AB$2008)-ROW()+1,ROW(AB1150:AB$2008)-ROW()+1))))","v":0},0]
[null,null,null,null,null,null,null,null,null,null,null,null,null,null,null,null,null,null,null,null,null,null,null,null,null,null,null,{"$f":"HISTO!P1150","v":0},{"$f":"IF(AC1150=\"\",\"Zonard\",INDEX(AB1151:AB$2008,MIN(IF(COUNTIF(AC$2:AC1150,AB1151:AB$2008),ROW(AB$2008)-ROW()+1,ROW(AB1151:AB$2008)-ROW()+1))))","v":0},0]
[null,null,null,null,null,null,null,null,null,null,null,null,null,null,null,null,null,null,null,null,null,null,null,null,null,null,null,{"$f":"HISTO!P1151","v":0},{"$f":"IF(AC1151=\"\",\"Zonard\",INDEX(AB1152:AB$2008,MIN(IF(COUNTIF(AC$2:AC1151,AB1152:AB$2008),ROW(AB$2008)-ROW()+1,ROW(AB1152:AB$2008)-ROW()+1))))","v":0},0]
[null,null,null,null,null,null,null,null,null,null,null,null,null,null,null,null,null,null,null,null,null,null,null,null,null,null,null,{"$f":"HISTO!P1152","v":0},{"$f":"IF(AC1152=\"\",\"Zonard\",INDEX(AB1153:AB$2008,MIN(IF(COUNTIF(AC$2:AC1152,AB1153:AB$2008),ROW(AB$2008)-ROW()+1,ROW(AB1153:AB$2008)-ROW()+1))))","v":0},0]
[null,null,null,null,null,null,null,null,null,null,null,null,null,null,null,null,null,null,null,null,null,null,null,null,null,null,null,{"$f":"HISTO!P1153","v":0},{"$f":"IF(AC1153=\"\",\"Zonard\",INDEX(AB1154:AB$2008,MIN(IF(COUNTIF(AC$2:AC1153,AB1154:AB$2008),ROW(AB$2008)-ROW()+1,ROW(AB1154:AB$2008)-ROW()+1))))","v":0},0]
[null,null,null,null,null,null,null,null,null,null,null,null,null,null,null,null,null,null,null,null,null,null,null,null,null,null,null,{"$f":"HISTO!P1154","v":0},{"$f":"IF(AC1154=\"\",\"Zonard\",INDEX(AB1155:AB$2008,MIN(IF(COUNTIF(AC$2:AC1154,AB1155:AB$2008),ROW(AB$2008)-ROW()+1,ROW(AB1155:AB$2008)-ROW()+1))))","v":0},0]
[null,null,null,null,null,null,null,null,null,null,null,null,null,null,null,null,null,null,null,null,null,null,null,null,null,null,null,{"$f":"HISTO!P1155","v":0},{"$f":"IF(AC1155=\"\",\"Zonard\",INDEX(AB1156:AB$2008,MIN(IF(COUNTIF(AC$2:AC1155,AB1156:AB$2008),ROW(AB$2008)-ROW()+1,ROW(AB1156:AB$2008)-ROW()+1))))","v":0},0]
[null,null,null,null,null,null,null,null,null,null,null,null,null,null,null,null,null,null,null,null,null,null,null,null,null,null,null,{"$f":"HISTO!P1156","v":0},{"$f":"IF(AC1156=\"\",\"Zonard\",INDEX(AB1157:AB$2008,MIN(IF(COUNTIF(AC$2:AC1156,AB1157:AB$2008),ROW(AB$2008)-ROW()+1,ROW(AB1157:AB$2008)-ROW()+1))))","v":0},0]
[null,null,null,null,null,null,null,null,null,null,null,null,null,null,null,null,null,null,null,null,null,null,null,null,null,null,null,{"$f":"HISTO!P1157","v":0},{"$f":"IF(AC1157=\"\",\"Zonard\",INDEX(AB1158:AB$2008,MIN(IF(COUNTIF(AC$2:AC1157,AB1158:AB$2008),ROW(AB$2008)-ROW()+1,ROW(AB1158:AB$2008)-ROW()+1))))","v":0},0]
[null,null,null,null,null,null,null,null,null,null,null,null,null,null,null,null,null,null,null,null,null,null,null,null,null,null,null,{"$f":"HISTO!P1158","v":0},{"$f":"IF(AC1158=\"\",\"Zonard\",INDEX(AB1159:AB$2008,MIN(IF(COUNTIF(AC$2:AC1158,AB1159:AB$2008),ROW(AB$2008)-ROW()+1,ROW(AB1159:AB$2008)-ROW()+1))))","v":0},0]
[null,null,null,null,null,null,null,null,null,null,null,null,null,null,null,null,null,null,null,null,null,null,null,null,null,null,null,{"$f":"HISTO!P1159","v":0},{"$f":"IF(AC1159=\"\",\"Zonard\",INDEX(AB1160:AB$2008,MIN(IF(COUNTIF(AC$2:AC1159,AB1160:AB$2008),ROW(AB$2008)-ROW()+1,ROW(AB1160:AB$2008)-ROW()+1))))","v":0},0]
[null,null,null,null,null,null,null,null,null,null,null,null,null,null,null,null,null,null,null,null,null,null,null,null,null,null,null,{"$f":"HISTO!P1160","v":0},{"$f":"IF(AC1160=\"\",\"Zonard\",INDEX(AB1161:AB$2008,MIN(IF(COUNTIF(AC$2:AC1160,AB1161:AB$2008),ROW(AB$2008)-ROW()+1,ROW(AB1161:AB$2008)-ROW()+1))))","v":0},0]
[null,null,null,null,null,null,null,null,null,null,null,null,null,null,null,null,null,null,null,null,null,null,null,null,null,null,null,{"$f":"HISTO!P1161","v":0},{"$f":"IF(AC1161=\"\",\"Zonard\",INDEX(AB1162:AB$2008,MIN(IF(COUNTIF(AC$2:AC1161,AB1162:AB$2008),ROW(AB$2008)-ROW()+1,ROW(AB1162:AB$2008)-ROW()+1))))","v":0},0]
[null,null,null,null,null,null,null,null,null,null,null,null,null,null,null,null,null,null,null,null,null,null,null,null,null,null,null,{"$f":"HISTO!P1162","v":0},{"$f":"IF(AC1162=\"\",\"Zonard\",INDEX(AB1163:AB$2008,MIN(IF(COUNTIF(AC$2:AC1162,AB1163:AB$2008),ROW(AB$2008)-ROW()+1,ROW(AB1163:AB$2008)-ROW()+1))))","v":0},0]
[null,null,null,null,null,null,null,null,null,null,null,null,null,null,null,null,null,null,null,null,null,null,null,null,null,null,null,{"$f":"HISTO!P1163","v":0},{"$f":"IF(AC1163=\"\",\"Zonard\",INDEX(AB1164:AB$2008,MIN(IF(COUNTIF(AC$2:AC1163,AB1164:AB$2008),ROW(AB$2008)-ROW()+1,ROW(AB1164:AB$2008)-ROW()+1))))","v":0},0]
[null,null,null,null,null,null,null,null,null,null,null,null,null,null,null,null,null,null,null,null,null,null,null,null,null,null,null,{"$f":"HISTO!P1164","v":0},{"$f":"IF(AC1164=\"\",\"Zonard\",INDEX(AB1165:AB$2008,MIN(IF(COUNTIF(AC$2:AC1164,AB1165:AB$2008),ROW(AB$2008)-ROW()+1,ROW(AB1165:AB$2008)-ROW()+1))))","v":0},0]
[null,null,null,null,null,null,null,null,null,null,null,null,null,null,null,null,null,null,null,null,null,null,null,null,null,null,null,{"$f":"HISTO!P1165","v":0},{"$f":"IF(AC1165=\"\",\"Zonard\",INDEX(AB1166:AB$2008,MIN(IF(COUNTIF(AC$2:AC1165,AB1166:AB$2008),ROW(AB$2008)-ROW()+1,ROW(AB1166:AB$2008)-ROW()+1))))","v":0},0]
[null,null,null,null,null,null,null,null,null,null,null,null,null,null,null,null,null,null,null,null,null,null,null,null,null,null,null,{"$f":"HISTO!P1166","v":0},{"$f":"IF(AC1166=\"\",\"Zonard\",INDEX(AB1167:AB$2008,MIN(IF(COUNTIF(AC$2:AC1166,AB1167:AB$2008),ROW(AB$2008)-ROW()+1,ROW(AB1167:AB$2008)-ROW()+1))))","v":0},0]
[null,null,null,null,null,null,null,null,null,null,null,null,null,null,null,null,null,null,null,null,null,null,null,null,null,null,null,{"$f":"HISTO!P1167","v":0},{"$f":"IF(AC1167=\"\",\"Zonard\",INDEX(AB1168:AB$2008,MIN(IF(COUNTIF(AC$2:AC1167,AB1168:AB$2008),ROW(AB$2008)-ROW()+1,ROW(AB1168:AB$2008)-ROW()+1))))","v":0},0]
[null,null,null,null,null,null,null,null,null,null,null,null,null,null,null,null,null,null,null,null,null,null,null,null,null,null,null,{"$f":"HISTO!P1168","v":0},{"$f":"IF(AC1168=\"\",\"Zonard\",INDEX(AB1169:AB$2008,MIN(IF(COUNTIF(AC$2:AC1168,AB1169:AB$2008),ROW(AB$2008)-ROW()+1,ROW(AB1169:AB$2008)-ROW()+1))))","v":0},0]
[null,null,null,null,null,null,null,null,null,null,null,null,null,null,null,null,null,null,null,null,null,null,null,null,null,null,null,{"$f":"HISTO!P1169","v":0},{"$f":"IF(AC1169=\"\",\"Zonard\",INDEX(AB1170:AB$2008,MIN(IF(COUNTIF(AC$2:AC1169,AB1170:AB$2008),ROW(AB$2008)-ROW()+1,ROW(AB1170:AB$2008)-ROW()+1))))","v":0},0]
[null,null,null,null,null,null,null,null,null,null,null,null,null,null,null,null,null,null,null,null,null,null,null,null,null,null,null,{"$f":"HISTO!P1170","v":0},{"$f":"IF(AC1170=\"\",\"Zonard\",INDEX(AB1171:AB$2008,MIN(IF(COUNTIF(AC$2:AC1170,AB1171:AB$2008),ROW(AB$2008)-ROW()+1,ROW(AB1171:AB$2008)-ROW()+1))))","v":0},0]
[null,null,null,null,null,null,null,null,null,null,null,null,null,null,null,null,null,null,null,null,null,null,null,null,null,null,null,{"$f":"HISTO!P1171","v":0},{"$f":"IF(AC1171=\"\",\"Zonard\",INDEX(AB1172:AB$2008,MIN(IF(COUNTIF(AC$2:AC1171,AB1172:AB$2008),ROW(AB$2008)-ROW()+1,ROW(AB1172:AB$2008)-ROW()+1))))","v":0},0]
[null,null,null,null,null,null,null,null,null,null,null,null,null,null,null,null,null,null,null,null,null,null,null,null,null,null,null,{"$f":"HISTO!P1172","v":0},{"$f":"IF(AC1172=\"\",\"Zonard\",INDEX(AB1173:AB$2008,MIN(IF(COUNTIF(AC$2:AC1172,AB1173:AB$2008),ROW(AB$2008)-ROW()+1,ROW(AB1173:AB$2008)-ROW()+1))))","v":0},0]
[null,null,null,null,null,null,null,null,null,null,null,null,null,null,null,null,null,null,null,null,null,null,null,null,null,null,null,{"$f":"HISTO!P1173","v":0},{"$f":"IF(AC1173=\"\",\"Zonard\",INDEX(AB1174:AB$2008,MIN(IF(COUNTIF(AC$2:AC1173,AB1174:AB$2008),ROW(AB$2008)-ROW()+1,ROW(AB1174:AB$2008)-ROW()+1))))","v":0},0]
[null,null,null,null,null,null,null,null,null,null,null,null,null,null,null,null,null,null,null,null,null,null,null,null,null,null,null,{"$f":"HISTO!P1174","v":0},{"$f":"IF(AC1174=\"\",\"Zonard\",INDEX(AB1175:AB$2008,MIN(IF(COUNTIF(AC$2:AC1174,AB1175:AB$2008),ROW(AB$2008)-ROW()+1,ROW(AB1175:AB$2008)-ROW()+1))))","v":0},0]
[null,null,null,null,null,null,null,null,null,null,null,null,null,null,null,null,null,null,null,null,null,null,null,null,null,null,null,{"$f":"HISTO!P1175","v":0},{"$f":"IF(AC1175=\"\",\"Zonard\",INDEX(AB1176:AB$2008,MIN(IF(COUNTIF(AC$2:AC1175,AB1176:AB$2008),ROW(AB$2008)-ROW()+1,ROW(AB1176:AB$2008)-ROW()+1))))","v":0},0]
[null,null,null,null,null,null,null,null,null,null,null,null,null,null,null,null,null,null,null,null,null,null,null,null,null,null,null,{"$f":"HISTO!P1176","v":0},{"$f":"IF(AC1176=\"\",\"Zonard\",INDEX(AB1177:AB$2008,MIN(IF(COUNTIF(AC$2:AC1176,AB1177:AB$2008),ROW(AB$2008)-ROW()+1,ROW(AB1177:AB$2008)-ROW()+1))))","v":0},0]
[null,null,null,null,null,null,null,null,null,null,null,null,null,null,null,null,null,null,null,null,null,null,null,null,null,null,null,{"$f":"HISTO!P1177","v":0},{"$f":"IF(AC1177=\"\",\"Zonard\",INDEX(AB1178:AB$2008,MIN(IF(COUNTIF(AC$2:AC1177,AB1178:AB$2008),ROW(AB$2008)-ROW()+1,ROW(AB1178:AB$2008)-ROW()+1))))","v":0},0]
[null,null,null,null,null,null,null,null,null,null,null,null,null,null,null,null,null,null,null,null,null,null,null,null,null,null,null,{"$f":"HISTO!P1178","v":0},{"$f":"IF(AC1178=\"\",\"Zonard\",INDEX(AB1179:AB$2008,MIN(IF(COUNTIF(AC$2:AC1178,AB1179:AB$2008),ROW(AB$2008)-ROW()+1,ROW(AB1179:AB$2008)-ROW()+1))))","v":0},0]
[null,null,null,null,null,null,null,null,null,null,null,null,null,null,null,null,null,null,null,null,null,null,null,null,null,null,null,{"$f":"HISTO!P1179","v":0},{"$f":"IF(AC1179=\"\",\"Zonard\",INDEX(AB1180:AB$2008,MIN(IF(COUNTIF(AC$2:AC1179,AB1180:AB$2008),ROW(AB$2008)-ROW()+1,ROW(AB1180:AB$2008)-ROW()+1))))","v":0},0]
[null,null,null,null,null,null,null,null,null,null,null,null,null,null,null,null,null,null,null,null,null,null,null,null,null,null,null,{"$f":"HISTO!P1180","v":0},{"$f":"IF(AC1180=\"\",\"Zonard\",INDEX(AB1181:AB$2008,MIN(IF(COUNTIF(AC$2:AC1180,AB1181:AB$2008),ROW(AB$2008)-ROW()+1,ROW(AB1181:AB$2008)-ROW()+1))))","v":0},0]
[null,null,null,null,null,null,null,null,null,null,null,null,null,null,null,null,null,null,null,null,null,null,null,null,null,null,null,{"$f":"HISTO!P1181","v":0},{"$f":"IF(AC1181=\"\",\"Zonard\",INDEX(AB1182:AB$2008,MIN(IF(COUNTIF(AC$2:AC1181,AB1182:AB$2008),ROW(AB$2008)-ROW()+1,ROW(AB1182:AB$2008)-ROW()+1))))","v":0},0]
[null,null,null,null,null,null,null,null,null,null,null,null,null,null,null,null,null,null,null,null,null,null,null,null,null,null,null,{"$f":"HISTO!P1182","v":0},{"$f":"IF(AC1182=\"\",\"Zonard\",INDEX(AB1183:AB$2008,MIN(IF(COUNTIF(AC$2:AC1182,AB1183:AB$2008),ROW(AB$2008)-ROW()+1,ROW(AB1183:AB$2008)-ROW()+1))))","v":0},0]
[null,null,null,null,null,null,null,null,null,null,null,null,null,null,null,null,null,null,null,null,null,null,null,null,null,null,null,{"$f":"HISTO!P1183","v":0},{"$f":"IF(AC1183=\"\",\"Zonard\",INDEX(AB1184:AB$2008,MIN(IF(COUNTIF(AC$2:AC1183,AB1184:AB$2008),ROW(AB$2008)-ROW()+1,ROW(AB1184:AB$2008)-ROW()+1))))","v":0},0]
[null,null,null,null,null,null,null,null,null,null,null,null,null,null,null,null,null,null,null,null,null,null,null,null,null,null,null,{"$f":"HISTO!P1184","v":0},{"$f":"IF(AC1184=\"\",\"Zonard\",INDEX(AB1185:AB$2008,MIN(IF(COUNTIF(AC$2:AC1184,AB1185:AB$2008),ROW(AB$2008)-ROW()+1,ROW(AB1185:AB$2008)-ROW()+1))))","v":0},0]
[null,null,null,null,null,null,null,null,null,null,null,null,null,null,null,null,null,null,null,null,null,null,null,null,null,null,null,{"$f":"HISTO!P1185","v":0},{"$f":"IF(AC1185=\"\",\"Zonard\",INDEX(AB1186:AB$2008,MIN(IF(COUNTIF(AC$2:AC1185,AB1186:AB$2008),ROW(AB$2008)-ROW()+1,ROW(AB1186:AB$2008)-ROW()+1))))","v":0},0]
[null,null,null,null,null,null,null,null,null,null,null,null,null,null,null,null,null,null,null,null,null,null,null,null,null,null,null,{"$f":"HISTO!P1186","v":0},{"$f":"IF(AC1186=\"\",\"Zonard\",INDEX(AB1187:AB$2008,MIN(IF(COUNTIF(AC$2:AC1186,AB1187:AB$2008),ROW(AB$2008)-ROW()+1,ROW(AB1187:AB$2008)-ROW()+1))))","v":0},0]
[null,null,null,null,null,null,null,null,null,null,null,null,null,null,null,null,null,null,null,null,null,null,null,null,null,null,null,{"$f":"HISTO!P1187","v":0},{"$f":"IF(AC1187=\"\",\"Zonard\",INDEX(AB1188:AB$2008,MIN(IF(COUNTIF(AC$2:AC1187,AB1188:AB$2008),ROW(AB$2008)-ROW()+1,ROW(AB1188:AB$2008)-ROW()+1))))","v":0},0]
[null,null,null,null,null,null,null,null,null,null,null,null,null,null,null,null,null,null,null,null,null,null,null,null,null,null,null,{"$f":"HISTO!P1188","v":0},{"$f":"IF(AC1188=\"\",\"Zonard\",INDEX(AB1189:AB$2008,MIN(IF(COUNTIF(AC$2:AC1188,AB1189:AB$2008),ROW(AB$2008)-ROW()+1,ROW(AB1189:AB$2008)-ROW()+1))))","v":0},0]
[null,null,null,null,null,null,null,null,null,null,null,null,null,null,null,null,null,null,null,null,null,null,null,null,null,null,null,{"$f":"HISTO!P1189","v":0},{"$f":"IF(AC1189=\"\",\"Zonard\",INDEX(AB1190:AB$2008,MIN(IF(COUNTIF(AC$2:AC1189,AB1190:AB$2008),ROW(AB$2008)-ROW()+1,ROW(AB1190:AB$2008)-ROW()+1))))","v":0},0]
[null,null,null,null,null,null,null,null,null,null,null,null,null,null,null,null,null,null,null,null,null,null,null,null,null,null,null,{"$f":"HISTO!P1190","v":0},{"$f":"IF(AC1190=\"\",\"Zonard\",INDEX(AB1191:AB$2008,MIN(IF(COUNTIF(AC$2:AC1190,AB1191:AB$2008),ROW(AB$2008)-ROW()+1,ROW(AB1191:AB$2008)-ROW()+1))))","v":0},0]
[null,null,null,null,null,null,null,null,null,null,null,null,null,null,null,null,null,null,null,null,null,null,null,null,null,null,null,{"$f":"HISTO!P1191","v":0},{"$f":"IF(AC1191=\"\",\"Zonard\",INDEX(AB1192:AB$2008,MIN(IF(COUNTIF(AC$2:AC1191,AB1192:AB$2008),ROW(AB$2008)-ROW()+1,ROW(AB1192:AB$2008)-ROW()+1))))","v":0},0]
[null,null,null,null,null,null,null,null,null,null,null,null,null,null,null,null,null,null,null,null,null,null,null,null,null,null,null,{"$f":"HISTO!P1192","v":0},{"$f":"IF(AC1192=\"\",\"Zonard\",INDEX(AB1193:AB$2008,MIN(IF(COUNTIF(AC$2:AC1192,AB1193:AB$2008),ROW(AB$2008)-ROW()+1,ROW(AB1193:AB$2008)-ROW()+1))))","v":0},0]
[null,null,null,null,null,null,null,null,null,null,null,null,null,null,null,null,null,null,null,null,null,null,null,null,null,null,null,{"$f":"HISTO!P1193","v":0},{"$f":"IF(AC1193=\"\",\"Zonard\",INDEX(AB1194:AB$2008,MIN(IF(COUNTIF(AC$2:AC1193,AB1194:AB$2008),ROW(AB$2008)-ROW()+1,ROW(AB1194:AB$2008)-ROW()+1))))","v":0},0]
[null,null,null,null,null,null,null,null,null,null,null,null,null,null,null,null,null,null,null,null,null,null,null,null,null,null,null,{"$f":"HISTO!P1194","v":0},{"$f":"IF(AC1194=\"\",\"Zonard\",INDEX(AB1195:AB$2008,MIN(IF(COUNTIF(AC$2:AC1194,AB1195:AB$2008),ROW(AB$2008)-ROW()+1,ROW(AB1195:AB$2008)-ROW()+1))))","v":0},0]
[null,null,null,null,null,null,null,null,null,null,null,null,null,null,null,null,null,null,null,null,null,null,null,null,null,null,null,{"$f":"HISTO!P1195","v":0},{"$f":"IF(AC1195=\"\",\"Zonard\",INDEX(AB1196:AB$2008,MIN(IF(COUNTIF(AC$2:AC1195,AB1196:AB$2008),ROW(AB$2008)-ROW()+1,ROW(AB1196:AB$2008)-ROW()+1))))","v":0},0]
[null,null,null,null,null,null,null,null,null,null,null,null,null,null,null,null,null,null,null,null,null,null,null,null,null,null,null,{"$f":"HISTO!P1196","v":0},{"$f":"IF(AC1196=\"\",\"Zonard\",INDEX(AB1197:AB$2008,MIN(IF(COUNTIF(AC$2:AC1196,AB1197:AB$2008),ROW(AB$2008)-ROW()+1,ROW(AB1197:AB$2008)-ROW()+1))))","v":0},0]
[null,null,null,null,null,null,null,null,null,null,null,null,null,null,null,null,null,null,null,null,null,null,null,null,null,null,null,{"$f":"HISTO!P1197","v":0},{"$f":"IF(AC1197=\"\",\"Zonard\",INDEX(AB1198:AB$2008,MIN(IF(COUNTIF(AC$2:AC1197,AB1198:AB$2008),ROW(AB$2008)-ROW()+1,ROW(AB1198:AB$2008)-ROW()+1))))","v":0},0]
[null,null,null,null,null,null,null,null,null,null,null,null,null,null,null,null,null,null,null,null,null,null,null,null,null,null,null,{"$f":"HISTO!P1198","v":0},{"$f":"IF(AC1198=\"\",\"Zonard\",INDEX(AB1199:AB$2008,MIN(IF(COUNTIF(AC$2:AC1198,AB1199:AB$2008),ROW(AB$2008)-ROW()+1,ROW(AB1199:AB$2008)-ROW()+1))))","v":0},0]
[null,null,null,null,null,null,null,null,null,null,null,null,null,null,null,null,null,null,null,null,null,null,null,null,null,null,null,{"$f":"HISTO!P1199","v":0},{"$f":"IF(AC1199=\"\",\"Zonard\",INDEX(AB1200:AB$2008,MIN(IF(COUNTIF(AC$2:AC1199,AB1200:AB$2008),ROW(AB$2008)-ROW()+1,ROW(AB1200:AB$2008)-ROW()+1))))","v":0},0]
[null,null,null,null,null,null,null,null,null,null,null,null,null,null,null,null,null,null,null,null,null,null,null,null,null,null,null,{"$f":"HISTO!P1200","v":0},{"$f":"IF(AC1200=\"\",\"Zonard\",INDEX(AB1201:AB$2008,MIN(IF(COUNTIF(AC$2:AC1200,AB1201:AB$2008),ROW(AB$2008)-ROW()+1,ROW(AB1201:AB$2008)-ROW()+1))))","v":0},0]
[null,null,null,null,null,null,null,null,null,null,null,null,null,null,null,null,null,null,null,null,null,null,null,null,null,null,null,{"$f":"HISTO!P1201","v":0},{"$f":"IF(AC1201=\"\",\"Zonard\",INDEX(AB1202:AB$2008,MIN(IF(COUNTIF(AC$2:AC1201,AB1202:AB$2008),ROW(AB$2008)-ROW()+1,ROW(AB1202:AB$2008)-ROW()+1))))","v":0},0]
[null,null,null,null,null,null,null,null,null,null,null,null,null,null,null,null,null,null,null,null,null,null,null,null,null,null,null,{"$f":"HISTO!P1202","v":0},{"$f":"IF(AC1202=\"\",\"Zonard\",INDEX(AB1203:AB$2008,MIN(IF(COUNTIF(AC$2:AC1202,AB1203:AB$2008),ROW(AB$2008)-ROW()+1,ROW(AB1203:AB$2008)-ROW()+1))))","v":0},0]
[null,null,null,null,null,null,null,null,null,null,null,null,null,null,null,null,null,null,null,null,null,null,null,null,null,null,null,{"$f":"HISTO!P1203","v":0},{"$f":"IF(AC1203=\"\",\"Zonard\",INDEX(AB1204:AB$2008,MIN(IF(COUNTIF(AC$2:AC1203,AB1204:AB$2008),ROW(AB$2008)-ROW()+1,ROW(AB1204:AB$2008)-ROW()+1))))","v":0},0]
[null,null,null,null,null,null,null,null,null,null,null,null,null,null,null,null,null,null,null,null,null,null,null,null,null,null,null,{"$f":"HISTO!P1204","v":0},{"$f":"IF(AC1204=\"\",\"Zonard\",INDEX(AB1205:AB$2008,MIN(IF(COUNTIF(AC$2:AC1204,AB1205:AB$2008),ROW(AB$2008)-ROW()+1,ROW(AB1205:AB$2008)-ROW()+1))))","v":0},0]
[null,null,null,null,null,null,null,null,null,null,null,null,null,null,null,null,null,null,null,null,null,null,null,null,null,null,null,{"$f":"HISTO!P1205","v":0},{"$f":"IF(AC1205=\"\",\"Zonard\",INDEX(AB1206:AB$2008,MIN(IF(COUNTIF(AC$2:AC1205,AB1206:AB$2008),ROW(AB$2008)-ROW()+1,ROW(AB1206:AB$2008)-ROW()+1))))","v":0},0]
[null,null,null,null,null,null,null,null,null,null,null,null,null,null,null,null,null,null,null,null,null,null,null,null,null,null,null,{"$f":"HISTO!P1206","v":0},{"$f":"IF(AC1206=\"\",\"Zonard\",INDEX(AB1207:AB$2008,MIN(IF(COUNTIF(AC$2:AC1206,AB1207:AB$2008),ROW(AB$2008)-ROW()+1,ROW(AB1207:AB$2008)-ROW()+1))))","v":0},0]
[null,null,null,null,null,null,null,null,null,null,null,null,null,null,null,null,null,null,null,null,null,null,null,null,null,null,null,{"$f":"HISTO!P1207","v":0},{"$f":"IF(AC1207=\"\",\"Zonard\",INDEX(AB1208:AB$2008,MIN(IF(COUNTIF(AC$2:AC1207,AB1208:AB$2008),ROW(AB$2008)-ROW()+1,ROW(AB1208:AB$2008)-ROW()+1))))","v":0},0]
[null,null,null,null,null,null,null,null,null,null,null,null,null,null,null,null,null,null,null,null,null,null,null,null,null,null,null,{"$f":"HISTO!P1208","v":0},{"$f":"IF(AC1208=\"\",\"Zonard\",INDEX(AB1209:AB$2008,MIN(IF(COUNTIF(AC$2:AC1208,AB1209:AB$2008),ROW(AB$2008)-ROW()+1,ROW(AB1209:AB$2008)-ROW()+1))))","v":0},0]
[null,null,null,null,null,null,null,null,null,null,null,null,null,null,null,null,null,null,null,null,null,null,null,null,null,null,null,{"$f":"HISTO!P1209","v":0},{"$f":"IF(AC1209=\"\",\"Zonard\",INDEX(AB1210:AB$2008,MIN(IF(COUNTIF(AC$2:AC1209,AB1210:AB$2008),ROW(AB$2008)-ROW()+1,ROW(AB1210:AB$2008)-ROW()+1))))","v":0},0]
[null,null,null,null,null,null,null,null,null,null,null,null,null,null,null,null,null,null,null,null,null,null,null,null,null,null,null,{"$f":"HISTO!P1210","v":0},{"$f":"IF(AC1210=\"\",\"Zonard\",INDEX(AB1211:AB$2008,MIN(IF(COUNTIF(AC$2:AC1210,AB1211:AB$2008),ROW(AB$2008)-ROW()+1,ROW(AB1211:AB$2008)-ROW()+1))))","v":0},0]
[null,null,null,null,null,null,null,null,null,null,null,null,null,null,null,null,null,null,null,null,null,null,null,null,null,null,null,{"$f":"HISTO!P1211","v":0},{"$f":"IF(AC1211=\"\",\"Zonard\",INDEX(AB1212:AB$2008,MIN(IF(COUNTIF(AC$2:AC1211,AB1212:AB$2008),ROW(AB$2008)-ROW()+1,ROW(AB1212:AB$2008)-ROW()+1))))","v":0},0]
[null,null,null,null,null,null,null,null,null,null,null,null,null,null,null,null,null,null,null,null,null,null,null,null,null,null,null,{"$f":"HISTO!P1212","v":0},{"$f":"IF(AC1212=\"\",\"Zonard\",INDEX(AB1213:AB$2008,MIN(IF(COUNTIF(AC$2:AC1212,AB1213:AB$2008),ROW(AB$2008)-ROW()+1,ROW(AB1213:AB$2008)-ROW()+1))))","v":0},0]
[null,null,null,null,null,null,null,null,null,null,null,null,null,null,null,null,null,null,null,null,null,null,null,null,null,null,null,{"$f":"HISTO!P1213","v":0},{"$f":"IF(AC1213=\"\",\"Zonard\",INDEX(AB1214:AB$2008,MIN(IF(COUNTIF(AC$2:AC1213,AB1214:AB$2008),ROW(AB$2008)-ROW()+1,ROW(AB1214:AB$2008)-ROW()+1))))","v":0},0]
[null,null,null,null,null,null,null,null,null,null,null,null,null,null,null,null,null,null,null,null,null,null,null,null,null,null,null,{"$f":"HISTO!P1214","v":0},{"$f":"IF(AC1214=\"\",\"Zonard\",INDEX(AB1215:AB$2008,MIN(IF(COUNTIF(AC$2:AC1214,AB1215:AB$2008),ROW(AB$2008)-ROW()+1,ROW(AB1215:AB$2008)-ROW()+1))))","v":0},0]
[null,null,null,null,null,null,null,null,null,null,null,null,null,null,null,null,null,null,null,null,null,null,null,null,null,null,null,{"$f":"HISTO!P1215","v":0},{"$f":"IF(AC1215=\"\",\"Zonard\",INDEX(AB1216:AB$2008,MIN(IF(COUNTIF(AC$2:AC1215,AB1216:AB$2008),ROW(AB$2008)-ROW()+1,ROW(AB1216:AB$2008)-ROW()+1))))","v":0},0]
[null,null,null,null,null,null,null,null,null,null,null,null,null,null,null,null,null,null,null,null,null,null,null,null,null,null,null,{"$f":"HISTO!P1216","v":0},{"$f":"IF(AC1216=\"\",\"Zonard\",INDEX(AB1217:AB$2008,MIN(IF(COUNTIF(AC$2:AC1216,AB1217:AB$2008),ROW(AB$2008)-ROW()+1,ROW(AB1217:AB$2008)-ROW()+1))))","v":0},0]
[null,null,null,null,null,null,null,null,null,null,null,null,null,null,null,null,null,null,null,null,null,null,null,null,null,null,null,{"$f":"HISTO!P1217","v":0},{"$f":"IF(AC1217=\"\",\"Zonard\",INDEX(AB1218:AB$2008,MIN(IF(COUNTIF(AC$2:AC1217,AB1218:AB$2008),ROW(AB$2008)-ROW()+1,ROW(AB1218:AB$2008)-ROW()+1))))","v":0},0]
[null,null,null,null,null,null,null,null,null,null,null,null,null,null,null,null,null,null,null,null,null,null,null,null,null,null,null,{"$f":"HISTO!P1218","v":0},{"$f":"IF(AC1218=\"\",\"Zonard\",INDEX(AB1219:AB$2008,MIN(IF(COUNTIF(AC$2:AC1218,AB1219:AB$2008),ROW(AB$2008)-ROW()+1,ROW(AB1219:AB$2008)-ROW()+1))))","v":0},0]
[null,null,null,null,null,null,null,null,null,null,null,null,null,null,null,null,null,null,null,null,null,null,null,null,null,null,null,{"$f":"HISTO!P1219","v":0},{"$f":"IF(AC1219=\"\",\"Zonard\",INDEX(AB1220:AB$2008,MIN(IF(COUNTIF(AC$2:AC1219,AB1220:AB$2008),ROW(AB$2008)-ROW()+1,ROW(AB1220:AB$2008)-ROW()+1))))","v":0},0]
[null,null,null,null,null,null,null,null,null,null,null,null,null,null,null,null,null,null,null,null,null,null,null,null,null,null,null,{"$f":"HISTO!P1220","v":0},{"$f":"IF(AC1220=\"\",\"Zonard\",INDEX(AB1221:AB$2008,MIN(IF(COUNTIF(AC$2:AC1220,AB1221:AB$2008),ROW(AB$2008)-ROW()+1,ROW(AB1221:AB$2008)-ROW()+1))))","v":0},0]
[null,null,null,null,null,null,null,null,null,null,null,null,null,null,null,null,null,null,null,null,null,null,null,null,null,null,null,{"$f":"HISTO!P1221","v":0},{"$f":"IF(AC1221=\"\",\"Zonard\",INDEX(AB1222:AB$2008,MIN(IF(COUNTIF(AC$2:AC1221,AB1222:AB$2008),ROW(AB$2008)-ROW()+1,ROW(AB1222:AB$2008)-ROW()+1))))","v":0},0]
[null,null,null,null,null,null,null,null,null,null,null,null,null,null,null,null,null,null,null,null,null,null,null,null,null,null,null,{"$f":"HISTO!P1222","v":0},{"$f":"IF(AC1222=\"\",\"Zonard\",INDEX(AB1223:AB$2008,MIN(IF(COUNTIF(AC$2:AC1222,AB1223:AB$2008),ROW(AB$2008)-ROW()+1,ROW(AB1223:AB$2008)-ROW()+1))))","v":0},0]
[null,null,null,null,null,null,null,null,null,null,null,null,null,null,null,null,null,null,null,null,null,null,null,null,null,null,null,{"$f":"HISTO!P1223","v":0},{"$f":"IF(AC1223=\"\",\"Zonard\",INDEX(AB1224:AB$2008,MIN(IF(COUNTIF(AC$2:AC1223,AB1224:AB$2008),ROW(AB$2008)-ROW()+1,ROW(AB1224:AB$2008)-ROW()+1))))","v":0},0]
[null,null,null,null,null,null,null,null,null,null,null,null,null,null,null,null,null,null,null,null,null,null,null,null,null,null,null,{"$f":"HISTO!P1224","v":0},{"$f":"IF(AC1224=\"\",\"Zonard\",INDEX(AB1225:AB$2008,MIN(IF(COUNTIF(AC$2:AC1224,AB1225:AB$2008),ROW(AB$2008)-ROW()+1,ROW(AB1225:AB$2008)-ROW()+1))))","v":0},0]
[null,null,null,null,null,null,null,null,null,null,null,null,null,null,null,null,null,null,null,null,null,null,null,null,null,null,null,{"$f":"HISTO!P1225","v":0},{"$f":"IF(AC1225=\"\",\"Zonard\",INDEX(AB1226:AB$2008,MIN(IF(COUNTIF(AC$2:AC1225,AB1226:AB$2008),ROW(AB$2008)-ROW()+1,ROW(AB1226:AB$2008)-ROW()+1))))","v":0},0]
[null,null,null,null,null,null,null,null,null,null,null,null,null,null,null,null,null,null,null,null,null,null,null,null,null,null,null,{"$f":"HISTO!P1226","v":0},{"$f":"IF(AC1226=\"\",\"Zonard\",INDEX(AB1227:AB$2008,MIN(IF(COUNTIF(AC$2:AC1226,AB1227:AB$2008),ROW(AB$2008)-ROW()+1,ROW(AB1227:AB$2008)-ROW()+1))))","v":0},0]
[null,null,null,null,null,null,null,null,null,null,null,null,null,null,null,null,null,null,null,null,null,null,null,null,null,null,null,{"$f":"HISTO!P1227","v":0},{"$f":"IF(AC1227=\"\",\"Zonard\",INDEX(AB1228:AB$2008,MIN(IF(COUNTIF(AC$2:AC1227,AB1228:AB$2008),ROW(AB$2008)-ROW()+1,ROW(AB1228:AB$2008)-ROW()+1))))","v":0},0]
[null,null,null,null,null,null,null,null,null,null,null,null,null,null,null,null,null,null,null,null,null,null,null,null,null,null,null,{"$f":"HISTO!P1228","v":0},{"$f":"IF(AC1228=\"\",\"Zonard\",INDEX(AB1229:AB$2008,MIN(IF(COUNTIF(AC$2:AC1228,AB1229:AB$2008),ROW(AB$2008)-ROW()+1,ROW(AB1229:AB$2008)-ROW()+1))))","v":0},0]
[null,null,null,null,null,null,null,null,null,null,null,null,null,null,null,null,null,null,null,null,null,null,null,null,null,null,null,{"$f":"HISTO!P1229","v":0},{"$f":"IF(AC1229=\"\",\"Zonard\",INDEX(AB1230:AB$2008,MIN(IF(COUNTIF(AC$2:AC1229,AB1230:AB$2008),ROW(AB$2008)-ROW()+1,ROW(AB1230:AB$2008)-ROW()+1))))","v":0},0]
[null,null,null,null,null,null,null,null,null,null,null,null,null,null,null,null,null,null,null,null,null,null,null,null,null,null,null,{"$f":"HISTO!P1230","v":0},{"$f":"IF(AC1230=\"\",\"Zonard\",INDEX(AB1231:AB$2008,MIN(IF(COUNTIF(AC$2:AC1230,AB1231:AB$2008),ROW(AB$2008)-ROW()+1,ROW(AB1231:AB$2008)-ROW()+1))))","v":0},0]
[null,null,null,null,null,null,null,null,null,null,null,null,null,null,null,null,null,null,null,null,null,null,null,null,null,null,null,{"$f":"HISTO!P1231","v":0},{"$f":"IF(AC1231=\"\",\"Zonard\",INDEX(AB1232:AB$2008,MIN(IF(COUNTIF(AC$2:AC1231,AB1232:AB$2008),ROW(AB$2008)-ROW()+1,ROW(AB1232:AB$2008)-ROW()+1))))","v":0},0]
[null,null,null,null,null,null,null,null,null,null,null,null,null,null,null,null,null,null,null,null,null,null,null,null,null,null,null,{"$f":"HISTO!P1232","v":0},{"$f":"IF(AC1232=\"\",\"Zonard\",INDEX(AB1233:AB$2008,MIN(IF(COUNTIF(AC$2:AC1232,AB1233:AB$2008),ROW(AB$2008)-ROW()+1,ROW(AB1233:AB$2008)-ROW()+1))))","v":0},0]
[null,null,null,null,null,null,null,null,null,null,null,null,null,null,null,null,null,null,null,null,null,null,null,null,null,null,null,{"$f":"HISTO!P1233","v":0},{"$f":"IF(AC1233=\"\",\"Zonard\",INDEX(AB1234:AB$2008,MIN(IF(COUNTIF(AC$2:AC1233,AB1234:AB$2008),ROW(AB$2008)-ROW()+1,ROW(AB1234:AB$2008)-ROW()+1))))","v":0},0]
[null,null,null,null,null,null,null,null,null,null,null,null,null,null,null,null,null,null,null,null,null,null,null,null,null,null,null,{"$f":"HISTO!P1234","v":0},{"$f":"IF(AC1234=\"\",\"Zonard\",INDEX(AB1235:AB$2008,MIN(IF(COUNTIF(AC$2:AC1234,AB1235:AB$2008),ROW(AB$2008)-ROW()+1,ROW(AB1235:AB$2008)-ROW()+1))))","v":0},0]
[null,null,null,null,null,null,null,null,null,null,null,null,null,null,null,null,null,null,null,null,null,null,null,null,null,null,null,{"$f":"HISTO!P1235","v":0},{"$f":"IF(AC1235=\"\",\"Zonard\",INDEX(AB1236:AB$2008,MIN(IF(COUNTIF(AC$2:AC1235,AB1236:AB$2008),ROW(AB$2008)-ROW()+1,ROW(AB1236:AB$2008)-ROW()+1))))","v":0},0]
[null,null,null,null,null,null,null,null,null,null,null,null,null,null,null,null,null,null,null,null,null,null,null,null,null,null,null,{"$f":"HISTO!P1236","v":0},{"$f":"IF(AC1236=\"\",\"Zonard\",INDEX(AB1237:AB$2008,MIN(IF(COUNTIF(AC$2:AC1236,AB1237:AB$2008),ROW(AB$2008)-ROW()+1,ROW(AB1237:AB$2008)-ROW()+1))))","v":0},0]
[null,null,null,null,null,null,null,null,null,null,null,null,null,null,null,null,null,null,null,null,null,null,null,null,null,null,null,{"$f":"HISTO!P1237","v":0},{"$f":"IF(AC1237=\"\",\"Zonard\",INDEX(AB1238:AB$2008,MIN(IF(COUNTIF(AC$2:AC1237,AB1238:AB$2008),ROW(AB$2008)-ROW()+1,ROW(AB1238:AB$2008)-ROW()+1))))","v":0},0]
[null,null,null,null,null,null,null,null,null,null,null,null,null,null,null,null,null,null,null,null,null,null,null,null,null,null,null,{"$f":"HISTO!P1238","v":0},{"$f":"IF(AC1238=\"\",\"Zonard\",INDEX(AB1239:AB$2008,MIN(IF(COUNTIF(AC$2:AC1238,AB1239:AB$2008),ROW(AB$2008)-ROW()+1,ROW(AB1239:AB$2008)-ROW()+1))))","v":0},0]
[null,null,null,null,null,null,null,null,null,null,null,null,null,null,null,null,null,null,null,null,null,null,null,null,null,null,null,{"$f":"HISTO!P1239","v":0},{"$f":"IF(AC1239=\"\",\"Zonard\",INDEX(AB1240:AB$2008,MIN(IF(COUNTIF(AC$2:AC1239,AB1240:AB$2008),ROW(AB$2008)-ROW()+1,ROW(AB1240:AB$2008)-ROW()+1))))","v":0},0]
[null,null,null,null,null,null,null,null,null,null,null,null,null,null,null,null,null,null,null,null,null,null,null,null,null,null,null,{"$f":"HISTO!P1240","v":0},{"$f":"IF(AC1240=\"\",\"Zonard\",INDEX(AB1241:AB$2008,MIN(IF(COUNTIF(AC$2:AC1240,AB1241:AB$2008),ROW(AB$2008)-ROW()+1,ROW(AB1241:AB$2008)-ROW()+1))))","v":0},0]
[null,null,null,null,null,null,null,null,null,null,null,null,null,null,null,null,null,null,null,null,null,null,null,null,null,null,null,{"$f":"HISTO!P1241","v":0},{"$f":"IF(AC1241=\"\",\"Zonard\",INDEX(AB1242:AB$2008,MIN(IF(COUNTIF(AC$2:AC1241,AB1242:AB$2008),ROW(AB$2008)-ROW()+1,ROW(AB1242:AB$2008)-ROW()+1))))","v":0},0]
[null,null,null,null,null,null,null,null,null,null,null,null,null,null,null,null,null,null,null,null,null,null,null,null,null,null,null,{"$f":"HISTO!P1242","v":0},{"$f":"IF(AC1242=\"\",\"Zonard\",INDEX(AB1243:AB$2008,MIN(IF(COUNTIF(AC$2:AC1242,AB1243:AB$2008),ROW(AB$2008)-ROW()+1,ROW(AB1243:AB$2008)-ROW()+1))))","v":0},0]
[null,null,null,null,null,null,null,null,null,null,null,null,null,null,null,null,null,null,null,null,null,null,null,null,null,null,null,{"$f":"HISTO!P1243","v":0},{"$f":"IF(AC1243=\"\",\"Zonard\",INDEX(AB1244:AB$2008,MIN(IF(COUNTIF(AC$2:AC1243,AB1244:AB$2008),ROW(AB$2008)-ROW()+1,ROW(AB1244:AB$2008)-ROW()+1))))","v":0},0]
[null,null,null,null,null,null,null,null,null,null,null,null,null,null,null,null,null,null,null,null,null,null,null,null,null,null,null,{"$f":"HISTO!P1244","v":0},{"$f":"IF(AC1244=\"\",\"Zonard\",INDEX(AB1245:AB$2008,MIN(IF(COUNTIF(AC$2:AC1244,AB1245:AB$2008),ROW(AB$2008)-ROW()+1,ROW(AB1245:AB$2008)-ROW()+1))))","v":0},0]
[null,null,null,null,null,null,null,null,null,null,null,null,null,null,null,null,null,null,null,null,null,null,null,null,null,null,null,{"$f":"HISTO!P1245","v":0},{"$f":"IF(AC1245=\"\",\"Zonard\",INDEX(AB1246:AB$2008,MIN(IF(COUNTIF(AC$2:AC1245,AB1246:AB$2008),ROW(AB$2008)-ROW()+1,ROW(AB1246:AB$2008)-ROW()+1))))","v":0},0]
[null,null,null,null,null,null,null,null,null,null,null,null,null,null,null,null,null,null,null,null,null,null,null,null,null,null,null,{"$f":"HISTO!P1246","v":0},{"$f":"IF(AC1246=\"\",\"Zonard\",INDEX(AB1247:AB$2008,MIN(IF(COUNTIF(AC$2:AC1246,AB1247:AB$2008),ROW(AB$2008)-ROW()+1,ROW(AB1247:AB$2008)-ROW()+1))))","v":0},0]
[null,null,null,null,null,null,null,null,null,null,null,null,null,null,null,null,null,null,null,null,null,null,null,null,null,null,null,{"$f":"HISTO!P1247","v":0},{"$f":"IF(AC1247=\"\",\"Zonard\",INDEX(AB1248:AB$2008,MIN(IF(COUNTIF(AC$2:AC1247,AB1248:AB$2008),ROW(AB$2008)-ROW()+1,ROW(AB1248:AB$2008)-ROW()+1))))","v":0},0]
[null,null,null,null,null,null,null,null,null,null,null,null,null,null,null,null,null,null,null,null,null,null,null,null,null,null,null,{"$f":"HISTO!P1248","v":0},{"$f":"IF(AC1248=\"\",\"Zonard\",INDEX(AB1249:AB$2008,MIN(IF(COUNTIF(AC$2:AC1248,AB1249:AB$2008),ROW(AB$2008)-ROW()+1,ROW(AB1249:AB$2008)-ROW()+1))))","v":0},0]
[null,null,null,null,null,null,null,null,null,null,null,null,null,null,null,null,null,null,null,null,null,null,null,null,null,null,null,{"$f":"HISTO!P1249","v":0},{"$f":"IF(AC1249=\"\",\"Zonard\",INDEX(AB1250:AB$2008,MIN(IF(COUNTIF(AC$2:AC1249,AB1250:AB$2008),ROW(AB$2008)-ROW()+1,ROW(AB1250:AB$2008)-ROW()+1))))","v":0},0]
[null,null,null,null,null,null,null,null,null,null,null,null,null,null,null,null,null,null,null,null,null,null,null,null,null,null,null,{"$f":"HISTO!P1250","v":0},{"$f":"IF(AC1250=\"\",\"Zonard\",INDEX(AB1251:AB$2008,MIN(IF(COUNTIF(AC$2:AC1250,AB1251:AB$2008),ROW(AB$2008)-ROW()+1,ROW(AB1251:AB$2008)-ROW()+1))))","v":0},0]
[null,null,null,null,null,null,null,null,null,null,null,null,null,null,null,null,null,null,null,null,null,null,null,null,null,null,null,{"$f":"HISTO!P1251","v":0},{"$f":"IF(AC1251=\"\",\"Zonard\",INDEX(AB1252:AB$2008,MIN(IF(COUNTIF(AC$2:AC1251,AB1252:AB$2008),ROW(AB$2008)-ROW()+1,ROW(AB1252:AB$2008)-ROW()+1))))","v":0},0]
[null,null,null,null,null,null,null,null,null,null,null,null,null,null,null,null,null,null,null,null,null,null,null,null,null,null,null,{"$f":"HISTO!P1252","v":0},{"$f":"IF(AC1252=\"\",\"Zonard\",INDEX(AB1253:AB$2008,MIN(IF(COUNTIF(AC$2:AC1252,AB1253:AB$2008),ROW(AB$2008)-ROW()+1,ROW(AB1253:AB$2008)-ROW()+1))))","v":0},0]
[null,null,null,null,null,null,null,null,null,null,null,null,null,null,null,null,null,null,null,null,null,null,null,null,null,null,null,{"$f":"HISTO!P1253","v":0},{"$f":"IF(AC1253=\"\",\"Zonard\",INDEX(AB1254:AB$2008,MIN(IF(COUNTIF(AC$2:AC1253,AB1254:AB$2008),ROW(AB$2008)-ROW()+1,ROW(AB1254:AB$2008)-ROW()+1))))","v":0},0]
[null,null,null,null,null,null,null,null,null,null,null,null,null,null,null,null,null,null,null,null,null,null,null,null,null,null,null,{"$f":"HISTO!P1254","v":0},{"$f":"IF(AC1254=\"\",\"Zonard\",INDEX(AB1255:AB$2008,MIN(IF(COUNTIF(AC$2:AC1254,AB1255:AB$2008),ROW(AB$2008)-ROW()+1,ROW(AB1255:AB$2008)-ROW()+1))))","v":0},0]
[null,null,null,null,null,null,null,null,null,null,null,null,null,null,null,null,null,null,null,null,null,null,null,null,null,null,null,{"$f":"HISTO!P1255","v":0},{"$f":"IF(AC1255=\"\",\"Zonard\",INDEX(AB1256:AB$2008,MIN(IF(COUNTIF(AC$2:AC1255,AB1256:AB$2008),ROW(AB$2008)-ROW()+1,ROW(AB1256:AB$2008)-ROW()+1))))","v":0},0]
[null,null,null,null,null,null,null,null,null,null,null,null,null,null,null,null,null,null,null,null,null,null,null,null,null,null,null,{"$f":"HISTO!P1256","v":0},{"$f":"IF(AC1256=\"\",\"Zonard\",INDEX(AB1257:AB$2008,MIN(IF(COUNTIF(AC$2:AC1256,AB1257:AB$2008),ROW(AB$2008)-ROW()+1,ROW(AB1257:AB$2008)-ROW()+1))))","v":0},0]
[null,null,null,null,null,null,null,null,null,null,null,null,null,null,null,null,null,null,null,null,null,null,null,null,null,null,null,{"$f":"HISTO!P1257","v":0},{"$f":"IF(AC1257=\"\",\"Zonard\",INDEX(AB1258:AB$2008,MIN(IF(COUNTIF(AC$2:AC1257,AB1258:AB$2008),ROW(AB$2008)-ROW()+1,ROW(AB1258:AB$2008)-ROW()+1))))","v":0},0]
[null,null,null,null,null,null,null,null,null,null,null,null,null,null,null,null,null,null,null,null,null,null,null,null,null,null,null,{"$f":"HISTO!P1258","v":0},{"$f":"IF(AC1258=\"\",\"Zonard\",INDEX(AB1259:AB$2008,MIN(IF(COUNTIF(AC$2:AC1258,AB1259:AB$2008),ROW(AB$2008)-ROW()+1,ROW(AB1259:AB$2008)-ROW()+1))))","v":0},0]
[null,null,null,null,null,null,null,null,null,null,null,null,null,null,null,null,null,null,null,null,null,null,null,null,null,null,null,{"$f":"HISTO!P1259","v":0},{"$f":"IF(AC1259=\"\",\"Zonard\",INDEX(AB1260:AB$2008,MIN(IF(COUNTIF(AC$2:AC1259,AB1260:AB$2008),ROW(AB$2008)-ROW()+1,ROW(AB1260:AB$2008)-ROW()+1))))","v":0},0]
[null,null,null,null,null,null,null,null,null,null,null,null,null,null,null,null,null,null,null,null,null,null,null,null,null,null,null,{"$f":"HISTO!P1260","v":0},{"$f":"IF(AC1260=\"\",\"Zonard\",INDEX(AB1261:AB$2008,MIN(IF(COUNTIF(AC$2:AC1260,AB1261:AB$2008),ROW(AB$2008)-ROW()+1,ROW(AB1261:AB$2008)-ROW()+1))))","v":0},0]
[null,null,null,null,null,null,null,null,null,null,null,null,null,null,null,null,null,null,null,null,null,null,null,null,null,null,null,{"$f":"HISTO!P1261","v":0},{"$f":"IF(AC1261=\"\",\"Zonard\",INDEX(AB1262:AB$2008,MIN(IF(COUNTIF(AC$2:AC1261,AB1262:AB$2008),ROW(AB$2008)-ROW()+1,ROW(AB1262:AB$2008)-ROW()+1))))","v":0},0]
[null,null,null,null,null,null,null,null,null,null,null,null,null,null,null,null,null,null,null,null,null,null,null,null,null,null,null,{"$f":"HISTO!P1262","v":0},{"$f":"IF(AC1262=\"\",\"Zonard\",INDEX(AB1263:AB$2008,MIN(IF(COUNTIF(AC$2:AC1262,AB1263:AB$2008),ROW(AB$2008)-ROW()+1,ROW(AB1263:AB$2008)-ROW()+1))))","v":0},0]
[null,null,null,null,null,null,null,null,null,null,null,null,null,null,null,null,null,null,null,null,null,null,null,null,null,null,null,{"$f":"HISTO!P1263","v":0},{"$f":"IF(AC1263=\"\",\"Zonard\",INDEX(AB1264:AB$2008,MIN(IF(COUNTIF(AC$2:AC1263,AB1264:AB$2008),ROW(AB$2008)-ROW()+1,ROW(AB1264:AB$2008)-ROW()+1))))","v":0},0]
[null,null,null,null,null,null,null,null,null,null,null,null,null,null,null,null,null,null,null,null,null,null,null,null,null,null,null,{"$f":"HISTO!P1264","v":0},{"$f":"IF(AC1264=\"\",\"Zonard\",INDEX(AB1265:AB$2008,MIN(IF(COUNTIF(AC$2:AC1264,AB1265:AB$2008),ROW(AB$2008)-ROW()+1,ROW(AB1265:AB$2008)-ROW()+1))))","v":0},0]
[null,null,null,null,null,null,null,null,null,null,null,null,null,null,null,null,null,null,null,null,null,null,null,null,null,null,null,{"$f":"HISTO!P1265","v":0},{"$f":"IF(AC1265=\"\",\"Zonard\",INDEX(AB1266:AB$2008,MIN(IF(COUNTIF(AC$2:AC1265,AB1266:AB$2008),ROW(AB$2008)-ROW()+1,ROW(AB1266:AB$2008)-ROW()+1))))","v":0},0]
[null,null,null,null,null,null,null,null,null,null,null,null,null,null,null,null,null,null,null,null,null,null,null,null,null,null,null,{"$f":"HISTO!P1266","v":0},{"$f":"IF(AC1266=\"\",\"Zonard\",INDEX(AB1267:AB$2008,MIN(IF(COUNTIF(AC$2:AC1266,AB1267:AB$2008),ROW(AB$2008)-ROW()+1,ROW(AB1267:AB$2008)-ROW()+1))))","v":0},0]
[null,null,null,null,null,null,null,null,null,null,null,null,null,null,null,null,null,null,null,null,null,null,null,null,null,null,null,{"$f":"HISTO!P1267","v":0},{"$f":"IF(AC1267=\"\",\"Zonard\",INDEX(AB1268:AB$2008,MIN(IF(COUNTIF(AC$2:AC1267,AB1268:AB$2008),ROW(AB$2008)-ROW()+1,ROW(AB1268:AB$2008)-ROW()+1))))","v":0},0]
[null,null,null,null,null,null,null,null,null,null,null,null,null,null,null,null,null,null,null,null,null,null,null,null,null,null,null,{"$f":"HISTO!P1268","v":0},{"$f":"IF(AC1268=\"\",\"Zonard\",INDEX(AB1269:AB$2008,MIN(IF(COUNTIF(AC$2:AC1268,AB1269:AB$2008),ROW(AB$2008)-ROW()+1,ROW(AB1269:AB$2008)-ROW()+1))))","v":0},0]
[null,null,null,null,null,null,null,null,null,null,null,null,null,null,null,null,null,null,null,null,null,null,null,null,null,null,null,{"$f":"HISTO!P1269","v":0},{"$f":"IF(AC1269=\"\",\"Zonard\",INDEX(AB1270:AB$2008,MIN(IF(COUNTIF(AC$2:AC1269,AB1270:AB$2008),ROW(AB$2008)-ROW()+1,ROW(AB1270:AB$2008)-ROW()+1))))","v":0},0]
[null,null,null,null,null,null,null,null,null,null,null,null,null,null,null,null,null,null,null,null,null,null,null,null,null,null,null,{"$f":"HISTO!P1270","v":0},{"$f":"IF(AC1270=\"\",\"Zonard\",INDEX(AB1271:AB$2008,MIN(IF(COUNTIF(AC$2:AC1270,AB1271:AB$2008),ROW(AB$2008)-ROW()+1,ROW(AB1271:AB$2008)-ROW()+1))))","v":0},0]
[null,null,null,null,null,null,null,null,null,null,null,null,null,null,null,null,null,null,null,null,null,null,null,null,null,null,null,{"$f":"HISTO!P1271","v":0},{"$f":"IF(AC1271=\"\",\"Zonard\",INDEX(AB1272:AB$2008,MIN(IF(COUNTIF(AC$2:AC1271,AB1272:AB$2008),ROW(AB$2008)-ROW()+1,ROW(AB1272:AB$2008)-ROW()+1))))","v":0},0]
[null,null,null,null,null,null,null,null,null,null,null,null,null,null,null,null,null,null,null,null,null,null,null,null,null,null,null,{"$f":"HISTO!P1272","v":0},{"$f":"IF(AC1272=\"\",\"Zonard\",INDEX(AB1273:AB$2008,MIN(IF(COUNTIF(AC$2:AC1272,AB1273:AB$2008),ROW(AB$2008)-ROW()+1,ROW(AB1273:AB$2008)-ROW()+1))))","v":0},0]
[null,null,null,null,null,null,null,null,null,null,null,null,null,null,null,null,null,null,null,null,null,null,null,null,null,null,null,{"$f":"HISTO!P1273","v":0},{"$f":"IF(AC1273=\"\",\"Zonard\",INDEX(AB1274:AB$2008,MIN(IF(COUNTIF(AC$2:AC1273,AB1274:AB$2008),ROW(AB$2008)-ROW()+1,ROW(AB1274:AB$2008)-ROW()+1))))","v":0},0]
[null,null,null,null,null,null,null,null,null,null,null,null,null,null,null,null,null,null,null,null,null,null,null,null,null,null,null,{"$f":"HISTO!P1274","v":0},{"$f":"IF(AC1274=\"\",\"Zonard\",INDEX(AB1275:AB$2008,MIN(IF(COUNTIF(AC$2:AC1274,AB1275:AB$2008),ROW(AB$2008)-ROW()+1,ROW(AB1275:AB$2008)-ROW()+1))))","v":0},0]
[null,null,null,null,null,null,null,null,null,null,null,null,null,null,null,null,null,null,null,null,null,null,null,null,null,null,null,{"$f":"HISTO!P1275","v":0},{"$f":"IF(AC1275=\"\",\"Zonard\",INDEX(AB1276:AB$2008,MIN(IF(COUNTIF(AC$2:AC1275,AB1276:AB$2008),ROW(AB$2008)-ROW()+1,ROW(AB1276:AB$2008)-ROW()+1))))","v":0},0]
[null,null,null,null,null,null,null,null,null,null,null,null,null,null,null,null,null,null,null,null,null,null,null,null,null,null,null,{"$f":"HISTO!P1276","v":0},{"$f":"IF(AC1276=\"\",\"Zonard\",INDEX(AB1277:AB$2008,MIN(IF(COUNTIF(AC$2:AC1276,AB1277:AB$2008),ROW(AB$2008)-ROW()+1,ROW(AB1277:AB$2008)-ROW()+1))))","v":0},0]
[null,null,null,null,null,null,null,null,null,null,null,null,null,null,null,null,null,null,null,null,null,null,null,null,null,null,null,{"$f":"HISTO!P1277","v":0},{"$f":"IF(AC1277=\"\",\"Zonard\",INDEX(AB1278:AB$2008,MIN(IF(COUNTIF(AC$2:AC1277,AB1278:AB$2008),ROW(AB$2008)-ROW()+1,ROW(AB1278:AB$2008)-ROW()+1))))","v":0},0]
[null,null,null,null,null,null,null,null,null,null,null,null,null,null,null,null,null,null,null,null,null,null,null,null,null,null,null,{"$f":"HISTO!P1278","v":0},{"$f":"IF(AC1278=\"\",\"Zonard\",INDEX(AB1279:AB$2008,MIN(IF(COUNTIF(AC$2:AC1278,AB1279:AB$2008),ROW(AB$2008)-ROW()+1,ROW(AB1279:AB$2008)-ROW()+1))))","v":0},0]
[null,null,null,null,null,null,null,null,null,null,null,null,null,null,null,null,null,null,null,null,null,null,null,null,null,null,null,{"$f":"HISTO!P1279","v":0},{"$f":"IF(AC1279=\"\",\"Zonard\",INDEX(AB1280:AB$2008,MIN(IF(COUNTIF(AC$2:AC1279,AB1280:AB$2008),ROW(AB$2008)-ROW()+1,ROW(AB1280:AB$2008)-ROW()+1))))","v":0},0]
[null,null,null,null,null,null,null,null,null,null,null,null,null,null,null,null,null,null,null,null,null,null,null,null,null,null,null,{"$f":"HISTO!P1280","v":0},{"$f":"IF(AC1280=\"\",\"Zonard\",INDEX(AB1281:AB$2008,MIN(IF(COUNTIF(AC$2:AC1280,AB1281:AB$2008),ROW(AB$2008)-ROW()+1,ROW(AB1281:AB$2008)-ROW()+1))))","v":0},0]
[null,null,null,null,null,null,null,null,null,null,null,null,null,null,null,null,null,null,null,null,null,null,null,null,null,null,null,{"$f":"HISTO!P1281","v":0},{"$f":"IF(AC1281=\"\",\"Zonard\",INDEX(AB1282:AB$2008,MIN(IF(COUNTIF(AC$2:AC1281,AB1282:AB$2008),ROW(AB$2008)-ROW()+1,ROW(AB1282:AB$2008)-ROW()+1))))","v":0},0]
[null,null,null,null,null,null,null,null,null,null,null,null,null,null,null,null,null,null,null,null,null,null,null,null,null,null,null,{"$f":"HISTO!P1282","v":0},{"$f":"IF(AC1282=\"\",\"Zonard\",INDEX(AB1283:AB$2008,MIN(IF(COUNTIF(AC$2:AC1282,AB1283:AB$2008),ROW(AB$2008)-ROW()+1,ROW(AB1283:AB$2008)-ROW()+1))))","v":0},0]
[null,null,null,null,null,null,null,null,null,null,null,null,null,null,null,null,null,null,null,null,null,null,null,null,null,null,null,{"$f":"HISTO!P1283","v":0},{"$f":"IF(AC1283=\"\",\"Zonard\",INDEX(AB1284:AB$2008,MIN(IF(COUNTIF(AC$2:AC1283,AB1284:AB$2008),ROW(AB$2008)-ROW()+1,ROW(AB1284:AB$2008)-ROW()+1))))","v":0},0]
[null,null,null,null,null,null,null,null,null,null,null,null,null,null,null,null,null,null,null,null,null,null,null,null,null,null,null,{"$f":"HISTO!P1284","v":0},{"$f":"IF(AC1284=\"\",\"Zonard\",INDEX(AB1285:AB$2008,MIN(IF(COUNTIF(AC$2:AC1284,AB1285:AB$2008),ROW(AB$2008)-ROW()+1,ROW(AB1285:AB$2008)-ROW()+1))))","v":0},0]
[null,null,null,null,null,null,null,null,null,null,null,null,null,null,null,null,null,null,null,null,null,null,null,null,null,null,null,{"$f":"HISTO!P1285","v":0},{"$f":"IF(AC1285=\"\",\"Zonard\",INDEX(AB1286:AB$2008,MIN(IF(COUNTIF(AC$2:AC1285,AB1286:AB$2008),ROW(AB$2008)-ROW()+1,ROW(AB1286:AB$2008)-ROW()+1))))","v":0},0]
[null,null,null,null,null,null,null,null,null,null,null,null,null,null,null,null,null,null,null,null,null,null,null,null,null,null,null,{"$f":"HISTO!P1286","v":0},{"$f":"IF(AC1286=\"\",\"Zonard\",INDEX(AB1287:AB$2008,MIN(IF(COUNTIF(AC$2:AC1286,AB1287:AB$2008),ROW(AB$2008)-ROW()+1,ROW(AB1287:AB$2008)-ROW()+1))))","v":0},0]
[null,null,null,null,null,null,null,null,null,null,null,null,null,null,null,null,null,null,null,null,null,null,null,null,null,null,null,{"$f":"HISTO!P1287","v":0},{"$f":"IF(AC1287=\"\",\"Zonard\",INDEX(AB1288:AB$2008,MIN(IF(COUNTIF(AC$2:AC1287,AB1288:AB$2008),ROW(AB$2008)-ROW()+1,ROW(AB1288:AB$2008)-ROW()+1))))","v":0},0]
[null,null,null,null,null,null,null,null,null,null,null,null,null,null,null,null,null,null,null,null,null,null,null,null,null,null,null,{"$f":"HISTO!P1288","v":0},{"$f":"IF(AC1288=\"\",\"Zonard\",INDEX(AB1289:AB$2008,MIN(IF(COUNTIF(AC$2:AC1288,AB1289:AB$2008),ROW(AB$2008)-ROW()+1,ROW(AB1289:AB$2008)-ROW()+1))))","v":0},0]
[null,null,null,null,null,null,null,null,null,null,null,null,null,null,null,null,null,null,null,null,null,null,null,null,null,null,null,{"$f":"HISTO!P1289","v":0},{"$f":"IF(AC1289=\"\",\"Zonard\",INDEX(AB1290:AB$2008,MIN(IF(COUNTIF(AC$2:AC1289,AB1290:AB$2008),ROW(AB$2008)-ROW()+1,ROW(AB1290:AB$2008)-ROW()+1))))","v":0},0]
[null,null,null,null,null,null,null,null,null,null,null,null,null,null,null,null,null,null,null,null,null,null,null,null,null,null,null,{"$f":"HISTO!P1290","v":0},{"$f":"IF(AC1290=\"\",\"Zonard\",INDEX(AB1291:AB$2008,MIN(IF(COUNTIF(AC$2:AC1290,AB1291:AB$2008),ROW(AB$2008)-ROW()+1,ROW(AB1291:AB$2008)-ROW()+1))))","v":0},0]
[null,null,null,null,null,null,null,null,null,null,null,null,null,null,null,null,null,null,null,null,null,null,null,null,null,null,null,{"$f":"HISTO!P1291","v":0},{"$f":"IF(AC1291=\"\",\"Zonard\",INDEX(AB1292:AB$2008,MIN(IF(COUNTIF(AC$2:AC1291,AB1292:AB$2008),ROW(AB$2008)-ROW()+1,ROW(AB1292:AB$2008)-ROW()+1))))","v":0},0]
[null,null,null,null,null,null,null,null,null,null,null,null,null,null,null,null,null,null,null,null,null,null,null,null,null,null,null,{"$f":"HISTO!P1292","v":0},{"$f":"IF(AC1292=\"\",\"Zonard\",INDEX(AB1293:AB$2008,MIN(IF(COUNTIF(AC$2:AC1292,AB1293:AB$2008),ROW(AB$2008)-ROW()+1,ROW(AB1293:AB$2008)-ROW()+1))))","v":0},0]
[null,null,null,null,null,null,null,null,null,null,null,null,null,null,null,null,null,null,null,null,null,null,null,null,null,null,null,{"$f":"HISTO!P1293","v":0},{"$f":"IF(AC1293=\"\",\"Zonard\",INDEX(AB1294:AB$2008,MIN(IF(COUNTIF(AC$2:AC1293,AB1294:AB$2008),ROW(AB$2008)-ROW()+1,ROW(AB1294:AB$2008)-ROW()+1))))","v":0},0]
[null,null,null,null,null,null,null,null,null,null,null,null,null,null,null,null,null,null,null,null,null,null,null,null,null,null,null,{"$f":"HISTO!P1294","v":0},{"$f":"IF(AC1294=\"\",\"Zonard\",INDEX(AB1295:AB$2008,MIN(IF(COUNTIF(AC$2:AC1294,AB1295:AB$2008),ROW(AB$2008)-ROW()+1,ROW(AB1295:AB$2008)-ROW()+1))))","v":0},0]
[null,null,null,null,null,null,null,null,null,null,null,null,null,null,null,null,null,null,null,null,null,null,null,null,null,null,null,{"$f":"HISTO!P1295","v":0},{"$f":"IF(AC1295=\"\",\"Zonard\",INDEX(AB1296:AB$2008,MIN(IF(COUNTIF(AC$2:AC1295,AB1296:AB$2008),ROW(AB$2008)-ROW()+1,ROW(AB1296:AB$2008)-ROW()+1))))","v":0},0]
[null,null,null,null,null,null,null,null,null,null,null,null,null,null,null,null,null,null,null,null,null,null,null,null,null,null,null,{"$f":"HISTO!P1296","v":0},{"$f":"IF(AC1296=\"\",\"Zonard\",INDEX(AB1297:AB$2008,MIN(IF(COUNTIF(AC$2:AC1296,AB1297:AB$2008),ROW(AB$2008)-ROW()+1,ROW(AB1297:AB$2008)-ROW()+1))))","v":0},0]
[null,null,null,null,null,null,null,null,null,null,null,null,null,null,null,null,null,null,null,null,null,null,null,null,null,null,null,{"$f":"HISTO!P1297","v":0},{"$f":"IF(AC1297=\"\",\"Zonard\",INDEX(AB1298:AB$2008,MIN(IF(COUNTIF(AC$2:AC1297,AB1298:AB$2008),ROW(AB$2008)-ROW()+1,ROW(AB1298:AB$2008)-ROW()+1))))","v":0},0]
[null,null,null,null,null,null,null,null,null,null,null,null,null,null,null,null,null,null,null,null,null,null,null,null,null,null,null,{"$f":"HISTO!P1298","v":0},{"$f":"IF(AC1298=\"\",\"Zonard\",INDEX(AB1299:AB$2008,MIN(IF(COUNTIF(AC$2:AC1298,AB1299:AB$2008),ROW(AB$2008)-ROW()+1,ROW(AB1299:AB$2008)-ROW()+1))))","v":0},0]
[null,null,null,null,null,null,null,null,null,null,null,null,null,null,null,null,null,null,null,null,null,null,null,null,null,null,null,{"$f":"HISTO!P1299","v":0},{"$f":"IF(AC1299=\"\",\"Zonard\",INDEX(AB1300:AB$2008,MIN(IF(COUNTIF(AC$2:AC1299,AB1300:AB$2008),ROW(AB$2008)-ROW()+1,ROW(AB1300:AB$2008)-ROW()+1))))","v":0},0]
[null,null,null,null,null,null,null,null,null,null,null,null,null,null,null,null,null,null,null,null,null,null,null,null,null,null,null,{"$f":"HISTO!P1300","v":0},{"$f":"IF(AC1300=\"\",\"Zonard\",INDEX(AB1301:AB$2008,MIN(IF(COUNTIF(AC$2:AC1300,AB1301:AB$2008),ROW(AB$2008)-ROW()+1,ROW(AB1301:AB$2008)-ROW()+1))))","v":0},0]
[null,null,null,null,null,null,null,null,null,null,null,null,null,null,null,null,null,null,null,null,null,null,null,null,null,null,null,{"$f":"HISTO!P1301","v":0},{"$f":"IF(AC1301=\"\",\"Zonard\",INDEX(AB1302:AB$2008,MIN(IF(COUNTIF(AC$2:AC1301,AB1302:AB$2008),ROW(AB$2008)-ROW()+1,ROW(AB1302:AB$2008)-ROW()+1))))","v":0},0]
[null,null,null,null,null,null,null,null,null,null,null,null,null,null,null,null,null,null,null,null,null,null,null,null,null,null,null,{"$f":"HISTO!P1302","v":0},{"$f":"IF(AC1302=\"\",\"Zonard\",INDEX(AB1303:AB$2008,MIN(IF(COUNTIF(AC$2:AC1302,AB1303:AB$2008),ROW(AB$2008)-ROW()+1,ROW(AB1303:AB$2008)-ROW()+1))))","v":0},0]
[null,null,null,null,null,null,null,null,null,null,null,null,null,null,null,null,null,null,null,null,null,null,null,null,null,null,null,{"$f":"HISTO!P1303","v":0},{"$f":"IF(AC1303=\"\",\"Zonard\",INDEX(AB1304:AB$2008,MIN(IF(COUNTIF(AC$2:AC1303,AB1304:AB$2008),ROW(AB$2008)-ROW()+1,ROW(AB1304:AB$2008)-ROW()+1))))","v":0},0]
[null,null,null,null,null,null,null,null,null,null,null,null,null,null,null,null,null,null,null,null,null,null,null,null,null,null,null,{"$f":"HISTO!P1304","v":0},{"$f":"IF(AC1304=\"\",\"Zonard\",INDEX(AB1305:AB$2008,MIN(IF(COUNTIF(AC$2:AC1304,AB1305:AB$2008),ROW(AB$2008)-ROW()+1,ROW(AB1305:AB$2008)-ROW()+1))))","v":0},0]
[null,null,null,null,null,null,null,null,null,null,null,null,null,null,null,null,null,null,null,null,null,null,null,null,null,null,null,{"$f":"HISTO!P1305","v":0},{"$f":"IF(AC1305=\"\",\"Zonard\",INDEX(AB1306:AB$2008,MIN(IF(COUNTIF(AC$2:AC1305,AB1306:AB$2008),ROW(AB$2008)-ROW()+1,ROW(AB1306:AB$2008)-ROW()+1))))","v":0},0]
[null,null,null,null,null,null,null,null,null,null,null,null,null,null,null,null,null,null,null,null,null,null,null,null,null,null,null,{"$f":"HISTO!P1306","v":0},{"$f":"IF(AC1306=\"\",\"Zonard\",INDEX(AB1307:AB$2008,MIN(IF(COUNTIF(AC$2:AC1306,AB1307:AB$2008),ROW(AB$2008)-ROW()+1,ROW(AB1307:AB$2008)-ROW()+1))))","v":0},0]
[null,null,null,null,null,null,null,null,null,null,null,null,null,null,null,null,null,null,null,null,null,null,null,null,null,null,null,{"$f":"HISTO!P1307","v":0},{"$f":"IF(AC1307=\"\",\"Zonard\",INDEX(AB1308:AB$2008,MIN(IF(COUNTIF(AC$2:AC1307,AB1308:AB$2008),ROW(AB$2008)-ROW()+1,ROW(AB1308:AB$2008)-ROW()+1))))","v":0},0]
[null,null,null,null,null,null,null,null,null,null,null,null,null,null,null,null,null,null,null,null,null,null,null,null,null,null,null,{"$f":"HISTO!P1308","v":0},{"$f":"IF(AC1308=\"\",\"Zonard\",INDEX(AB1309:AB$2008,MIN(IF(COUNTIF(AC$2:AC1308,AB1309:AB$2008),ROW(AB$2008)-ROW()+1,ROW(AB1309:AB$2008)-ROW()+1))))","v":0},0]
[null,null,null,null,null,null,null,null,null,null,null,null,null,null,null,null,null,null,null,null,null,null,null,null,null,null,null,{"$f":"HISTO!P1309","v":0},{"$f":"IF(AC1309=\"\",\"Zonard\",INDEX(AB1310:AB$2008,MIN(IF(COUNTIF(AC$2:AC1309,AB1310:AB$2008),ROW(AB$2008)-ROW()+1,ROW(AB1310:AB$2008)-ROW()+1))))","v":0},0]
[null,null,null,null,null,null,null,null,null,null,null,null,null,null,null,null,null,null,null,null,null,null,null,null,null,null,null,{"$f":"HISTO!P1310","v":0},{"$f":"IF(AC1310=\"\",\"Zonard\",INDEX(AB1311:AB$2008,MIN(IF(COUNTIF(AC$2:AC1310,AB1311:AB$2008),ROW(AB$2008)-ROW()+1,ROW(AB1311:AB$2008)-ROW()+1))))","v":0},0]
[null,null,null,null,null,null,null,null,null,null,null,null,null,null,null,null,null,null,null,null,null,null,null,null,null,null,null,{"$f":"HISTO!P1311","v":0},{"$f":"IF(AC1311=\"\",\"Zonard\",INDEX(AB1312:AB$2008,MIN(IF(COUNTIF(AC$2:AC1311,AB1312:AB$2008),ROW(AB$2008)-ROW()+1,ROW(AB1312:AB$2008)-ROW()+1))))","v":0},0]
[null,null,null,null,null,null,null,null,null,null,null,null,null,null,null,null,null,null,null,null,null,null,null,null,null,null,null,{"$f":"HISTO!P1312","v":0},{"$f":"IF(AC1312=\"\",\"Zonard\",INDEX(AB1313:AB$2008,MIN(IF(COUNTIF(AC$2:AC1312,AB1313:AB$2008),ROW(AB$2008)-ROW()+1,ROW(AB1313:AB$2008)-ROW()+1))))","v":0},0]
[null,null,null,null,null,null,null,null,null,null,null,null,null,null,null,null,null,null,null,null,null,null,null,null,null,null,null,{"$f":"HISTO!P1313","v":0},{"$f":"IF(AC1313=\"\",\"Zonard\",INDEX(AB1314:AB$2008,MIN(IF(COUNTIF(AC$2:AC1313,AB1314:AB$2008),ROW(AB$2008)-ROW()+1,ROW(AB1314:AB$2008)-ROW()+1))))","v":0},0]
[null,null,null,null,null,null,null,null,null,null,null,null,null,null,null,null,null,null,null,null,null,null,null,null,null,null,null,{"$f":"HISTO!P1314","v":0},{"$f":"IF(AC1314=\"\",\"Zonard\",INDEX(AB1315:AB$2008,MIN(IF(COUNTIF(AC$2:AC1314,AB1315:AB$2008),ROW(AB$2008)-ROW()+1,ROW(AB1315:AB$2008)-ROW()+1))))","v":0},0]
[null,null,null,null,null,null,null,null,null,null,null,null,null,null,null,null,null,null,null,null,null,null,null,null,null,null,null,{"$f":"HISTO!P1315","v":0},{"$f":"IF(AC1315=\"\",\"Zonard\",INDEX(AB1316:AB$2008,MIN(IF(COUNTIF(AC$2:AC1315,AB1316:AB$2008),ROW(AB$2008)-ROW()+1,ROW(AB1316:AB$2008)-ROW()+1))))","v":0},0]
[null,null,null,null,null,null,null,null,null,null,null,null,null,null,null,null,null,null,null,null,null,null,null,null,null,null,null,{"$f":"HISTO!P1316","v":0},{"$f":"IF(AC1316=\"\",\"Zonard\",INDEX(AB1317:AB$2008,MIN(IF(COUNTIF(AC$2:AC1316,AB1317:AB$2008),ROW(AB$2008)-ROW()+1,ROW(AB1317:AB$2008)-ROW()+1))))","v":0},0]
[null,null,null,null,null,null,null,null,null,null,null,null,null,null,null,null,null,null,null,null,null,null,null,null,null,null,null,{"$f":"HISTO!P1317","v":0},{"$f":"IF(AC1317=\"\",\"Zonard\",INDEX(AB1318:AB$2008,MIN(IF(COUNTIF(AC$2:AC1317,AB1318:AB$2008),ROW(AB$2008)-ROW()+1,ROW(AB1318:AB$2008)-ROW()+1))))","v":0},0]
[null,null,null,null,null,null,null,null,null,null,null,null,null,null,null,null,null,null,null,null,null,null,null,null,null,null,null,{"$f":"HISTO!P1318","v":0},{"$f":"IF(AC1318=\"\",\"Zonard\",INDEX(AB1319:AB$2008,MIN(IF(COUNTIF(AC$2:AC1318,AB1319:AB$2008),ROW(AB$2008)-ROW()+1,ROW(AB1319:AB$2008)-ROW()+1))))","v":0},0]
[null,null,null,null,null,null,null,null,null,null,null,null,null,null,null,null,null,null,null,null,null,null,null,null,null,null,null,{"$f":"HISTO!P1319","v":0},{"$f":"IF(AC1319=\"\",\"Zonard\",INDEX(AB1320:AB$2008,MIN(IF(COUNTIF(AC$2:AC1319,AB1320:AB$2008),ROW(AB$2008)-ROW()+1,ROW(AB1320:AB$2008)-ROW()+1))))","v":0},0]
[null,null,null,null,null,null,null,null,null,null,null,null,null,null,null,null,null,null,null,null,null,null,null,null,null,null,null,{"$f":"HISTO!P1320","v":0},{"$f":"IF(AC1320=\"\",\"Zonard\",INDEX(AB1321:AB$2008,MIN(IF(COUNTIF(AC$2:AC1320,AB1321:AB$2008),ROW(AB$2008)-ROW()+1,ROW(AB1321:AB$2008)-ROW()+1))))","v":0},0]
[null,null,null,null,null,null,null,null,null,null,null,null,null,null,null,null,null,null,null,null,null,null,null,null,null,null,null,{"$f":"HISTO!P1321","v":0},{"$f":"IF(AC1321=\"\",\"Zonard\",INDEX(AB1322:AB$2008,MIN(IF(COUNTIF(AC$2:AC1321,AB1322:AB$2008),ROW(AB$2008)-ROW()+1,ROW(AB1322:AB$2008)-ROW()+1))))","v":0},0]
[null,null,null,null,null,null,null,null,null,null,null,null,null,null,null,null,null,null,null,null,null,null,null,null,null,null,null,{"$f":"HISTO!P1322","v":0},{"$f":"IF(AC1322=\"\",\"Zonard\",INDEX(AB1323:AB$2008,MIN(IF(COUNTIF(AC$2:AC1322,AB1323:AB$2008),ROW(AB$2008)-ROW()+1,ROW(AB1323:AB$2008)-ROW()+1))))","v":0},0]
[null,null,null,null,null,null,null,null,null,null,null,null,null,null,null,null,null,null,null,null,null,null,null,null,null,null,null,{"$f":"HISTO!P1323","v":0},{"$f":"IF(AC1323=\"\",\"Zonard\",INDEX(AB1324:AB$2008,MIN(IF(COUNTIF(AC$2:AC1323,AB1324:AB$2008),ROW(AB$2008)-ROW()+1,ROW(AB1324:AB$2008)-ROW()+1))))","v":0},0]
[null,null,null,null,null,null,null,null,null,null,null,null,null,null,null,null,null,null,null,null,null,null,null,null,null,null,null,{"$f":"HISTO!P1324","v":0},{"$f":"IF(AC1324=\"\",\"Zonard\",INDEX(AB1325:AB$2008,MIN(IF(COUNTIF(AC$2:AC1324,AB1325:AB$2008),ROW(AB$2008)-ROW()+1,ROW(AB1325:AB$2008)-ROW()+1))))","v":0},0]
[null,null,null,null,null,null,null,null,null,null,null,null,null,null,null,null,null,null,null,null,null,null,null,null,null,null,null,{"$f":"HISTO!P1325","v":0},{"$f":"IF(AC1325=\"\",\"Zonard\",INDEX(AB1326:AB$2008,MIN(IF(COUNTIF(AC$2:AC1325,AB1326:AB$2008),ROW(AB$2008)-ROW()+1,ROW(AB1326:AB$2008)-ROW()+1))))","v":0},0]
[null,null,null,null,null,null,null,null,null,null,null,null,null,null,null,null,null,null,null,null,null,null,null,null,null,null,null,{"$f":"HISTO!P1326","v":0},{"$f":"IF(AC1326=\"\",\"Zonard\",INDEX(AB1327:AB$2008,MIN(IF(COUNTIF(AC$2:AC1326,AB1327:AB$2008),ROW(AB$2008)-ROW()+1,ROW(AB1327:AB$2008)-ROW()+1))))","v":0},0]
[null,null,null,null,null,null,null,null,null,null,null,null,null,null,null,null,null,null,null,null,null,null,null,null,null,null,null,{"$f":"HISTO!P1327","v":0},{"$f":"IF(AC1327=\"\",\"Zonard\",INDEX(AB1328:AB$2008,MIN(IF(COUNTIF(AC$2:AC1327,AB1328:AB$2008),ROW(AB$2008)-ROW()+1,ROW(AB1328:AB$2008)-ROW()+1))))","v":0},0]
[null,null,null,null,null,null,null,null,null,null,null,null,null,null,null,null,null,null,null,null,null,null,null,null,null,null,null,{"$f":"HISTO!P1328","v":0},{"$f":"IF(AC1328=\"\",\"Zonard\",INDEX(AB1329:AB$2008,MIN(IF(COUNTIF(AC$2:AC1328,AB1329:AB$2008),ROW(AB$2008)-ROW()+1,ROW(AB1329:AB$2008)-ROW()+1))))","v":0},0]
[null,null,null,null,null,null,null,null,null,null,null,null,null,null,null,null,null,null,null,null,null,null,null,null,null,null,null,{"$f":"HISTO!P1329","v":0},{"$f":"IF(AC1329=\"\",\"Zonard\",INDEX(AB1330:AB$2008,MIN(IF(COUNTIF(AC$2:AC1329,AB1330:AB$2008),ROW(AB$2008)-ROW()+1,ROW(AB1330:AB$2008)-ROW()+1))))","v":0},0]
[null,null,null,null,null,null,null,null,null,null,null,null,null,null,null,null,null,null,null,null,null,null,null,null,null,null,null,{"$f":"HISTO!P1330","v":0},{"$f":"IF(AC1330=\"\",\"Zonard\",INDEX(AB1331:AB$2008,MIN(IF(COUNTIF(AC$2:AC1330,AB1331:AB$2008),ROW(AB$2008)-ROW()+1,ROW(AB1331:AB$2008)-ROW()+1))))","v":0},0]
[null,null,null,null,null,null,null,null,null,null,null,null,null,null,null,null,null,null,null,null,null,null,null,null,null,null,null,{"$f":"HISTO!P1331","v":0},{"$f":"IF(AC1331=\"\",\"Zonard\",INDEX(AB1332:AB$2008,MIN(IF(COUNTIF(AC$2:AC1331,AB1332:AB$2008),ROW(AB$2008)-ROW()+1,ROW(AB1332:AB$2008)-ROW()+1))))","v":0},0]
[null,null,null,null,null,null,null,null,null,null,null,null,null,null,null,null,null,null,null,null,null,null,null,null,null,null,null,{"$f":"HISTO!P1332","v":0},{"$f":"IF(AC1332=\"\",\"Zonard\",INDEX(AB1333:AB$2008,MIN(IF(COUNTIF(AC$2:AC1332,AB1333:AB$2008),ROW(AB$2008)-ROW()+1,ROW(AB1333:AB$2008)-ROW()+1))))","v":0},0]
[null,null,null,null,null,null,null,null,null,null,null,null,null,null,null,null,null,null,null,null,null,null,null,null,null,null,null,{"$f":"HISTO!P1333","v":0},{"$f":"IF(AC1333=\"\",\"Zonard\",INDEX(AB1334:AB$2008,MIN(IF(COUNTIF(AC$2:AC1333,AB1334:AB$2008),ROW(AB$2008)-ROW()+1,ROW(AB1334:AB$2008)-ROW()+1))))","v":0},0]
[null,null,null,null,null,null,null,null,null,null,null,null,null,null,null,null,null,null,null,null,null,null,null,null,null,null,null,{"$f":"HISTO!P1334","v":0},{"$f":"IF(AC1334=\"\",\"Zonard\",INDEX(AB1335:AB$2008,MIN(IF(COUNTIF(AC$2:AC1334,AB1335:AB$2008),ROW(AB$2008)-ROW()+1,ROW(AB1335:AB$2008)-ROW()+1))))","v":0},0]
[null,null,null,null,null,null,null,null,null,null,null,null,null,null,null,null,null,null,null,null,null,null,null,null,null,null,null,{"$f":"HISTO!P1335","v":0},{"$f":"IF(AC1335=\"\",\"Zonard\",INDEX(AB1336:AB$2008,MIN(IF(COUNTIF(AC$2:AC1335,AB1336:AB$2008),ROW(AB$2008)-ROW()+1,ROW(AB1336:AB$2008)-ROW()+1))))","v":0},0]
[null,null,null,null,null,null,null,null,null,null,null,null,null,null,null,null,null,null,null,null,null,null,null,null,null,null,null,{"$f":"HISTO!P1336","v":0},{"$f":"IF(AC1336=\"\",\"Zonard\",INDEX(AB1337:AB$2008,MIN(IF(COUNTIF(AC$2:AC1336,AB1337:AB$2008),ROW(AB$2008)-ROW()+1,ROW(AB1337:AB$2008)-ROW()+1))))","v":0},0]
[null,null,null,null,null,null,null,null,null,null,null,null,null,null,null,null,null,null,null,null,null,null,null,null,null,null,null,{"$f":"HISTO!P1337","v":0},{"$f":"IF(AC1337=\"\",\"Zonard\",INDEX(AB1338:AB$2008,MIN(IF(COUNTIF(AC$2:AC1337,AB1338:AB$2008),ROW(AB$2008)-ROW()+1,ROW(AB1338:AB$2008)-ROW()+1))))","v":0},0]
[null,null,null,null,null,null,null,null,null,null,null,null,null,null,null,null,null,null,null,null,null,null,null,null,null,null,null,{"$f":"HISTO!P1338","v":0},{"$f":"IF(AC1338=\"\",\"Zonard\",INDEX(AB1339:AB$2008,MIN(IF(COUNTIF(AC$2:AC1338,AB1339:AB$2008),ROW(AB$2008)-ROW()+1,ROW(AB1339:AB$2008)-ROW()+1))))","v":0},0]
[null,null,null,null,null,null,null,null,null,null,null,null,null,null,null,null,null,null,null,null,null,null,null,null,null,null,null,{"$f":"HISTO!P1339","v":0},{"$f":"IF(AC1339=\"\",\"Zonard\",INDEX(AB1340:AB$2008,MIN(IF(COUNTIF(AC$2:AC1339,AB1340:AB$2008),ROW(AB$2008)-ROW()+1,ROW(AB1340:AB$2008)-ROW()+1))))","v":0},0]
[null,null,null,null,null,null,null,null,null,null,null,null,null,null,null,null,null,null,null,null,null,null,null,null,null,null,null,{"$f":"HISTO!P1340","v":0},{"$f":"IF(AC1340=\"\",\"Zonard\",INDEX(AB1341:AB$2008,MIN(IF(COUNTIF(AC$2:AC1340,AB1341:AB$2008),ROW(AB$2008)-ROW()+1,ROW(AB1341:AB$2008)-ROW()+1))))","v":0},0]
[null,null,null,null,null,null,null,null,null,null,null,null,null,null,null,null,null,null,null,null,null,null,null,null,null,null,null,{"$f":"HISTO!P1341","v":0},{"$f":"IF(AC1341=\"\",\"Zonard\",INDEX(AB1342:AB$2008,MIN(IF(COUNTIF(AC$2:AC1341,AB1342:AB$2008),ROW(AB$2008)-ROW()+1,ROW(AB1342:AB$2008)-ROW()+1))))","v":0},0]
[null,null,null,null,null,null,null,null,null,null,null,null,null,null,null,null,null,null,null,null,null,null,null,null,null,null,null,{"$f":"HISTO!P1342","v":0},{"$f":"IF(AC1342=\"\",\"Zonard\",INDEX(AB1343:AB$2008,MIN(IF(COUNTIF(AC$2:AC1342,AB1343:AB$2008),ROW(AB$2008)-ROW()+1,ROW(AB1343:AB$2008)-ROW()+1))))","v":0},0]
[null,null,null,null,null,null,null,null,null,null,null,null,null,null,null,null,null,null,null,null,null,null,null,null,null,null,null,{"$f":"HISTO!P1343","v":0},{"$f":"IF(AC1343=\"\",\"Zonard\",INDEX(AB1344:AB$2008,MIN(IF(COUNTIF(AC$2:AC1343,AB1344:AB$2008),ROW(AB$2008)-ROW()+1,ROW(AB1344:AB$2008)-ROW()+1))))","v":0},0]
[null,null,null,null,null,null,null,null,null,null,null,null,null,null,null,null,null,null,null,null,null,null,null,null,null,null,null,{"$f":"HISTO!P1344","v":0},{"$f":"IF(AC1344=\"\",\"Zonard\",INDEX(AB1345:AB$2008,MIN(IF(COUNTIF(AC$2:AC1344,AB1345:AB$2008),ROW(AB$2008)-ROW()+1,ROW(AB1345:AB$2008)-ROW()+1))))","v":0},0]
[null,null,null,null,null,null,null,null,null,null,null,null,null,null,null,null,null,null,null,null,null,null,null,null,null,null,null,{"$f":"HISTO!P1345","v":0},{"$f":"IF(AC1345=\"\",\"Zonard\",INDEX(AB1346:AB$2008,MIN(IF(COUNTIF(AC$2:AC1345,AB1346:AB$2008),ROW(AB$2008)-ROW()+1,ROW(AB1346:AB$2008)-ROW()+1))))","v":0},0]
[null,null,null,null,null,null,null,null,null,null,null,null,null,null,null,null,null,null,null,null,null,null,null,null,null,null,null,{"$f":"HISTO!P1346","v":0},{"$f":"IF(AC1346=\"\",\"Zonard\",INDEX(AB1347:AB$2008,MIN(IF(COUNTIF(AC$2:AC1346,AB1347:AB$2008),ROW(AB$2008)-ROW()+1,ROW(AB1347:AB$2008)-ROW()+1))))","v":0},0]
[null,null,null,null,null,null,null,null,null,null,null,null,null,null,null,null,null,null,null,null,null,null,null,null,null,null,null,{"$f":"HISTO!P1347","v":0},{"$f":"IF(AC1347=\"\",\"Zonard\",INDEX(AB1348:AB$2008,MIN(IF(COUNTIF(AC$2:AC1347,AB1348:AB$2008),ROW(AB$2008)-ROW()+1,ROW(AB1348:AB$2008)-ROW()+1))))","v":0},0]
[null,null,null,null,null,null,null,null,null,null,null,null,null,null,null,null,null,null,null,null,null,null,null,null,null,null,null,{"$f":"HISTO!P1348","v":0},{"$f":"IF(AC1348=\"\",\"Zonard\",INDEX(AB1349:AB$2008,MIN(IF(COUNTIF(AC$2:AC1348,AB1349:AB$2008),ROW(AB$2008)-ROW()+1,ROW(AB1349:AB$2008)-ROW()+1))))","v":0},0]
[null,null,null,null,null,null,null,null,null,null,null,null,null,null,null,null,null,null,null,null,null,null,null,null,null,null,null,{"$f":"HISTO!P1349","v":0},{"$f":"IF(AC1349=\"\",\"Zonard\",INDEX(AB1350:AB$2008,MIN(IF(COUNTIF(AC$2:AC1349,AB1350:AB$2008),ROW(AB$2008)-ROW()+1,ROW(AB1350:AB$2008)-ROW()+1))))","v":0},0]
[null,null,null,null,null,null,null,null,null,null,null,null,null,null,null,null,null,null,null,null,null,null,null,null,null,null,null,{"$f":"HISTO!P1350","v":0},{"$f":"IF(AC1350=\"\",\"Zonard\",INDEX(AB1351:AB$2008,MIN(IF(COUNTIF(AC$2:AC1350,AB1351:AB$2008),ROW(AB$2008)-ROW()+1,ROW(AB1351:AB$2008)-ROW()+1))))","v":0},0]
[null,null,null,null,null,null,null,null,null,null,null,null,null,null,null,null,null,null,null,null,null,null,null,null,null,null,null,{"$f":"HISTO!P1351","v":0},{"$f":"IF(AC1351=\"\",\"Zonard\",INDEX(AB1352:AB$2008,MIN(IF(COUNTIF(AC$2:AC1351,AB1352:AB$2008),ROW(AB$2008)-ROW()+1,ROW(AB1352:AB$2008)-ROW()+1))))","v":0},0]
[null,null,null,null,null,null,null,null,null,null,null,null,null,null,null,null,null,null,null,null,null,null,null,null,null,null,null,{"$f":"HISTO!P1352","v":0},{"$f":"IF(AC1352=\"\",\"Zonard\",INDEX(AB1353:AB$2008,MIN(IF(COUNTIF(AC$2:AC1352,AB1353:AB$2008),ROW(AB$2008)-ROW()+1,ROW(AB1353:AB$2008)-ROW()+1))))","v":0},0]
[null,null,null,null,null,null,null,null,null,null,null,null,null,null,null,null,null,null,null,null,null,null,null,null,null,null,null,{"$f":"HISTO!P1353","v":0},{"$f":"IF(AC1353=\"\",\"Zonard\",INDEX(AB1354:AB$2008,MIN(IF(COUNTIF(AC$2:AC1353,AB1354:AB$2008),ROW(AB$2008)-ROW()+1,ROW(AB1354:AB$2008)-ROW()+1))))","v":0},0]
[null,null,null,null,null,null,null,null,null,null,null,null,null,null,null,null,null,null,null,null,null,null,null,null,null,null,null,{"$f":"HISTO!P1354","v":0},{"$f":"IF(AC1354=\"\",\"Zonard\",INDEX(AB1355:AB$2008,MIN(IF(COUNTIF(AC$2:AC1354,AB1355:AB$2008),ROW(AB$2008)-ROW()+1,ROW(AB1355:AB$2008)-ROW()+1))))","v":0},0]
[null,null,null,null,null,null,null,null,null,null,null,null,null,null,null,null,null,null,null,null,null,null,null,null,null,null,null,{"$f":"HISTO!P1355","v":0},{"$f":"IF(AC1355=\"\",\"Zonard\",INDEX(AB1356:AB$2008,MIN(IF(COUNTIF(AC$2:AC1355,AB1356:AB$2008),ROW(AB$2008)-ROW()+1,ROW(AB1356:AB$2008)-ROW()+1))))","v":0},0]
[null,null,null,null,null,null,null,null,null,null,null,null,null,null,null,null,null,null,null,null,null,null,null,null,null,null,null,{"$f":"HISTO!P1356","v":0},{"$f":"IF(AC1356=\"\",\"Zonard\",INDEX(AB1357:AB$2008,MIN(IF(COUNTIF(AC$2:AC1356,AB1357:AB$2008),ROW(AB$2008)-ROW()+1,ROW(AB1357:AB$2008)-ROW()+1))))","v":0},0]
[null,null,null,null,null,null,null,null,null,null,null,null,null,null,null,null,null,null,null,null,null,null,null,null,null,null,null,{"$f":"HISTO!P1357","v":0},{"$f":"IF(AC1357=\"\",\"Zonard\",INDEX(AB1358:AB$2008,MIN(IF(COUNTIF(AC$2:AC1357,AB1358:AB$2008),ROW(AB$2008)-ROW()+1,ROW(AB1358:AB$2008)-ROW()+1))))","v":0},0]
[null,null,null,null,null,null,null,null,null,null,null,null,null,null,null,null,null,null,null,null,null,null,null,null,null,null,null,{"$f":"HISTO!P1358","v":0},{"$f":"IF(AC1358=\"\",\"Zonard\",INDEX(AB1359:AB$2008,MIN(IF(COUNTIF(AC$2:AC1358,AB1359:AB$2008),ROW(AB$2008)-ROW()+1,ROW(AB1359:AB$2008)-ROW()+1))))","v":0},0]
[null,null,null,null,null,null,null,null,null,null,null,null,null,null,null,null,null,null,null,null,null,null,null,null,null,null,null,{"$f":"HISTO!P1359","v":0},{"$f":"IF(AC1359=\"\",\"Zonard\",INDEX(AB1360:AB$2008,MIN(IF(COUNTIF(AC$2:AC1359,AB1360:AB$2008),ROW(AB$2008)-ROW()+1,ROW(AB1360:AB$2008)-ROW()+1))))","v":0},0]
[null,null,null,null,null,null,null,null,null,null,null,null,null,null,null,null,null,null,null,null,null,null,null,null,null,null,null,{"$f":"HISTO!P1360","v":0},{"$f":"IF(AC1360=\"\",\"Zonard\",INDEX(AB1361:AB$2008,MIN(IF(COUNTIF(AC$2:AC1360,AB1361:AB$2008),ROW(AB$2008)-ROW()+1,ROW(AB1361:AB$2008)-ROW()+1))))","v":0},0]
[null,null,null,null,null,null,null,null,null,null,null,null,null,null,null,null,null,null,null,null,null,null,null,null,null,null,null,{"$f":"HISTO!P1361","v":0},{"$f":"IF(AC1361=\"\",\"Zonard\",INDEX(AB1362:AB$2008,MIN(IF(COUNTIF(AC$2:AC1361,AB1362:AB$2008),ROW(AB$2008)-ROW()+1,ROW(AB1362:AB$2008)-ROW()+1))))","v":0},0]
[null,null,null,null,null,null,null,null,null,null,null,null,null,null,null,null,null,null,null,null,null,null,null,null,null,null,null,{"$f":"HISTO!P1362","v":0},{"$f":"IF(AC1362=\"\",\"Zonard\",INDEX(AB1363:AB$2008,MIN(IF(COUNTIF(AC$2:AC1362,AB1363:AB$2008),ROW(AB$2008)-ROW()+1,ROW(AB1363:AB$2008)-ROW()+1))))","v":0},0]
[null,null,null,null,null,null,null,null,null,null,null,null,null,null,null,null,null,null,null,null,null,null,null,null,null,null,null,{"$f":"HISTO!P1363","v":0},{"$f":"IF(AC1363=\"\",\"Zonard\",INDEX(AB1364:AB$2008,MIN(IF(COUNTIF(AC$2:AC1363,AB1364:AB$2008),ROW(AB$2008)-ROW()+1,ROW(AB1364:AB$2008)-ROW()+1))))","v":0},0]
[null,null,null,null,null,null,null,null,null,null,null,null,null,null,null,null,null,null,null,null,null,null,null,null,null,null,null,{"$f":"HISTO!P1364","v":0},{"$f":"IF(AC1364=\"\",\"Zonard\",INDEX(AB1365:AB$2008,MIN(IF(COUNTIF(AC$2:AC1364,AB1365:AB$2008),ROW(AB$2008)-ROW()+1,ROW(AB1365:AB$2008)-ROW()+1))))","v":0},0]
[null,null,null,null,null,null,null,null,null,null,null,null,null,null,null,null,null,null,null,null,null,null,null,null,null,null,null,{"$f":"HISTO!P1365","v":0},{"$f":"IF(AC1365=\"\",\"Zonard\",INDEX(AB1366:AB$2008,MIN(IF(COUNTIF(AC$2:AC1365,AB1366:AB$2008),ROW(AB$2008)-ROW()+1,ROW(AB1366:AB$2008)-ROW()+1))))","v":0},0]
[null,null,null,null,null,null,null,null,null,null,null,null,null,null,null,null,null,null,null,null,null,null,null,null,null,null,null,{"$f":"HISTO!P1366","v":0},{"$f":"IF(AC1366=\"\",\"Zonard\",INDEX(AB1367:AB$2008,MIN(IF(COUNTIF(AC$2:AC1366,AB1367:AB$2008),ROW(AB$2008)-ROW()+1,ROW(AB1367:AB$2008)-ROW()+1))))","v":0},0]
[null,null,null,null,null,null,null,null,null,null,null,null,null,null,null,null,null,null,null,null,null,null,null,null,null,null,null,{"$f":"HISTO!P1367","v":0},{"$f":"IF(AC1367=\"\",\"Zonard\",INDEX(AB1368:AB$2008,MIN(IF(COUNTIF(AC$2:AC1367,AB1368:AB$2008),ROW(AB$2008)-ROW()+1,ROW(AB1368:AB$2008)-ROW()+1))))","v":0},0]
[null,null,null,null,null,null,null,null,null,null,null,null,null,null,null,null,null,null,null,null,null,null,null,null,null,null,null,{"$f":"HISTO!P1368","v":0},{"$f":"IF(AC1368=\"\",\"Zonard\",INDEX(AB1369:AB$2008,MIN(IF(COUNTIF(AC$2:AC1368,AB1369:AB$2008),ROW(AB$2008)-ROW()+1,ROW(AB1369:AB$2008)-ROW()+1))))","v":0},0]
[null,null,null,null,null,null,null,null,null,null,null,null,null,null,null,null,null,null,null,null,null,null,null,null,null,null,null,{"$f":"HISTO!P1369","v":0},{"$f":"IF(AC1369=\"\",\"Zonard\",INDEX(AB1370:AB$2008,MIN(IF(COUNTIF(AC$2:AC1369,AB1370:AB$2008),ROW(AB$2008)-ROW()+1,ROW(AB1370:AB$2008)-ROW()+1))))","v":0},0]
[null,null,null,null,null,null,null,null,null,null,null,null,null,null,null,null,null,null,null,null,null,null,null,null,null,null,null,{"$f":"HISTO!P1370","v":0},{"$f":"IF(AC1370=\"\",\"Zonard\",INDEX(AB1371:AB$2008,MIN(IF(COUNTIF(AC$2:AC1370,AB1371:AB$2008),ROW(AB$2008)-ROW()+1,ROW(AB1371:AB$2008)-ROW()+1))))","v":0},0]
[null,null,null,null,null,null,null,null,null,null,null,null,null,null,null,null,null,null,null,null,null,null,null,null,null,null,null,{"$f":"HISTO!P1371","v":0},{"$f":"IF(AC1371=\"\",\"Zonard\",INDEX(AB1372:AB$2008,MIN(IF(COUNTIF(AC$2:AC1371,AB1372:AB$2008),ROW(AB$2008)-ROW()+1,ROW(AB1372:AB$2008)-ROW()+1))))","v":0},0]
[null,null,null,null,null,null,null,null,null,null,null,null,null,null,null,null,null,null,null,null,null,null,null,null,null,null,null,{"$f":"HISTO!P1372","v":0},{"$f":"IF(AC1372=\"\",\"Zonard\",INDEX(AB1373:AB$2008,MIN(IF(COUNTIF(AC$2:AC1372,AB1373:AB$2008),ROW(AB$2008)-ROW()+1,ROW(AB1373:AB$2008)-ROW()+1))))","v":0},0]
[null,null,null,null,null,null,null,null,null,null,null,null,null,null,null,null,null,null,null,null,null,null,null,null,null,null,null,{"$f":"HISTO!P1373","v":0},{"$f":"IF(AC1373=\"\",\"Zonard\",INDEX(AB1374:AB$2008,MIN(IF(COUNTIF(AC$2:AC1373,AB1374:AB$2008),ROW(AB$2008)-ROW()+1,ROW(AB1374:AB$2008)-ROW()+1))))","v":0},0]
[null,null,null,null,null,null,null,null,null,null,null,null,null,null,null,null,null,null,null,null,null,null,null,null,null,null,null,{"$f":"HISTO!P1374","v":0},{"$f":"IF(AC1374=\"\",\"Zonard\",INDEX(AB1375:AB$2008,MIN(IF(COUNTIF(AC$2:AC1374,AB1375:AB$2008),ROW(AB$2008)-ROW()+1,ROW(AB1375:AB$2008)-ROW()+1))))","v":0},0]
[null,null,null,null,null,null,null,null,null,null,null,null,null,null,null,null,null,null,null,null,null,null,null,null,null,null,null,{"$f":"HISTO!P1375","v":0},{"$f":"IF(AC1375=\"\",\"Zonard\",INDEX(AB1376:AB$2008,MIN(IF(COUNTIF(AC$2:AC1375,AB1376:AB$2008),ROW(AB$2008)-ROW()+1,ROW(AB1376:AB$2008)-ROW()+1))))","v":0},0]
[null,null,null,null,null,null,null,null,null,null,null,null,null,null,null,null,null,null,null,null,null,null,null,null,null,null,null,{"$f":"HISTO!P1376","v":0},{"$f":"IF(AC1376=\"\",\"Zonard\",INDEX(AB1377:AB$2008,MIN(IF(COUNTIF(AC$2:AC1376,AB1377:AB$2008),ROW(AB$2008)-ROW()+1,ROW(AB1377:AB$2008)-ROW()+1))))","v":0},0]
[null,null,null,null,null,null,null,null,null,null,null,null,null,null,null,null,null,null,null,null,null,null,null,null,null,null,null,{"$f":"HISTO!P1377","v":0},{"$f":"IF(AC1377=\"\",\"Zonard\",INDEX(AB1378:AB$2008,MIN(IF(COUNTIF(AC$2:AC1377,AB1378:AB$2008),ROW(AB$2008)-ROW()+1,ROW(AB1378:AB$2008)-ROW()+1))))","v":0},0]
[null,null,null,null,null,null,null,null,null,null,null,null,null,null,null,null,null,null,null,null,null,null,null,null,null,null,null,{"$f":"HISTO!P1378","v":0},{"$f":"IF(AC1378=\"\",\"Zonard\",INDEX(AB1379:AB$2008,MIN(IF(COUNTIF(AC$2:AC1378,AB1379:AB$2008),ROW(AB$2008)-ROW()+1,ROW(AB1379:AB$2008)-ROW()+1))))","v":0},0]
[null,null,null,null,null,null,null,null,null,null,null,null,null,null,null,null,null,null,null,null,null,null,null,null,null,null,null,{"$f":"HISTO!P1379","v":0},{"$f":"IF(AC1379=\"\",\"Zonard\",INDEX(AB1380:AB$2008,MIN(IF(COUNTIF(AC$2:AC1379,AB1380:AB$2008),ROW(AB$2008)-ROW()+1,ROW(AB1380:AB$2008)-ROW()+1))))","v":0},0]
[null,null,null,null,null,null,null,null,null,null,null,null,null,null,null,null,null,null,null,null,null,null,null,null,null,null,null,{"$f":"HISTO!P1380","v":0},{"$f":"IF(AC1380=\"\",\"Zonard\",INDEX(AB1381:AB$2008,MIN(IF(COUNTIF(AC$2:AC1380,AB1381:AB$2008),ROW(AB$2008)-ROW()+1,ROW(AB1381:AB$2008)-ROW()+1))))","v":0},0]
[null,null,null,null,null,null,null,null,null,null,null,null,null,null,null,null,null,null,null,null,null,null,null,null,null,null,null,{"$f":"HISTO!P1381","v":0},{"$f":"IF(AC1381=\"\",\"Zonard\",INDEX(AB1382:AB$2008,MIN(IF(COUNTIF(AC$2:AC1381,AB1382:AB$2008),ROW(AB$2008)-ROW()+1,ROW(AB1382:AB$2008)-ROW()+1))))","v":0},0]
[null,null,null,null,null,null,null,null,null,null,null,null,null,null,null,null,null,null,null,null,null,null,null,null,null,null,null,{"$f":"HISTO!P1382","v":0},{"$f":"IF(AC1382=\"\",\"Zonard\",INDEX(AB1383:AB$2008,MIN(IF(COUNTIF(AC$2:AC1382,AB1383:AB$2008),ROW(AB$2008)-ROW()+1,ROW(AB1383:AB$2008)-ROW()+1))))","v":0},0]
[null,null,null,null,null,null,null,null,null,null,null,null,null,null,null,null,null,null,null,null,null,null,null,null,null,null,null,{"$f":"HISTO!P1383","v":0},{"$f":"IF(AC1383=\"\",\"Zonard\",INDEX(AB1384:AB$2008,MIN(IF(COUNTIF(AC$2:AC1383,AB1384:AB$2008),ROW(AB$2008)-ROW()+1,ROW(AB1384:AB$2008)-ROW()+1))))","v":0},0]
[null,null,null,null,null,null,null,null,null,null,null,null,null,null,null,null,null,null,null,null,null,null,null,null,null,null,null,{"$f":"HISTO!P1384","v":0},{"$f":"IF(AC1384=\"\",\"Zonard\",INDEX(AB1385:AB$2008,MIN(IF(COUNTIF(AC$2:AC1384,AB1385:AB$2008),ROW(AB$2008)-ROW()+1,ROW(AB1385:AB$2008)-ROW()+1))))","v":0},0]
[null,null,null,null,null,null,null,null,null,null,null,null,null,null,null,null,null,null,null,null,null,null,null,null,null,null,null,{"$f":"HISTO!P1385","v":0},{"$f":"IF(AC1385=\"\",\"Zonard\",INDEX(AB1386:AB$2008,MIN(IF(COUNTIF(AC$2:AC1385,AB1386:AB$2008),ROW(AB$2008)-ROW()+1,ROW(AB1386:AB$2008)-ROW()+1))))","v":0},0]
[null,null,null,null,null,null,null,null,null,null,null,null,null,null,null,null,null,null,null,null,null,null,null,null,null,null,null,{"$f":"HISTO!P1386","v":0},{"$f":"IF(AC1386=\"\",\"Zonard\",INDEX(AB1387:AB$2008,MIN(IF(COUNTIF(AC$2:AC1386,AB1387:AB$2008),ROW(AB$2008)-ROW()+1,ROW(AB1387:AB$2008)-ROW()+1))))","v":0},0]
[null,null,null,null,null,null,null,null,null,null,null,null,null,null,null,null,null,null,null,null,null,null,null,null,null,null,null,{"$f":"HISTO!P1387","v":0},{"$f":"IF(AC1387=\"\",\"Zonard\",INDEX(AB1388:AB$2008,MIN(IF(COUNTIF(AC$2:AC1387,AB1388:AB$2008),ROW(AB$2008)-ROW()+1,ROW(AB1388:AB$2008)-ROW()+1))))","v":0},0]
[null,null,null,null,null,null,null,null,null,null,null,null,null,null,null,null,null,null,null,null,null,null,null,null,null,null,null,{"$f":"HISTO!P1388","v":0},{"$f":"IF(AC1388=\"\",\"Zonard\",INDEX(AB1389:AB$2008,MIN(IF(COUNTIF(AC$2:AC1388,AB1389:AB$2008),ROW(AB$2008)-ROW()+1,ROW(AB1389:AB$2008)-ROW()+1))))","v":0},0]
[null,null,null,null,null,null,null,null,null,null,null,null,null,null,null,null,null,null,null,null,null,null,null,null,null,null,null,{"$f":"HISTO!P1389","v":0},{"$f":"IF(AC1389=\"\",\"Zonard\",INDEX(AB1390:AB$2008,MIN(IF(COUNTIF(AC$2:AC1389,AB1390:AB$2008),ROW(AB$2008)-ROW()+1,ROW(AB1390:AB$2008)-ROW()+1))))","v":0},0]
[null,null,null,null,null,null,null,null,null,null,null,null,null,null,null,null,null,null,null,null,null,null,null,null,null,null,null,{"$f":"HISTO!P1390","v":0},{"$f":"IF(AC1390=\"\",\"Zonard\",INDEX(AB1391:AB$2008,MIN(IF(COUNTIF(AC$2:AC1390,AB1391:AB$2008),ROW(AB$2008)-ROW()+1,ROW(AB1391:AB$2008)-ROW()+1))))","v":0},0]
[null,null,null,null,null,null,null,null,null,null,null,null,null,null,null,null,null,null,null,null,null,null,null,null,null,null,null,{"$f":"HISTO!P1391","v":0},{"$f":"IF(AC1391=\"\",\"Zonard\",INDEX(AB1392:AB$2008,MIN(IF(COUNTIF(AC$2:AC1391,AB1392:AB$2008),ROW(AB$2008)-ROW()+1,ROW(AB1392:AB$2008)-ROW()+1))))","v":0},0]
[null,null,null,null,null,null,null,null,null,null,null,null,null,null,null,null,null,null,null,null,null,null,null,null,null,null,null,{"$f":"HISTO!P1392","v":0},{"$f":"IF(AC1392=\"\",\"Zonard\",INDEX(AB1393:AB$2008,MIN(IF(COUNTIF(AC$2:AC1392,AB1393:AB$2008),ROW(AB$2008)-ROW()+1,ROW(AB1393:AB$2008)-ROW()+1))))","v":0},0]
[null,null,null,null,null,null,null,null,null,null,null,null,null,null,null,null,null,null,null,null,null,null,null,null,null,null,null,{"$f":"HISTO!P1393","v":0},{"$f":"IF(AC1393=\"\",\"Zonard\",INDEX(AB1394:AB$2008,MIN(IF(COUNTIF(AC$2:AC1393,AB1394:AB$2008),ROW(AB$2008)-ROW()+1,ROW(AB1394:AB$2008)-ROW()+1))))","v":0},0]
[null,null,null,null,null,null,null,null,null,null,null,null,null,null,null,null,null,null,null,null,null,null,null,null,null,null,null,{"$f":"HISTO!P1394","v":0},{"$f":"IF(AC1394=\"\",\"Zonard\",INDEX(AB1395:AB$2008,MIN(IF(COUNTIF(AC$2:AC1394,AB1395:AB$2008),ROW(AB$2008)-ROW()+1,ROW(AB1395:AB$2008)-ROW()+1))))","v":0},0]
[null,null,null,null,null,null,null,null,null,null,null,null,null,null,null,null,null,null,null,null,null,null,null,null,null,null,null,{"$f":"HISTO!P1395","v":0},{"$f":"IF(AC1395=\"\",\"Zonard\",INDEX(AB1396:AB$2008,MIN(IF(COUNTIF(AC$2:AC1395,AB1396:AB$2008),ROW(AB$2008)-ROW()+1,ROW(AB1396:AB$2008)-ROW()+1))))","v":0},0]
[null,null,null,null,null,null,null,null,null,null,null,null,null,null,null,null,null,null,null,null,null,null,null,null,null,null,null,{"$f":"HISTO!P1396","v":0},{"$f":"IF(AC1396=\"\",\"Zonard\",INDEX(AB1397:AB$2008,MIN(IF(COUNTIF(AC$2:AC1396,AB1397:AB$2008),ROW(AB$2008)-ROW()+1,ROW(AB1397:AB$2008)-ROW()+1))))","v":0},0]
[null,null,null,null,null,null,null,null,null,null,null,null,null,null,null,null,null,null,null,null,null,null,null,null,null,null,null,{"$f":"HISTO!P1397","v":0},{"$f":"IF(AC1397=\"\",\"Zonard\",INDEX(AB1398:AB$2008,MIN(IF(COUNTIF(AC$2:AC1397,AB1398:AB$2008),ROW(AB$2008)-ROW()+1,ROW(AB1398:AB$2008)-ROW()+1))))","v":0},0]
[null,null,null,null,null,null,null,null,null,null,null,null,null,null,null,null,null,null,null,null,null,null,null,null,null,null,null,{"$f":"HISTO!P1398","v":0},{"$f":"IF(AC1398=\"\",\"Zonard\",INDEX(AB1399:AB$2008,MIN(IF(COUNTIF(AC$2:AC1398,AB1399:AB$2008),ROW(AB$2008)-ROW()+1,ROW(AB1399:AB$2008)-ROW()+1))))","v":0},0]
[null,null,null,null,null,null,null,null,null,null,null,null,null,null,null,null,null,null,null,null,null,null,null,null,null,null,null,{"$f":"HISTO!P1399","v":0},{"$f":"IF(AC1399=\"\",\"Zonard\",INDEX(AB1400:AB$2008,MIN(IF(COUNTIF(AC$2:AC1399,AB1400:AB$2008),ROW(AB$2008)-ROW()+1,ROW(AB1400:AB$2008)-ROW()+1))))","v":0},0]
[null,null,null,null,null,null,null,null,null,null,null,null,null,null,null,null,null,null,null,null,null,null,null,null,null,null,null,{"$f":"HISTO!P1400","v":0},{"$f":"IF(AC1400=\"\",\"Zonard\",INDEX(AB1401:AB$2008,MIN(IF(COUNTIF(AC$2:AC1400,AB1401:AB$2008),ROW(AB$2008)-ROW()+1,ROW(AB1401:AB$2008)-ROW()+1))))","v":0},0]
[null,null,null,null,null,null,null,null,null,null,null,null,null,null,null,null,null,null,null,null,null,null,null,null,null,null,null,{"$f":"HISTO!P1401","v":0},{"$f":"IF(AC1401=\"\",\"Zonard\",INDEX(AB1402:AB$2008,MIN(IF(COUNTIF(AC$2:AC1401,AB1402:AB$2008),ROW(AB$2008)-ROW()+1,ROW(AB1402:AB$2008)-ROW()+1))))","v":0},0]
[null,null,null,null,null,null,null,null,null,null,null,null,null,null,null,null,null,null,null,null,null,null,null,null,null,null,null,{"$f":"HISTO!P1402","v":0},{"$f":"IF(AC1402=\"\",\"Zonard\",INDEX(AB1403:AB$2008,MIN(IF(COUNTIF(AC$2:AC1402,AB1403:AB$2008),ROW(AB$2008)-ROW()+1,ROW(AB1403:AB$2008)-ROW()+1))))","v":0},0]
[null,null,null,null,null,null,null,null,null,null,null,null,null,null,null,null,null,null,null,null,null,null,null,null,null,null,null,{"$f":"HISTO!P1403","v":0},{"$f":"IF(AC1403=\"\",\"Zonard\",INDEX(AB1404:AB$2008,MIN(IF(COUNTIF(AC$2:AC1403,AB1404:AB$2008),ROW(AB$2008)-ROW()+1,ROW(AB1404:AB$2008)-ROW()+1))))","v":0},0]
[null,null,null,null,null,null,null,null,null,null,null,null,null,null,null,null,null,null,null,null,null,null,null,null,null,null,null,{"$f":"HISTO!P1404","v":0},{"$f":"IF(AC1404=\"\",\"Zonard\",INDEX(AB1405:AB$2008,MIN(IF(COUNTIF(AC$2:AC1404,AB1405:AB$2008),ROW(AB$2008)-ROW()+1,ROW(AB1405:AB$2008)-ROW()+1))))","v":0},0]
[null,null,null,null,null,null,null,null,null,null,null,null,null,null,null,null,null,null,null,null,null,null,null,null,null,null,null,{"$f":"HISTO!P1405","v":0},{"$f":"IF(AC1405=\"\",\"Zonard\",INDEX(AB1406:AB$2008,MIN(IF(COUNTIF(AC$2:AC1405,AB1406:AB$2008),ROW(AB$2008)-ROW()+1,ROW(AB1406:AB$2008)-ROW()+1))))","v":0},0]
[null,null,null,null,null,null,null,null,null,null,null,null,null,null,null,null,null,null,null,null,null,null,null,null,null,null,null,{"$f":"HISTO!P1406","v":0},{"$f":"IF(AC1406=\"\",\"Zonard\",INDEX(AB1407:AB$2008,MIN(IF(COUNTIF(AC$2:AC1406,AB1407:AB$2008),ROW(AB$2008)-ROW()+1,ROW(AB1407:AB$2008)-ROW()+1))))","v":0},0]
[null,null,null,null,null,null,null,null,null,null,null,null,null,null,null,null,null,null,null,null,null,null,null,null,null,null,null,{"$f":"HISTO!P1407","v":0},{"$f":"IF(AC1407=\"\",\"Zonard\",INDEX(AB1408:AB$2008,MIN(IF(COUNTIF(AC$2:AC1407,AB1408:AB$2008),ROW(AB$2008)-ROW()+1,ROW(AB1408:AB$2008)-ROW()+1))))","v":0},0]
[null,null,null,null,null,null,null,null,null,null,null,null,null,null,null,null,null,null,null,null,null,null,null,null,null,null,null,{"$f":"HISTO!P1408","v":0},{"$f":"IF(AC1408=\"\",\"Zonard\",INDEX(AB1409:AB$2008,MIN(IF(COUNTIF(AC$2:AC1408,AB1409:AB$2008),ROW(AB$2008)-ROW()+1,ROW(AB1409:AB$2008)-ROW()+1))))","v":0},0]
[null,null,null,null,null,null,null,null,null,null,null,null,null,null,null,null,null,null,null,null,null,null,null,null,null,null,null,{"$f":"HISTO!P1409","v":0},{"$f":"IF(AC1409=\"\",\"Zonard\",INDEX(AB1410:AB$2008,MIN(IF(COUNTIF(AC$2:AC1409,AB1410:AB$2008),ROW(AB$2008)-ROW()+1,ROW(AB1410:AB$2008)-ROW()+1))))","v":0},0]
[null,null,null,null,null,null,null,null,null,null,null,null,null,null,null,null,null,null,null,null,null,null,null,null,null,null,null,{"$f":"HISTO!P1410","v":0},{"$f":"IF(AC1410=\"\",\"Zonard\",INDEX(AB1411:AB$2008,MIN(IF(COUNTIF(AC$2:AC1410,AB1411:AB$2008),ROW(AB$2008)-ROW()+1,ROW(AB1411:AB$2008)-ROW()+1))))","v":0},0]
[null,null,null,null,null,null,null,null,null,null,null,null,null,null,null,null,null,null,null,null,null,null,null,null,null,null,null,{"$f":"HISTO!P1411","v":0},{"$f":"IF(AC1411=\"\",\"Zonard\",INDEX(AB1412:AB$2008,MIN(IF(COUNTIF(AC$2:AC1411,AB1412:AB$2008),ROW(AB$2008)-ROW()+1,ROW(AB1412:AB$2008)-ROW()+1))))","v":0},0]
[null,null,null,null,null,null,null,null,null,null,null,null,null,null,null,null,null,null,null,null,null,null,null,null,null,null,null,{"$f":"HISTO!P1412","v":0},{"$f":"IF(AC1412=\"\",\"Zonard\",INDEX(AB1413:AB$2008,MIN(IF(COUNTIF(AC$2:AC1412,AB1413:AB$2008),ROW(AB$2008)-ROW()+1,ROW(AB1413:AB$2008)-ROW()+1))))","v":0},0]
[null,null,null,null,null,null,null,null,null,null,null,null,null,null,null,null,null,null,null,null,null,null,null,null,null,null,null,{"$f":"HISTO!P1413","v":0},{"$f":"IF(AC1413=\"\",\"Zonard\",INDEX(AB1414:AB$2008,MIN(IF(COUNTIF(AC$2:AC1413,AB1414:AB$2008),ROW(AB$2008)-ROW()+1,ROW(AB1414:AB$2008)-ROW()+1))))","v":0},0]
[null,null,null,null,null,null,null,null,null,null,null,null,null,null,null,null,null,null,null,null,null,null,null,null,null,null,null,{"$f":"HISTO!P1414","v":0},{"$f":"IF(AC1414=\"\",\"Zonard\",INDEX(AB1415:AB$2008,MIN(IF(COUNTIF(AC$2:AC1414,AB1415:AB$2008),ROW(AB$2008)-ROW()+1,ROW(AB1415:AB$2008)-ROW()+1))))","v":0},0]
[null,null,null,null,null,null,null,null,null,null,null,null,null,null,null,null,null,null,null,null,null,null,null,null,null,null,null,{"$f":"HISTO!P1415","v":0},{"$f":"IF(AC1415=\"\",\"Zonard\",INDEX(AB1416:AB$2008,MIN(IF(COUNTIF(AC$2:AC1415,AB1416:AB$2008),ROW(AB$2008)-ROW()+1,ROW(AB1416:AB$2008)-ROW()+1))))","v":0},0]
[null,null,null,null,null,null,null,null,null,null,null,null,null,null,null,null,null,null,null,null,null,null,null,null,null,null,null,{"$f":"HISTO!P1416","v":0},{"$f":"IF(AC1416=\"\",\"Zonard\",INDEX(AB1417:AB$2008,MIN(IF(COUNTIF(AC$2:AC1416,AB1417:AB$2008),ROW(AB$2008)-ROW()+1,ROW(AB1417:AB$2008)-ROW()+1))))","v":0},0]
[null,null,null,null,null,null,null,null,null,null,null,null,null,null,null,null,null,null,null,null,null,null,null,null,null,null,null,{"$f":"HISTO!P1417","v":0},{"$f":"IF(AC1417=\"\",\"Zonard\",INDEX(AB1418:AB$2008,MIN(IF(COUNTIF(AC$2:AC1417,AB1418:AB$2008),ROW(AB$2008)-ROW()+1,ROW(AB1418:AB$2008)-ROW()+1))))","v":0},0]
[null,null,null,null,null,null,null,null,null,null,null,null,null,null,null,null,null,null,null,null,null,null,null,null,null,null,null,{"$f":"HISTO!P1418","v":0},{"$f":"IF(AC1418=\"\",\"Zonard\",INDEX(AB1419:AB$2008,MIN(IF(COUNTIF(AC$2:AC1418,AB1419:AB$2008),ROW(AB$2008)-ROW()+1,ROW(AB1419:AB$2008)-ROW()+1))))","v":0},0]
[null,null,null,null,null,null,null,null,null,null,null,null,null,null,null,null,null,null,null,null,null,null,null,null,null,null,null,{"$f":"HISTO!P1419","v":0},{"$f":"IF(AC1419=\"\",\"Zonard\",INDEX(AB1420:AB$2008,MIN(IF(COUNTIF(AC$2:AC1419,AB1420:AB$2008),ROW(AB$2008)-ROW()+1,ROW(AB1420:AB$2008)-ROW()+1))))","v":0},0]
[null,null,null,null,null,null,null,null,null,null,null,null,null,null,null,null,null,null,null,null,null,null,null,null,null,null,null,{"$f":"HISTO!P1420","v":0},{"$f":"IF(AC1420=\"\",\"Zonard\",INDEX(AB1421:AB$2008,MIN(IF(COUNTIF(AC$2:AC1420,AB1421:AB$2008),ROW(AB$2008)-ROW()+1,ROW(AB1421:AB$2008)-ROW()+1))))","v":0},0]
[null,null,null,null,null,null,null,null,null,null,null,null,null,null,null,null,null,null,null,null,null,null,null,null,null,null,null,{"$f":"HISTO!P1421","v":0},{"$f":"IF(AC1421=\"\",\"Zonard\",INDEX(AB1422:AB$2008,MIN(IF(COUNTIF(AC$2:AC1421,AB1422:AB$2008),ROW(AB$2008)-ROW()+1,ROW(AB1422:AB$2008)-ROW()+1))))","v":0},0]
[null,null,null,null,null,null,null,null,null,null,null,null,null,null,null,null,null,null,null,null,null,null,null,null,null,null,null,{"$f":"HISTO!P1422","v":0},{"$f":"IF(AC1422=\"\",\"Zonard\",INDEX(AB1423:AB$2008,MIN(IF(COUNTIF(AC$2:AC1422,AB1423:AB$2008),ROW(AB$2008)-ROW()+1,ROW(AB1423:AB$2008)-ROW()+1))))","v":0},0]
[null,null,null,null,null,null,null,null,null,null,null,null,null,null,null,null,null,null,null,null,null,null,null,null,null,null,null,{"$f":"HISTO!P1423","v":0},{"$f":"IF(AC1423=\"\",\"Zonard\",INDEX(AB1424:AB$2008,MIN(IF(COUNTIF(AC$2:AC1423,AB1424:AB$2008),ROW(AB$2008)-ROW()+1,ROW(AB1424:AB$2008)-ROW()+1))))","v":0},0]
[null,null,null,null,null,null,null,null,null,null,null,null,null,null,null,null,null,null,null,null,null,null,null,null,null,null,null,{"$f":"HISTO!P1424","v":0},{"$f":"IF(AC1424=\"\",\"Zonard\",INDEX(AB1425:AB$2008,MIN(IF(COUNTIF(AC$2:AC1424,AB1425:AB$2008),ROW(AB$2008)-ROW()+1,ROW(AB1425:AB$2008)-ROW()+1))))","v":0},0]
[null,null,null,null,null,null,null,null,null,null,null,null,null,null,null,null,null,null,null,null,null,null,null,null,null,null,null,{"$f":"HISTO!P1425","v":0},{"$f":"IF(AC1425=\"\",\"Zonard\",INDEX(AB1426:AB$2008,MIN(IF(COUNTIF(AC$2:AC1425,AB1426:AB$2008),ROW(AB$2008)-ROW()+1,ROW(AB1426:AB$2008)-ROW()+1))))","v":0},0]
[null,null,null,null,null,null,null,null,null,null,null,null,null,null,null,null,null,null,null,null,null,null,null,null,null,null,null,{"$f":"HISTO!P1426","v":0},{"$f":"IF(AC1426=\"\",\"Zonard\",INDEX(AB1427:AB$2008,MIN(IF(COUNTIF(AC$2:AC1426,AB1427:AB$2008),ROW(AB$2008)-ROW()+1,ROW(AB1427:AB$2008)-ROW()+1))))","v":0},0]
[null,null,null,null,null,null,null,null,null,null,null,null,null,null,null,null,null,null,null,null,null,null,null,null,null,null,null,{"$f":"HISTO!P1427","v":0},{"$f":"IF(AC1427=\"\",\"Zonard\",INDEX(AB1428:AB$2008,MIN(IF(COUNTIF(AC$2:AC1427,AB1428:AB$2008),ROW(AB$2008)-ROW()+1,ROW(AB1428:AB$2008)-ROW()+1))))","v":0},0]
[null,null,null,null,null,null,null,null,null,null,null,null,null,null,null,null,null,null,null,null,null,null,null,null,null,null,null,{"$f":"HISTO!P1428","v":0},{"$f":"IF(AC1428=\"\",\"Zonard\",INDEX(AB1429:AB$2008,MIN(IF(COUNTIF(AC$2:AC1428,AB1429:AB$2008),ROW(AB$2008)-ROW()+1,ROW(AB1429:AB$2008)-ROW()+1))))","v":0},0]
[null,null,null,null,null,null,null,null,null,null,null,null,null,null,null,null,null,null,null,null,null,null,null,null,null,null,null,{"$f":"HISTO!P1429","v":0},{"$f":"IF(AC1429=\"\",\"Zonard\",INDEX(AB1430:AB$2008,MIN(IF(COUNTIF(AC$2:AC1429,AB1430:AB$2008),ROW(AB$2008)-ROW()+1,ROW(AB1430:AB$2008)-ROW()+1))))","v":0},0]
[null,null,null,null,null,null,null,null,null,null,null,null,null,null,null,null,null,null,null,null,null,null,null,null,null,null,null,{"$f":"HISTO!P1430","v":0},{"$f":"IF(AC1430=\"\",\"Zonard\",INDEX(AB1431:AB$2008,MIN(IF(COUNTIF(AC$2:AC1430,AB1431:AB$2008),ROW(AB$2008)-ROW()+1,ROW(AB1431:AB$2008)-ROW()+1))))","v":0},0]
[null,null,null,null,null,null,null,null,null,null,null,null,null,null,null,null,null,null,null,null,null,null,null,null,null,null,null,{"$f":"HISTO!P1431","v":0},{"$f":"IF(AC1431=\"\",\"Zonard\",INDEX(AB1432:AB$2008,MIN(IF(COUNTIF(AC$2:AC1431,AB1432:AB$2008),ROW(AB$2008)-ROW()+1,ROW(AB1432:AB$2008)-ROW()+1))))","v":0},0]
[null,null,null,null,null,null,null,null,null,null,null,null,null,null,null,null,null,null,null,null,null,null,null,null,null,null,null,{"$f":"HISTO!P1432","v":0},{"$f":"IF(AC1432=\"\",\"Zonard\",INDEX(AB1433:AB$2008,MIN(IF(COUNTIF(AC$2:AC1432,AB1433:AB$2008),ROW(AB$2008)-ROW()+1,ROW(AB1433:AB$2008)-ROW()+1))))","v":0},0]
[null,null,null,null,null,null,null,null,null,null,null,null,null,null,null,null,null,null,null,null,null,null,null,null,null,null,null,{"$f":"HISTO!P1433","v":0},{"$f":"IF(AC1433=\"\",\"Zonard\",INDEX(AB1434:AB$2008,MIN(IF(COUNTIF(AC$2:AC1433,AB1434:AB$2008),ROW(AB$2008)-ROW()+1,ROW(AB1434:AB$2008)-ROW()+1))))","v":0},0]
[null,null,null,null,null,null,null,null,null,null,null,null,null,null,null,null,null,null,null,null,null,null,null,null,null,null,null,{"$f":"HISTO!P1434","v":0},{"$f":"IF(AC1434=\"\",\"Zonard\",INDEX(AB1435:AB$2008,MIN(IF(COUNTIF(AC$2:AC1434,AB1435:AB$2008),ROW(AB$2008)-ROW()+1,ROW(AB1435:AB$2008)-ROW()+1))))","v":0},0]
[null,null,null,null,null,null,null,null,null,null,null,null,null,null,null,null,null,null,null,null,null,null,null,null,null,null,null,{"$f":"HISTO!P1435","v":0},{"$f":"IF(AC1435=\"\",\"Zonard\",INDEX(AB1436:AB$2008,MIN(IF(COUNTIF(AC$2:AC1435,AB1436:AB$2008),ROW(AB$2008)-ROW()+1,ROW(AB1436:AB$2008)-ROW()+1))))","v":0},0]
[null,null,null,null,null,null,null,null,null,null,null,null,null,null,null,null,null,null,null,null,null,null,null,null,null,null,null,{"$f":"HISTO!P1436","v":0},{"$f":"IF(AC1436=\"\",\"Zonard\",INDEX(AB1437:AB$2008,MIN(IF(COUNTIF(AC$2:AC1436,AB1437:AB$2008),ROW(AB$2008)-ROW()+1,ROW(AB1437:AB$2008)-ROW()+1))))","v":0},0]
[null,null,null,null,null,null,null,null,null,null,null,null,null,null,null,null,null,null,null,null,null,null,null,null,null,null,null,{"$f":"HISTO!P1437","v":0},{"$f":"IF(AC1437=\"\",\"Zonard\",INDEX(AB1438:AB$2008,MIN(IF(COUNTIF(AC$2:AC1437,AB1438:AB$2008),ROW(AB$2008)-ROW()+1,ROW(AB1438:AB$2008)-ROW()+1))))","v":0},0]
[null,null,null,null,null,null,null,null,null,null,null,null,null,null,null,null,null,null,null,null,null,null,null,null,null,null,null,{"$f":"HISTO!P1438","v":0},{"$f":"IF(AC1438=\"\",\"Zonard\",INDEX(AB1439:AB$2008,MIN(IF(COUNTIF(AC$2:AC1438,AB1439:AB$2008),ROW(AB$2008)-ROW()+1,ROW(AB1439:AB$2008)-ROW()+1))))","v":0},0]
[null,null,null,null,null,null,null,null,null,null,null,null,null,null,null,null,null,null,null,null,null,null,null,null,null,null,null,{"$f":"HISTO!P1439","v":0},{"$f":"IF(AC1439=\"\",\"Zonard\",INDEX(AB1440:AB$2008,MIN(IF(COUNTIF(AC$2:AC1439,AB1440:AB$2008),ROW(AB$2008)-ROW()+1,ROW(AB1440:AB$2008)-ROW()+1))))","v":0},0]
[null,null,null,null,null,null,null,null,null,null,null,null,null,null,null,null,null,null,null,null,null,null,null,null,null,null,null,{"$f":"HISTO!P1440","v":0},{"$f":"IF(AC1440=\"\",\"Zonard\",INDEX(AB1441:AB$2008,MIN(IF(COUNTIF(AC$2:AC1440,AB1441:AB$2008),ROW(AB$2008)-ROW()+1,ROW(AB1441:AB$2008)-ROW()+1))))","v":0},0]
[null,null,null,null,null,null,null,null,null,null,null,null,null,null,null,null,null,null,null,null,null,null,null,null,null,null,null,{"$f":"HISTO!P1441","v":0},{"$f":"IF(AC1441=\"\",\"Zonard\",INDEX(AB1442:AB$2008,MIN(IF(COUNTIF(AC$2:AC1441,AB1442:AB$2008),ROW(AB$2008)-ROW()+1,ROW(AB1442:AB$2008)-ROW()+1))))","v":0},0]
[null,null,null,null,null,null,null,null,null,null,null,null,null,null,null,null,null,null,null,null,null,null,null,null,null,null,null,{"$f":"HISTO!P1442","v":0},{"$f":"IF(AC1442=\"\",\"Zonard\",INDEX(AB1443:AB$2008,MIN(IF(COUNTIF(AC$2:AC1442,AB1443:AB$2008),ROW(AB$2008)-ROW()+1,ROW(AB1443:AB$2008)-ROW()+1))))","v":0},0]
[null,null,null,null,null,null,null,null,null,null,null,null,null,null,null,null,null,null,null,null,null,null,null,null,null,null,null,{"$f":"HISTO!P1443","v":0},{"$f":"IF(AC1443=\"\",\"Zonard\",INDEX(AB1444:AB$2008,MIN(IF(COUNTIF(AC$2:AC1443,AB1444:AB$2008),ROW(AB$2008)-ROW()+1,ROW(AB1444:AB$2008)-ROW()+1))))","v":0},0]
[null,null,null,null,null,null,null,null,null,null,null,null,null,null,null,null,null,null,null,null,null,null,null,null,null,null,null,{"$f":"HISTO!P1444","v":0},{"$f":"IF(AC1444=\"\",\"Zonard\",INDEX(AB1445:AB$2008,MIN(IF(COUNTIF(AC$2:AC1444,AB1445:AB$2008),ROW(AB$2008)-ROW()+1,ROW(AB1445:AB$2008)-ROW()+1))))","v":0},0]
[null,null,null,null,null,null,null,null,null,null,null,null,null,null,null,null,null,null,null,null,null,null,null,null,null,null,null,{"$f":"HISTO!P1445","v":0},{"$f":"IF(AC1445=\"\",\"Zonard\",INDEX(AB1446:AB$2008,MIN(IF(COUNTIF(AC$2:AC1445,AB1446:AB$2008),ROW(AB$2008)-ROW()+1,ROW(AB1446:AB$2008)-ROW()+1))))","v":0},0]
[null,null,null,null,null,null,null,null,null,null,null,null,null,null,null,null,null,null,null,null,null,null,null,null,null,null,null,{"$f":"HISTO!P1446","v":0},{"$f":"IF(AC1446=\"\",\"Zonard\",INDEX(AB1447:AB$2008,MIN(IF(COUNTIF(AC$2:AC1446,AB1447:AB$2008),ROW(AB$2008)-ROW()+1,ROW(AB1447:AB$2008)-ROW()+1))))","v":0},0]
[null,null,null,null,null,null,null,null,null,null,null,null,null,null,null,null,null,null,null,null,null,null,null,null,null,null,null,{"$f":"HISTO!P1447","v":0},{"$f":"IF(AC1447=\"\",\"Zonard\",INDEX(AB1448:AB$2008,MIN(IF(COUNTIF(AC$2:AC1447,AB1448:AB$2008),ROW(AB$2008)-ROW()+1,ROW(AB1448:AB$2008)-ROW()+1))))","v":0},0]
[null,null,null,null,null,null,null,null,null,null,null,null,null,null,null,null,null,null,null,null,null,null,null,null,null,null,null,{"$f":"HISTO!P1448","v":0},{"$f":"IF(AC1448=\"\",\"Zonard\",INDEX(AB1449:AB$2008,MIN(IF(COUNTIF(AC$2:AC1448,AB1449:AB$2008),ROW(AB$2008)-ROW()+1,ROW(AB1449:AB$2008)-ROW()+1))))","v":0},0]
[null,null,null,null,null,null,null,null,null,null,null,null,null,null,null,null,null,null,null,null,null,null,null,null,null,null,null,{"$f":"HISTO!P1449","v":0},{"$f":"IF(AC1449=\"\",\"Zonard\",INDEX(AB1450:AB$2008,MIN(IF(COUNTIF(AC$2:AC1449,AB1450:AB$2008),ROW(AB$2008)-ROW()+1,ROW(AB1450:AB$2008)-ROW()+1))))","v":0},0]
[null,null,null,null,null,null,null,null,null,null,null,null,null,null,null,null,null,null,null,null,null,null,null,null,null,null,null,{"$f":"HISTO!P1450","v":0},{"$f":"IF(AC1450=\"\",\"Zonard\",INDEX(AB1451:AB$2008,MIN(IF(COUNTIF(AC$2:AC1450,AB1451:AB$2008),ROW(AB$2008)-ROW()+1,ROW(AB1451:AB$2008)-ROW()+1))))","v":0},0]
[null,null,null,null,null,null,null,null,null,null,null,null,null,null,null,null,null,null,null,null,null,null,null,null,null,null,null,{"$f":"HISTO!P1451","v":0},{"$f":"IF(AC1451=\"\",\"Zonard\",INDEX(AB1452:AB$2008,MIN(IF(COUNTIF(AC$2:AC1451,AB1452:AB$2008),ROW(AB$2008)-ROW()+1,ROW(AB1452:AB$2008)-ROW()+1))))","v":0},0]
[null,null,null,null,null,null,null,null,null,null,null,null,null,null,null,null,null,null,null,null,null,null,null,null,null,null,null,{"$f":"HISTO!P1452","v":0},{"$f":"IF(AC1452=\"\",\"Zonard\",INDEX(AB1453:AB$2008,MIN(IF(COUNTIF(AC$2:AC1452,AB1453:AB$2008),ROW(AB$2008)-ROW()+1,ROW(AB1453:AB$2008)-ROW()+1))))","v":0},0]
[null,null,null,null,null,null,null,null,null,null,null,null,null,null,null,null,null,null,null,null,null,null,null,null,null,null,null,{"$f":"HISTO!P1453","v":0},{"$f":"IF(AC1453=\"\",\"Zonard\",INDEX(AB1454:AB$2008,MIN(IF(COUNTIF(AC$2:AC1453,AB1454:AB$2008),ROW(AB$2008)-ROW()+1,ROW(AB1454:AB$2008)-ROW()+1))))","v":0},0]
[null,null,null,null,null,null,null,null,null,null,null,null,null,null,null,null,null,null,null,null,null,null,null,null,null,null,null,{"$f":"HISTO!P1454","v":0},{"$f":"IF(AC1454=\"\",\"Zonard\",INDEX(AB1455:AB$2008,MIN(IF(COUNTIF(AC$2:AC1454,AB1455:AB$2008),ROW(AB$2008)-ROW()+1,ROW(AB1455:AB$2008)-ROW()+1))))","v":0},0]
[null,null,null,null,null,null,null,null,null,null,null,null,null,null,null,null,null,null,null,null,null,null,null,null,null,null,null,{"$f":"HISTO!P1455","v":0},{"$f":"IF(AC1455=\"\",\"Zonard\",INDEX(AB1456:AB$2008,MIN(IF(COUNTIF(AC$2:AC1455,AB1456:AB$2008),ROW(AB$2008)-ROW()+1,ROW(AB1456:AB$2008)-ROW()+1))))","v":0},0]
[null,null,null,null,null,null,null,null,null,null,null,null,null,null,null,null,null,null,null,null,null,null,null,null,null,null,null,{"$f":"HISTO!P1456","v":0},{"$f":"IF(AC1456=\"\",\"Zonard\",INDEX(AB1457:AB$2008,MIN(IF(COUNTIF(AC$2:AC1456,AB1457:AB$2008),ROW(AB$2008)-ROW()+1,ROW(AB1457:AB$2008)-ROW()+1))))","v":0},0]
[null,null,null,null,null,null,null,null,null,null,null,null,null,null,null,null,null,null,null,null,null,null,null,null,null,null,null,{"$f":"HISTO!P1457","v":0},{"$f":"IF(AC1457=\"\",\"Zonard\",INDEX(AB1458:AB$2008,MIN(IF(COUNTIF(AC$2:AC1457,AB1458:AB$2008),ROW(AB$2008)-ROW()+1,ROW(AB1458:AB$2008)-ROW()+1))))","v":0},0]
[null,null,null,null,null,null,null,null,null,null,null,null,null,null,null,null,null,null,null,null,null,null,null,null,null,null,null,{"$f":"HISTO!P1458","v":0},{"$f":"IF(AC1458=\"\",\"Zonard\",INDEX(AB1459:AB$2008,MIN(IF(COUNTIF(AC$2:AC1458,AB1459:AB$2008),ROW(AB$2008)-ROW()+1,ROW(AB1459:AB$2008)-ROW()+1))))","v":0},0]
[null,null,null,null,null,null,null,null,null,null,null,null,null,null,null,null,null,null,null,null,null,null,null,null,null,null,null,{"$f":"HISTO!P1459","v":0},{"$f":"IF(AC1459=\"\",\"Zonard\",INDEX(AB1460:AB$2008,MIN(IF(COUNTIF(AC$2:AC1459,AB1460:AB$2008),ROW(AB$2008)-ROW()+1,ROW(AB1460:AB$2008)-ROW()+1))))","v":0},0]
[null,null,null,null,null,null,null,null,null,null,null,null,null,null,null,null,null,null,null,null,null,null,null,null,null,null,null,{"$f":"HISTO!P1460","v":0},{"$f":"IF(AC1460=\"\",\"Zonard\",INDEX(AB1461:AB$2008,MIN(IF(COUNTIF(AC$2:AC1460,AB1461:AB$2008),ROW(AB$2008)-ROW()+1,ROW(AB1461:AB$2008)-ROW()+1))))","v":0},0]
[null,null,null,null,null,null,null,null,null,null,null,null,null,null,null,null,null,null,null,null,null,null,null,null,null,null,null,{"$f":"HISTO!P1461","v":0},{"$f":"IF(AC1461=\"\",\"Zonard\",INDEX(AB1462:AB$2008,MIN(IF(COUNTIF(AC$2:AC1461,AB1462:AB$2008),ROW(AB$2008)-ROW()+1,ROW(AB1462:AB$2008)-ROW()+1))))","v":0},0]
[null,null,null,null,null,null,null,null,null,null,null,null,null,null,null,null,null,null,null,null,null,null,null,null,null,null,null,{"$f":"HISTO!P1462","v":0},{"$f":"IF(AC1462=\"\",\"Zonard\",INDEX(AB1463:AB$2008,MIN(IF(COUNTIF(AC$2:AC1462,AB1463:AB$2008),ROW(AB$2008)-ROW()+1,ROW(AB1463:AB$2008)-ROW()+1))))","v":0},0]
[null,null,null,null,null,null,null,null,null,null,null,null,null,null,null,null,null,null,null,null,null,null,null,null,null,null,null,{"$f":"HISTO!P1463","v":0},{"$f":"IF(AC1463=\"\",\"Zonard\",INDEX(AB1464:AB$2008,MIN(IF(COUNTIF(AC$2:AC1463,AB1464:AB$2008),ROW(AB$2008)-ROW()+1,ROW(AB1464:AB$2008)-ROW()+1))))","v":0},0]
[null,null,null,null,null,null,null,null,null,null,null,null,null,null,null,null,null,null,null,null,null,null,null,null,null,null,null,{"$f":"HISTO!P1464","v":0},{"$f":"IF(AC1464=\"\",\"Zonard\",INDEX(AB1465:AB$2008,MIN(IF(COUNTIF(AC$2:AC1464,AB1465:AB$2008),ROW(AB$2008)-ROW()+1,ROW(AB1465:AB$2008)-ROW()+1))))","v":0},0]
[null,null,null,null,null,null,null,null,null,null,null,null,null,null,null,null,null,null,null,null,null,null,null,null,null,null,null,{"$f":"HISTO!P1465","v":0},{"$f":"IF(AC1465=\"\",\"Zonard\",INDEX(AB1466:AB$2008,MIN(IF(COUNTIF(AC$2:AC1465,AB1466:AB$2008),ROW(AB$2008)-ROW()+1,ROW(AB1466:AB$2008)-ROW()+1))))","v":0},0]
[null,null,null,null,null,null,null,null,null,null,null,null,null,null,null,null,null,null,null,null,null,null,null,null,null,null,null,{"$f":"HISTO!P1466","v":0},{"$f":"IF(AC1466=\"\",\"Zonard\",INDEX(AB1467:AB$2008,MIN(IF(COUNTIF(AC$2:AC1466,AB1467:AB$2008),ROW(AB$2008)-ROW()+1,ROW(AB1467:AB$2008)-ROW()+1))))","v":0},0]
[null,null,null,null,null,null,null,null,null,null,null,null,null,null,null,null,null,null,null,null,null,null,null,null,null,null,null,{"$f":"HISTO!P1467","v":0},{"$f":"IF(AC1467=\"\",\"Zonard\",INDEX(AB1468:AB$2008,MIN(IF(COUNTIF(AC$2:AC1467,AB1468:AB$2008),ROW(AB$2008)-ROW()+1,ROW(AB1468:AB$2008)-ROW()+1))))","v":0},0]
[null,null,null,null,null,null,null,null,null,null,null,null,null,null,null,null,null,null,null,null,null,null,null,null,null,null,null,{"$f":"HISTO!P1468","v":0},{"$f":"IF(AC1468=\"\",\"Zonard\",INDEX(AB1469:AB$2008,MIN(IF(COUNTIF(AC$2:AC1468,AB1469:AB$2008),ROW(AB$2008)-ROW()+1,ROW(AB1469:AB$2008)-ROW()+1))))","v":0},0]
[null,null,null,null,null,null,null,null,null,null,null,null,null,null,null,null,null,null,null,null,null,null,null,null,null,null,null,{"$f":"HISTO!P1469","v":0},{"$f":"IF(AC1469=\"\",\"Zonard\",INDEX(AB1470:AB$2008,MIN(IF(COUNTIF(AC$2:AC1469,AB1470:AB$2008),ROW(AB$2008)-ROW()+1,ROW(AB1470:AB$2008)-ROW()+1))))","v":0},0]
[null,null,null,null,null,null,null,null,null,null,null,null,null,null,null,null,null,null,null,null,null,null,null,null,null,null,null,{"$f":"HISTO!P1470","v":0},{"$f":"IF(AC1470=\"\",\"Zonard\",INDEX(AB1471:AB$2008,MIN(IF(COUNTIF(AC$2:AC1470,AB1471:AB$2008),ROW(AB$2008)-ROW()+1,ROW(AB1471:AB$2008)-ROW()+1))))","v":0},0]
[null,null,null,null,null,null,null,null,null,null,null,null,null,null,null,null,null,null,null,null,null,null,null,null,null,null,null,{"$f":"HISTO!P1471","v":0},{"$f":"IF(AC1471=\"\",\"Zonard\",INDEX(AB1472:AB$2008,MIN(IF(COUNTIF(AC$2:AC1471,AB1472:AB$2008),ROW(AB$2008)-ROW()+1,ROW(AB1472:AB$2008)-ROW()+1))))","v":0},0]
[null,null,null,null,null,null,null,null,null,null,null,null,null,null,null,null,null,null,null,null,null,null,null,null,null,null,null,{"$f":"HISTO!P1472","v":0},{"$f":"IF(AC1472=\"\",\"Zonard\",INDEX(AB1473:AB$2008,MIN(IF(COUNTIF(AC$2:AC1472,AB1473:AB$2008),ROW(AB$2008)-ROW()+1,ROW(AB1473:AB$2008)-ROW()+1))))","v":0},0]
[null,null,null,null,null,null,null,null,null,null,null,null,null,null,null,null,null,null,null,null,null,null,null,null,null,null,null,{"$f":"HISTO!P1473","v":0},{"$f":"IF(AC1473=\"\",\"Zonard\",INDEX(AB1474:AB$2008,MIN(IF(COUNTIF(AC$2:AC1473,AB1474:AB$2008),ROW(AB$2008)-ROW()+1,ROW(AB1474:AB$2008)-ROW()+1))))","v":0},0]
[null,null,null,null,null,null,null,null,null,null,null,null,null,null,null,null,null,null,null,null,null,null,null,null,null,null,null,{"$f":"HISTO!P1474","v":0},{"$f":"IF(AC1474=\"\",\"Zonard\",INDEX(AB1475:AB$2008,MIN(IF(COUNTIF(AC$2:AC1474,AB1475:AB$2008),ROW(AB$2008)-ROW()+1,ROW(AB1475:AB$2008)-ROW()+1))))","v":0},0]
[null,null,null,null,null,null,null,null,null,null,null,null,null,null,null,null,null,null,null,null,null,null,null,null,null,null,null,{"$f":"HISTO!P1475","v":0},{"$f":"IF(AC1475=\"\",\"Zonard\",INDEX(AB1476:AB$2008,MIN(IF(COUNTIF(AC$2:AC1475,AB1476:AB$2008),ROW(AB$2008)-ROW()+1,ROW(AB1476:AB$2008)-ROW()+1))))","v":0},0]
[null,null,null,null,null,null,null,null,null,null,null,null,null,null,null,null,null,null,null,null,null,null,null,null,null,null,null,{"$f":"HISTO!P1476","v":0},{"$f":"IF(AC1476=\"\",\"Zonard\",INDEX(AB1477:AB$2008,MIN(IF(COUNTIF(AC$2:AC1476,AB1477:AB$2008),ROW(AB$2008)-ROW()+1,ROW(AB1477:AB$2008)-ROW()+1))))","v":0},0]
[null,null,null,null,null,null,null,null,null,null,null,null,null,null,null,null,null,null,null,null,null,null,null,null,null,null,null,{"$f":"HISTO!P1477","v":0},{"$f":"IF(AC1477=\"\",\"Zonard\",INDEX(AB1478:AB$2008,MIN(IF(COUNTIF(AC$2:AC1477,AB1478:AB$2008),ROW(AB$2008)-ROW()+1,ROW(AB1478:AB$2008)-ROW()+1))))","v":0},0]
[null,null,null,null,null,null,null,null,null,null,null,null,null,null,null,null,null,null,null,null,null,null,null,null,null,null,null,{"$f":"HISTO!P1478","v":0},{"$f":"IF(AC1478=\"\",\"Zonard\",INDEX(AB1479:AB$2008,MIN(IF(COUNTIF(AC$2:AC1478,AB1479:AB$2008),ROW(AB$2008)-ROW()+1,ROW(AB1479:AB$2008)-ROW()+1))))","v":0},0]
[null,null,null,null,null,null,null,null,null,null,null,null,null,null,null,null,null,null,null,null,null,null,null,null,null,null,null,{"$f":"HISTO!P1479","v":0},{"$f":"IF(AC1479=\"\",\"Zonard\",INDEX(AB1480:AB$2008,MIN(IF(COUNTIF(AC$2:AC1479,AB1480:AB$2008),ROW(AB$2008)-ROW()+1,ROW(AB1480:AB$2008)-ROW()+1))))","v":0},0]
[null,null,null,null,null,null,null,null,null,null,null,null,null,null,null,null,null,null,null,null,null,null,null,null,null,null,null,{"$f":"HISTO!P1480","v":0},{"$f":"IF(AC1480=\"\",\"Zonard\",INDEX(AB1481:AB$2008,MIN(IF(COUNTIF(AC$2:AC1480,AB1481:AB$2008),ROW(AB$2008)-ROW()+1,ROW(AB1481:AB$2008)-ROW()+1))))","v":0},0]
[null,null,null,null,null,null,null,null,null,null,null,null,null,null,null,null,null,null,null,null,null,null,null,null,null,null,null,{"$f":"HISTO!P1481","v":0},{"$f":"IF(AC1481=\"\",\"Zonard\",INDEX(AB1482:AB$2008,MIN(IF(COUNTIF(AC$2:AC1481,AB1482:AB$2008),ROW(AB$2008)-ROW()+1,ROW(AB1482:AB$2008)-ROW()+1))))","v":0},0]
[null,null,null,null,null,null,null,null,null,null,null,null,null,null,null,null,null,null,null,null,null,null,null,null,null,null,null,{"$f":"HISTO!P1482","v":0},{"$f":"IF(AC1482=\"\",\"Zonard\",INDEX(AB1483:AB$2008,MIN(IF(COUNTIF(AC$2:AC1482,AB1483:AB$2008),ROW(AB$2008)-ROW()+1,ROW(AB1483:AB$2008)-ROW()+1))))","v":0},0]
[null,null,null,null,null,null,null,null,null,null,null,null,null,null,null,null,null,null,null,null,null,null,null,null,null,null,null,{"$f":"HISTO!P1483","v":0},{"$f":"IF(AC1483=\"\",\"Zonard\",INDEX(AB1484:AB$2008,MIN(IF(COUNTIF(AC$2:AC1483,AB1484:AB$2008),ROW(AB$2008)-ROW()+1,ROW(AB1484:AB$2008)-ROW()+1))))","v":0},0]
[null,null,null,null,null,null,null,null,null,null,null,null,null,null,null,null,null,null,null,null,null,null,null,null,null,null,null,{"$f":"HISTO!P1484","v":0},{"$f":"IF(AC1484=\"\",\"Zonard\",INDEX(AB1485:AB$2008,MIN(IF(COUNTIF(AC$2:AC1484,AB1485:AB$2008),ROW(AB$2008)-ROW()+1,ROW(AB1485:AB$2008)-ROW()+1))))","v":0},0]
[null,null,null,null,null,null,null,null,null,null,null,null,null,null,null,null,null,null,null,null,null,null,null,null,null,null,null,{"$f":"HISTO!P1485","v":0},{"$f":"IF(AC1485=\"\",\"Zonard\",INDEX(AB1486:AB$2008,MIN(IF(COUNTIF(AC$2:AC1485,AB1486:AB$2008),ROW(AB$2008)-ROW()+1,ROW(AB1486:AB$2008)-ROW()+1))))","v":0},0]
[null,null,null,null,null,null,null,null,null,null,null,null,null,null,null,null,null,null,null,null,null,null,null,null,null,null,null,{"$f":"HISTO!P1486","v":0},{"$f":"IF(AC1486=\"\",\"Zonard\",INDEX(AB1487:AB$2008,MIN(IF(COUNTIF(AC$2:AC1486,AB1487:AB$2008),ROW(AB$2008)-ROW()+1,ROW(AB1487:AB$2008)-ROW()+1))))","v":0},0]
[null,null,null,null,null,null,null,null,null,null,null,null,null,null,null,null,null,null,null,null,null,null,null,null,null,null,null,{"$f":"HISTO!P1487","v":0},{"$f":"IF(AC1487=\"\",\"Zonard\",INDEX(AB1488:AB$2008,MIN(IF(COUNTIF(AC$2:AC1487,AB1488:AB$2008),ROW(AB$2008)-ROW()+1,ROW(AB1488:AB$2008)-ROW()+1))))","v":0},0]
[null,null,null,null,null,null,null,null,null,null,null,null,null,null,null,null,null,null,null,null,null,null,null,null,null,null,null,{"$f":"HISTO!P1488","v":0},{"$f":"IF(AC1488=\"\",\"Zonard\",INDEX(AB1489:AB$2008,MIN(IF(COUNTIF(AC$2:AC1488,AB1489:AB$2008),ROW(AB$2008)-ROW()+1,ROW(AB1489:AB$2008)-ROW()+1))))","v":0},0]
[null,null,null,null,null,null,null,null,null,null,null,null,null,null,null,null,null,null,null,null,null,null,null,null,null,null,null,{"$f":"HISTO!P1489","v":0},{"$f":"IF(AC1489=\"\",\"Zonard\",INDEX(AB1490:AB$2008,MIN(IF(COUNTIF(AC$2:AC1489,AB1490:AB$2008),ROW(AB$2008)-ROW()+1,ROW(AB1490:AB$2008)-ROW()+1))))","v":0},0]
[null,null,null,null,null,null,null,null,null,null,null,null,null,null,null,null,null,null,null,null,null,null,null,null,null,null,null,{"$f":"HISTO!P1490","v":0},{"$f":"IF(AC1490=\"\",\"Zonard\",INDEX(AB1491:AB$2008,MIN(IF(COUNTIF(AC$2:AC1490,AB1491:AB$2008),ROW(AB$2008)-ROW()+1,ROW(AB1491:AB$2008)-ROW()+1))))","v":0},0]
[null,null,null,null,null,null,null,null,null,null,null,null,null,null,null,null,null,null,null,null,null,null,null,null,null,null,null,{"$f":"HISTO!P1491","v":0},{"$f":"IF(AC1491=\"\",\"Zonard\",INDEX(AB1492:AB$2008,MIN(IF(COUNTIF(AC$2:AC1491,AB1492:AB$2008),ROW(AB$2008)-ROW()+1,ROW(AB1492:AB$2008)-ROW()+1))))","v":0},0]
[null,null,null,null,null,null,null,null,null,null,null,null,null,null,null,null,null,null,null,null,null,null,null,null,null,null,null,{"$f":"HISTO!P1492","v":0},{"$f":"IF(AC1492=\"\",\"Zonard\",INDEX(AB1493:AB$2008,MIN(IF(COUNTIF(AC$2:AC1492,AB1493:AB$2008),ROW(AB$2008)-ROW()+1,ROW(AB1493:AB$2008)-ROW()+1))))","v":0},0]
[null,null,null,null,null,null,null,null,null,null,null,null,null,null,null,null,null,null,null,null,null,null,null,null,null,null,null,{"$f":"HISTO!P1493","v":0},{"$f":"IF(AC1493=\"\",\"Zonard\",INDEX(AB1494:AB$2008,MIN(IF(COUNTIF(AC$2:AC1493,AB1494:AB$2008),ROW(AB$2008)-ROW()+1,ROW(AB1494:AB$2008)-ROW()+1))))","v":0},0]
[null,null,null,null,null,null,null,null,null,null,null,null,null,null,null,null,null,null,null,null,null,null,null,null,null,null,null,{"$f":"HISTO!P1494","v":0},{"$f":"IF(AC1494=\"\",\"Zonard\",INDEX(AB1495:AB$2008,MIN(IF(COUNTIF(AC$2:AC1494,AB1495:AB$2008),ROW(AB$2008)-ROW()+1,ROW(AB1495:AB$2008)-ROW()+1))))","v":0},0]
[null,null,null,null,null,null,null,null,null,null,null,null,null,null,null,null,null,null,null,null,null,null,null,null,null,null,null,{"$f":"HISTO!P1495","v":0},{"$f":"IF(AC1495=\"\",\"Zonard\",INDEX(AB1496:AB$2008,MIN(IF(COUNTIF(AC$2:AC1495,AB1496:AB$2008),ROW(AB$2008)-ROW()+1,ROW(AB1496:AB$2008)-ROW()+1))))","v":0},0]
[null,null,null,null,null,null,null,null,null,null,null,null,null,null,null,null,null,null,null,null,null,null,null,null,null,null,null,{"$f":"HISTO!P1496","v":0},{"$f":"IF(AC1496=\"\",\"Zonard\",INDEX(AB1497:AB$2008,MIN(IF(COUNTIF(AC$2:AC1496,AB1497:AB$2008),ROW(AB$2008)-ROW()+1,ROW(AB1497:AB$2008)-ROW()+1))))","v":0},0]
[null,null,null,null,null,null,null,null,null,null,null,null,null,null,null,null,null,null,null,null,null,null,null,null,null,null,null,{"$f":"HISTO!P1497","v":0},{"$f":"IF(AC1497=\"\",\"Zonard\",INDEX(AB1498:AB$2008,MIN(IF(COUNTIF(AC$2:AC1497,AB1498:AB$2008),ROW(AB$2008)-ROW()+1,ROW(AB1498:AB$2008)-ROW()+1))))","v":0},0]
[null,null,null,null,null,null,null,null,null,null,null,null,null,null,null,null,null,null,null,null,null,null,null,null,null,null,null,{"$f":"HISTO!P1498","v":0},{"$f":"IF(AC1498=\"\",\"Zonard\",INDEX(AB1499:AB$2008,MIN(IF(COUNTIF(AC$2:AC1498,AB1499:AB$2008),ROW(AB$2008)-ROW()+1,ROW(AB1499:AB$2008)-ROW()+1))))","v":0},0]
[null,null,null,null,null,null,null,null,null,null,null,null,null,null,null,null,null,null,null,null,null,null,null,null,null,null,null,{"$f":"HISTO!P1499","v":0},{"$f":"IF(AC1499=\"\",\"Zonard\",INDEX(AB1500:AB$2008,MIN(IF(COUNTIF(AC$2:AC1499,AB1500:AB$2008),ROW(AB$2008)-ROW()+1,ROW(AB1500:AB$2008)-ROW()+1))))","v":0},0]
[null,null,null,null,null,null,null,null,null,null,null,null,null,null,null,null,null,null,null,null,null,null,null,null,null,null,null,{"$f":"HISTO!P1500","v":0},{"$f":"IF(AC1500=\"\",\"Zonard\",INDEX(AB1501:AB$2008,MIN(IF(COUNTIF(AC$2:AC1500,AB1501:AB$2008),ROW(AB$2008)-ROW()+1,ROW(AB1501:AB$2008)-ROW()+1))))","v":0},0]
[null,null,null,null,null,null,null,null,null,null,null,null,null,null,null,null,null,null,null,null,null,null,null,null,null,null,null,{"$f":"HISTO!P1501","v":0},{"$f":"IF(AC1501=\"\",\"Zonard\",INDEX(AB1502:AB$2008,MIN(IF(COUNTIF(AC$2:AC1501,AB1502:AB$2008),ROW(AB$2008)-ROW()+1,ROW(AB1502:AB$2008)-ROW()+1))))","v":0},0]
[null,null,null,null,null,null,null,null,null,null,null,null,null,null,null,null,null,null,null,null,null,null,null,null,null,null,null,{"$f":"HISTO!P1502","v":0},{"$f":"IF(AC1502=\"\",\"Zonard\",INDEX(AB1503:AB$2008,MIN(IF(COUNTIF(AC$2:AC1502,AB1503:AB$2008),ROW(AB$2008)-ROW()+1,ROW(AB1503:AB$2008)-ROW()+1))))","v":0},0]
[null,null,null,null,null,null,null,null,null,null,null,null,null,null,null,null,null,null,null,null,null,null,null,null,null,null,null,{"$f":"HISTO!P1503","v":0},{"$f":"IF(AC1503=\"\",\"Zonard\",INDEX(AB1504:AB$2008,MIN(IF(COUNTIF(AC$2:AC1503,AB1504:AB$2008),ROW(AB$2008)-ROW()+1,ROW(AB1504:AB$2008)-ROW()+1))))","v":0},0]
[null,null,null,null,null,null,null,null,null,null,null,null,null,null,null,null,null,null,null,null,null,null,null,null,null,null,null,{"$f":"HISTO!P1504","v":0},{"$f":"IF(AC1504=\"\",\"Zonard\",INDEX(AB1505:AB$2008,MIN(IF(COUNTIF(AC$2:AC1504,AB1505:AB$2008),ROW(AB$2008)-ROW()+1,ROW(AB1505:AB$2008)-ROW()+1))))","v":0},0]
[null,null,null,null,null,null,null,null,null,null,null,null,null,null,null,null,null,null,null,null,null,null,null,null,null,null,null,{"$f":"HISTO!P1505","v":0},{"$f":"IF(AC1505=\"\",\"Zonard\",INDEX(AB1506:AB$2008,MIN(IF(COUNTIF(AC$2:AC1505,AB1506:AB$2008),ROW(AB$2008)-ROW()+1,ROW(AB1506:AB$2008)-ROW()+1))))","v":0},0]
[null,null,null,null,null,null,null,null,null,null,null,null,null,null,null,null,null,null,null,null,null,null,null,null,null,null,null,{"$f":"HISTO!P1506","v":0},{"$f":"IF(AC1506=\"\",\"Zonard\",INDEX(AB1507:AB$2008,MIN(IF(COUNTIF(AC$2:AC1506,AB1507:AB$2008),ROW(AB$2008)-ROW()+1,ROW(AB1507:AB$2008)-ROW()+1))))","v":0},0]
[null,null,null,null,null,null,null,null,null,null,null,null,null,null,null,null,null,null,null,null,null,null,null,null,null,null,null,{"$f":"HISTO!P1507","v":0},{"$f":"IF(AC1507=\"\",\"Zonard\",INDEX(AB1508:AB$2008,MIN(IF(COUNTIF(AC$2:AC1507,AB1508:AB$2008),ROW(AB$2008)-ROW()+1,ROW(AB1508:AB$2008)-ROW()+1))))","v":0},0]
[null,null,null,null,null,null,null,null,null,null,null,null,null,null,null,null,null,null,null,null,null,null,null,null,null,null,null,{"$f":"HISTO!P1508","v":0},{"$f":"IF(AC1508=\"\",\"Zonard\",INDEX(AB1509:AB$2008,MIN(IF(COUNTIF(AC$2:AC1508,AB1509:AB$2008),ROW(AB$2008)-ROW()+1,ROW(AB1509:AB$2008)-ROW()+1))))","v":0},0]
[null,null,null,null,null,null,null,null,null,null,null,null,null,null,null,null,null,null,null,null,null,null,null,null,null,null,null,{"$f":"HISTO!P1509","v":0},{"$f":"IF(AC1509=\"\",\"Zonard\",INDEX(AB1510:AB$2008,MIN(IF(COUNTIF(AC$2:AC1509,AB1510:AB$2008),ROW(AB$2008)-ROW()+1,ROW(AB1510:AB$2008)-ROW()+1))))","v":0},0]
[null,null,null,null,null,null,null,null,null,null,null,null,null,null,null,null,null,null,null,null,null,null,null,null,null,null,null,{"$f":"HISTO!P1510","v":0},{"$f":"IF(AC1510=\"\",\"Zonard\",INDEX(AB1511:AB$2008,MIN(IF(COUNTIF(AC$2:AC1510,AB1511:AB$2008),ROW(AB$2008)-ROW()+1,ROW(AB1511:AB$2008)-ROW()+1))))","v":0},0]
[null,null,null,null,null,null,null,null,null,null,null,null,null,null,null,null,null,null,null,null,null,null,null,null,null,null,null,{"$f":"HISTO!P1511","v":0},{"$f":"IF(AC1511=\"\",\"Zonard\",INDEX(AB1512:AB$2008,MIN(IF(COUNTIF(AC$2:AC1511,AB1512:AB$2008),ROW(AB$2008)-ROW()+1,ROW(AB1512:AB$2008)-ROW()+1))))","v":0},0]
[null,null,null,null,null,null,null,null,null,null,null,null,null,null,null,null,null,null,null,null,null,null,null,null,null,null,null,{"$f":"HISTO!P1512","v":0},{"$f":"IF(AC1512=\"\",\"Zonard\",INDEX(AB1513:AB$2008,MIN(IF(COUNTIF(AC$2:AC1512,AB1513:AB$2008),ROW(AB$2008)-ROW()+1,ROW(AB1513:AB$2008)-ROW()+1))))","v":0},0]
[null,null,null,null,null,null,null,null,null,null,null,null,null,null,null,null,null,null,null,null,null,null,null,null,null,null,null,{"$f":"HISTO!P1513","v":0},{"$f":"IF(AC1513=\"\",\"Zonard\",INDEX(AB1514:AB$2008,MIN(IF(COUNTIF(AC$2:AC1513,AB1514:AB$2008),ROW(AB$2008)-ROW()+1,ROW(AB1514:AB$2008)-ROW()+1))))","v":0},0]
[null,null,null,null,null,null,null,null,null,null,null,null,null,null,null,null,null,null,null,null,null,null,null,null,null,null,null,{"$f":"HISTO!P1514","v":0},{"$f":"IF(AC1514=\"\",\"Zonard\",INDEX(AB1515:AB$2008,MIN(IF(COUNTIF(AC$2:AC1514,AB1515:AB$2008),ROW(AB$2008)-ROW()+1,ROW(AB1515:AB$2008)-ROW()+1))))","v":0},0]
[null,null,null,null,null,null,null,null,null,null,null,null,null,null,null,null,null,null,null,null,null,null,null,null,null,null,null,{"$f":"HISTO!P1515","v":0},{"$f":"IF(AC1515=\"\",\"Zonard\",INDEX(AB1516:AB$2008,MIN(IF(COUNTIF(AC$2:AC1515,AB1516:AB$2008),ROW(AB$2008)-ROW()+1,ROW(AB1516:AB$2008)-ROW()+1))))","v":0},0]
[null,null,null,null,null,null,null,null,null,null,null,null,null,null,null,null,null,null,null,null,null,null,null,null,null,null,null,{"$f":"HISTO!P1516","v":0},{"$f":"IF(AC1516=\"\",\"Zonard\",INDEX(AB1517:AB$2008,MIN(IF(COUNTIF(AC$2:AC1516,AB1517:AB$2008),ROW(AB$2008)-ROW()+1,ROW(AB1517:AB$2008)-ROW()+1))))","v":0},0]
[null,null,null,null,null,null,null,null,null,null,null,null,null,null,null,null,null,null,null,null,null,null,null,null,null,null,null,{"$f":"HISTO!P1517","v":0},{"$f":"IF(AC1517=\"\",\"Zonard\",INDEX(AB1518:AB$2008,MIN(IF(COUNTIF(AC$2:AC1517,AB1518:AB$2008),ROW(AB$2008)-ROW()+1,ROW(AB1518:AB$2008)-ROW()+1))))","v":0},0]
[null,null,null,null,null,null,null,null,null,null,null,null,null,null,null,null,null,null,null,null,null,null,null,null,null,null,null,{"$f":"HISTO!P1518","v":0},{"$f":"IF(AC1518=\"\",\"Zonard\",INDEX(AB1519:AB$2008,MIN(IF(COUNTIF(AC$2:AC1518,AB1519:AB$2008),ROW(AB$2008)-ROW()+1,ROW(AB1519:AB$2008)-ROW()+1))))","v":0},0]
[null,null,null,null,null,null,null,null,null,null,null,null,null,null,null,null,null,null,null,null,null,null,null,null,null,null,null,{"$f":"HISTO!P1519","v":0},{"$f":"IF(AC1519=\"\",\"Zonard\",INDEX(AB1520:AB$2008,MIN(IF(COUNTIF(AC$2:AC1519,AB1520:AB$2008),ROW(AB$2008)-ROW()+1,ROW(AB1520:AB$2008)-ROW()+1))))","v":0},0]
[null,null,null,null,null,null,null,null,null,null,null,null,null,null,null,null,null,null,null,null,null,null,null,null,null,null,null,{"$f":"HISTO!P1520","v":0},{"$f":"IF(AC1520=\"\",\"Zonard\",INDEX(AB1521:AB$2008,MIN(IF(COUNTIF(AC$2:AC1520,AB1521:AB$2008),ROW(AB$2008)-ROW()+1,ROW(AB1521:AB$2008)-ROW()+1))))","v":0},0]
[null,null,null,null,null,null,null,null,null,null,null,null,null,null,null,null,null,null,null,null,null,null,null,null,null,null,null,{"$f":"HISTO!P1521","v":0},{"$f":"IF(AC1521=\"\",\"Zonard\",INDEX(AB1522:AB$2008,MIN(IF(COUNTIF(AC$2:AC1521,AB1522:AB$2008),ROW(AB$2008)-ROW()+1,ROW(AB1522:AB$2008)-ROW()+1))))","v":0},0]
[null,null,null,null,null,null,null,null,null,null,null,null,null,null,null,null,null,null,null,null,null,null,null,null,null,null,null,{"$f":"HISTO!P1522","v":0},{"$f":"IF(AC1522=\"\",\"Zonard\",INDEX(AB1523:AB$2008,MIN(IF(COUNTIF(AC$2:AC1522,AB1523:AB$2008),ROW(AB$2008)-ROW()+1,ROW(AB1523:AB$2008)-ROW()+1))))","v":0},0]
[null,null,null,null,null,null,null,null,null,null,null,null,null,null,null,null,null,null,null,null,null,null,null,null,null,null,null,{"$f":"HISTO!P1523","v":0},{"$f":"IF(AC1523=\"\",\"Zonard\",INDEX(AB1524:AB$2008,MIN(IF(COUNTIF(AC$2:AC1523,AB1524:AB$2008),ROW(AB$2008)-ROW()+1,ROW(AB1524:AB$2008)-ROW()+1))))","v":0},0]
[null,null,null,null,null,null,null,null,null,null,null,null,null,null,null,null,null,null,null,null,null,null,null,null,null,null,null,{"$f":"HISTO!P1524","v":0},{"$f":"IF(AC1524=\"\",\"Zonard\",INDEX(AB1525:AB$2008,MIN(IF(COUNTIF(AC$2:AC1524,AB1525:AB$2008),ROW(AB$2008)-ROW()+1,ROW(AB1525:AB$2008)-ROW()+1))))","v":0},0]
[null,null,null,null,null,null,null,null,null,null,null,null,null,null,null,null,null,null,null,null,null,null,null,null,null,null,null,{"$f":"HISTO!P1525","v":0},{"$f":"IF(AC1525=\"\",\"Zonard\",INDEX(AB1526:AB$2008,MIN(IF(COUNTIF(AC$2:AC1525,AB1526:AB$2008),ROW(AB$2008)-ROW()+1,ROW(AB1526:AB$2008)-ROW()+1))))","v":0},0]
[null,null,null,null,null,null,null,null,null,null,null,null,null,null,null,null,null,null,null,null,null,null,null,null,null,null,null,{"$f":"HISTO!P1526","v":0},{"$f":"IF(AC1526=\"\",\"Zonard\",INDEX(AB1527:AB$2008,MIN(IF(COUNTIF(AC$2:AC1526,AB1527:AB$2008),ROW(AB$2008)-ROW()+1,ROW(AB1527:AB$2008)-ROW()+1))))","v":0},0]
[null,null,null,null,null,null,null,null,null,null,null,null,null,null,null,null,null,null,null,null,null,null,null,null,null,null,null,{"$f":"HISTO!P1527","v":0},{"$f":"IF(AC1527=\"\",\"Zonard\",INDEX(AB1528:AB$2008,MIN(IF(COUNTIF(AC$2:AC1527,AB1528:AB$2008),ROW(AB$2008)-ROW()+1,ROW(AB1528:AB$2008)-ROW()+1))))","v":0},0]
[null,null,null,null,null,null,null,null,null,null,null,null,null,null,null,null,null,null,null,null,null,null,null,null,null,null,null,{"$f":"HISTO!P1528","v":0},{"$f":"IF(AC1528=\"\",\"Zonard\",INDEX(AB1529:AB$2008,MIN(IF(COUNTIF(AC$2:AC1528,AB1529:AB$2008),ROW(AB$2008)-ROW()+1,ROW(AB1529:AB$2008)-ROW()+1))))","v":0},0]
[null,null,null,null,null,null,null,null,null,null,null,null,null,null,null,null,null,null,null,null,null,null,null,null,null,null,null,{"$f":"HISTO!P1529","v":0},{"$f":"IF(AC1529=\"\",\"Zonard\",INDEX(AB1530:AB$2008,MIN(IF(COUNTIF(AC$2:AC1529,AB1530:AB$2008),ROW(AB$2008)-ROW()+1,ROW(AB1530:AB$2008)-ROW()+1))))","v":0},0]
[null,null,null,null,null,null,null,null,null,null,null,null,null,null,null,null,null,null,null,null,null,null,null,null,null,null,null,{"$f":"HISTO!P1530","v":0},{"$f":"IF(AC1530=\"\",\"Zonard\",INDEX(AB1531:AB$2008,MIN(IF(COUNTIF(AC$2:AC1530,AB1531:AB$2008),ROW(AB$2008)-ROW()+1,ROW(AB1531:AB$2008)-ROW()+1))))","v":0},0]
[null,null,null,null,null,null,null,null,null,null,null,null,null,null,null,null,null,null,null,null,null,null,null,null,null,null,null,{"$f":"HISTO!P1531","v":0},{"$f":"IF(AC1531=\"\",\"Zonard\",INDEX(AB1532:AB$2008,MIN(IF(COUNTIF(AC$2:AC1531,AB1532:AB$2008),ROW(AB$2008)-ROW()+1,ROW(AB1532:AB$2008)-ROW()+1))))","v":0},0]
[null,null,null,null,null,null,null,null,null,null,null,null,null,null,null,null,null,null,null,null,null,null,null,null,null,null,null,{"$f":"HISTO!P1532","v":0},{"$f":"IF(AC1532=\"\",\"Zonard\",INDEX(AB1533:AB$2008,MIN(IF(COUNTIF(AC$2:AC1532,AB1533:AB$2008),ROW(AB$2008)-ROW()+1,ROW(AB1533:AB$2008)-ROW()+1))))","v":0},0]
[null,null,null,null,null,null,null,null,null,null,null,null,null,null,null,null,null,null,null,null,null,null,null,null,null,null,null,{"$f":"HISTO!P1533","v":0},{"$f":"IF(AC1533=\"\",\"Zonard\",INDEX(AB1534:AB$2008,MIN(IF(COUNTIF(AC$2:AC1533,AB1534:AB$2008),ROW(AB$2008)-ROW()+1,ROW(AB1534:AB$2008)-ROW()+1))))","v":0},0]
[null,null,null,null,null,null,null,null,null,null,null,null,null,null,null,null,null,null,null,null,null,null,null,null,null,null,null,{"$f":"HISTO!P1534","v":0},{"$f":"IF(AC1534=\"\",\"Zonard\",INDEX(AB1535:AB$2008,MIN(IF(COUNTIF(AC$2:AC1534,AB1535:AB$2008),ROW(AB$2008)-ROW()+1,ROW(AB1535:AB$2008)-ROW()+1))))","v":0},0]
[null,null,null,null,null,null,null,null,null,null,null,null,null,null,null,null,null,null,null,null,null,null,null,null,null,null,null,{"$f":"HISTO!P1535","v":0},{"$f":"IF(AC1535=\"\",\"Zonard\",INDEX(AB1536:AB$2008,MIN(IF(COUNTIF(AC$2:AC1535,AB1536:AB$2008),ROW(AB$2008)-ROW()+1,ROW(AB1536:AB$2008)-ROW()+1))))","v":0},0]
[null,null,null,null,null,null,null,null,null,null,null,null,null,null,null,null,null,null,null,null,null,null,null,null,null,null,null,{"$f":"HISTO!P1536","v":0},{"$f":"IF(AC1536=\"\",\"Zonard\",INDEX(AB1537:AB$2008,MIN(IF(COUNTIF(AC$2:AC1536,AB1537:AB$2008),ROW(AB$2008)-ROW()+1,ROW(AB1537:AB$2008)-ROW()+1))))","v":0},0]
[null,null,null,null,null,null,null,null,null,null,null,null,null,null,null,null,null,null,null,null,null,null,null,null,null,null,null,{"$f":"HISTO!P1537","v":0},{"$f":"IF(AC1537=\"\",\"Zonard\",INDEX(AB1538:AB$2008,MIN(IF(COUNTIF(AC$2:AC1537,AB1538:AB$2008),ROW(AB$2008)-ROW()+1,ROW(AB1538:AB$2008)-ROW()+1))))","v":0},0]
[null,null,null,null,null,null,null,null,null,null,null,null,null,null,null,null,null,null,null,null,null,null,null,null,null,null,null,{"$f":"HISTO!P1538","v":0},{"$f":"IF(AC1538=\"\",\"Zonard\",INDEX(AB1539:AB$2008,MIN(IF(COUNTIF(AC$2:AC1538,AB1539:AB$2008),ROW(AB$2008)-ROW()+1,ROW(AB1539:AB$2008)-ROW()+1))))","v":0},0]
[null,null,null,null,null,null,null,null,null,null,null,null,null,null,null,null,null,null,null,null,null,null,null,null,null,null,null,{"$f":"HISTO!P1539","v":0},{"$f":"IF(AC1539=\"\",\"Zonard\",INDEX(AB1540:AB$2008,MIN(IF(COUNTIF(AC$2:AC1539,AB1540:AB$2008),ROW(AB$2008)-ROW()+1,ROW(AB1540:AB$2008)-ROW()+1))))","v":0},0]
[null,null,null,null,null,null,null,null,null,null,null,null,null,null,null,null,null,null,null,null,null,null,null,null,null,null,null,{"$f":"HISTO!P1540","v":0},{"$f":"IF(AC1540=\"\",\"Zonard\",INDEX(AB1541:AB$2008,MIN(IF(COUNTIF(AC$2:AC1540,AB1541:AB$2008),ROW(AB$2008)-ROW()+1,ROW(AB1541:AB$2008)-ROW()+1))))","v":0},0]
[null,null,null,null,null,null,null,null,null,null,null,null,null,null,null,null,null,null,null,null,null,null,null,null,null,null,null,{"$f":"HISTO!P1541","v":0},{"$f":"IF(AC1541=\"\",\"Zonard\",INDEX(AB1542:AB$2008,MIN(IF(COUNTIF(AC$2:AC1541,AB1542:AB$2008),ROW(AB$2008)-ROW()+1,ROW(AB1542:AB$2008)-ROW()+1))))","v":0},0]
[null,null,null,null,null,null,null,null,null,null,null,null,null,null,null,null,null,null,null,null,null,null,null,null,null,null,null,{"$f":"HISTO!P1542","v":0},{"$f":"IF(AC1542=\"\",\"Zonard\",INDEX(AB1543:AB$2008,MIN(IF(COUNTIF(AC$2:AC1542,AB1543:AB$2008),ROW(AB$2008)-ROW()+1,ROW(AB1543:AB$2008)-ROW()+1))))","v":0},0]
[null,null,null,null,null,null,null,null,null,null,null,null,null,null,null,null,null,null,null,null,null,null,null,null,null,null,null,{"$f":"HISTO!P1543","v":0},{"$f":"IF(AC1543=\"\",\"Zonard\",INDEX(AB1544:AB$2008,MIN(IF(COUNTIF(AC$2:AC1543,AB1544:AB$2008),ROW(AB$2008)-ROW()+1,ROW(AB1544:AB$2008)-ROW()+1))))","v":0},0]
[null,null,null,null,null,null,null,null,null,null,null,null,null,null,null,null,null,null,null,null,null,null,null,null,null,null,null,{"$f":"HISTO!P1544","v":0},{"$f":"IF(AC1544=\"\",\"Zonard\",INDEX(AB1545:AB$2008,MIN(IF(COUNTIF(AC$2:AC1544,AB1545:AB$2008),ROW(AB$2008)-ROW()+1,ROW(AB1545:AB$2008)-ROW()+1))))","v":0},0]
[null,null,null,null,null,null,null,null,null,null,null,null,null,null,null,null,null,null,null,null,null,null,null,null,null,null,null,{"$f":"HISTO!P1545","v":0},{"$f":"IF(AC1545=\"\",\"Zonard\",INDEX(AB1546:AB$2008,MIN(IF(COUNTIF(AC$2:AC1545,AB1546:AB$2008),ROW(AB$2008)-ROW()+1,ROW(AB1546:AB$2008)-ROW()+1))))","v":0},0]
[null,null,null,null,null,null,null,null,null,null,null,null,null,null,null,null,null,null,null,null,null,null,null,null,null,null,null,{"$f":"HISTO!P1546","v":0},{"$f":"IF(AC1546=\"\",\"Zonard\",INDEX(AB1547:AB$2008,MIN(IF(COUNTIF(AC$2:AC1546,AB1547:AB$2008),ROW(AB$2008)-ROW()+1,ROW(AB1547:AB$2008)-ROW()+1))))","v":0},0]
[null,null,null,null,null,null,null,null,null,null,null,null,null,null,null,null,null,null,null,null,null,null,null,null,null,null,null,{"$f":"HISTO!P1547","v":0},{"$f":"IF(AC1547=\"\",\"Zonard\",INDEX(AB1548:AB$2008,MIN(IF(COUNTIF(AC$2:AC1547,AB1548:AB$2008),ROW(AB$2008)-ROW()+1,ROW(AB1548:AB$2008)-ROW()+1))))","v":0},0]
[null,null,null,null,null,null,null,null,null,null,null,null,null,null,null,null,null,null,null,null,null,null,null,null,null,null,null,{"$f":"HISTO!P1548","v":0},{"$f":"IF(AC1548=\"\",\"Zonard\",INDEX(AB1549:AB$2008,MIN(IF(COUNTIF(AC$2:AC1548,AB1549:AB$2008),ROW(AB$2008)-ROW()+1,ROW(AB1549:AB$2008)-ROW()+1))))","v":0},0]
[null,null,null,null,null,null,null,null,null,null,null,null,null,null,null,null,null,null,null,null,null,null,null,null,null,null,null,{"$f":"HISTO!P1549","v":0},{"$f":"IF(AC1549=\"\",\"Zonard\",INDEX(AB1550:AB$2008,MIN(IF(COUNTIF(AC$2:AC1549,AB1550:AB$2008),ROW(AB$2008)-ROW()+1,ROW(AB1550:AB$2008)-ROW()+1))))","v":0},0]
[null,null,null,null,null,null,null,null,null,null,null,null,null,null,null,null,null,null,null,null,null,null,null,null,null,null,null,{"$f":"HISTO!P1550","v":0},{"$f":"IF(AC1550=\"\",\"Zonard\",INDEX(AB1551:AB$2008,MIN(IF(COUNTIF(AC$2:AC1550,AB1551:AB$2008),ROW(AB$2008)-ROW()+1,ROW(AB1551:AB$2008)-ROW()+1))))","v":0},0]
[null,null,null,null,null,null,null,null,null,null,null,null,null,null,null,null,null,null,null,null,null,null,null,null,null,null,null,{"$f":"HISTO!P1551","v":0},{"$f":"IF(AC1551=\"\",\"Zonard\",INDEX(AB1552:AB$2008,MIN(IF(COUNTIF(AC$2:AC1551,AB1552:AB$2008),ROW(AB$2008)-ROW()+1,ROW(AB1552:AB$2008)-ROW()+1))))","v":0},0]
[null,null,null,null,null,null,null,null,null,null,null,null,null,null,null,null,null,null,null,null,null,null,null,null,null,null,null,{"$f":"HISTO!P1552","v":0},{"$f":"IF(AC1552=\"\",\"Zonard\",INDEX(AB1553:AB$2008,MIN(IF(COUNTIF(AC$2:AC1552,AB1553:AB$2008),ROW(AB$2008)-ROW()+1,ROW(AB1553:AB$2008)-ROW()+1))))","v":0},0]
[null,null,null,null,null,null,null,null,null,null,null,null,null,null,null,null,null,null,null,null,null,null,null,null,null,null,null,{"$f":"HISTO!P1553","v":0},{"$f":"IF(AC1553=\"\",\"Zonard\",INDEX(AB1554:AB$2008,MIN(IF(COUNTIF(AC$2:AC1553,AB1554:AB$2008),ROW(AB$2008)-ROW()+1,ROW(AB1554:AB$2008)-ROW()+1))))","v":0},0]
[null,null,null,null,null,null,null,null,null,null,null,null,null,null,null,null,null,null,null,null,null,null,null,null,null,null,null,{"$f":"HISTO!P1554","v":0},{"$f":"IF(AC1554=\"\",\"Zonard\",INDEX(AB1555:AB$2008,MIN(IF(COUNTIF(AC$2:AC1554,AB1555:AB$2008),ROW(AB$2008)-ROW()+1,ROW(AB1555:AB$2008)-ROW()+1))))","v":0},0]
[null,null,null,null,null,null,null,null,null,null,null,null,null,null,null,null,null,null,null,null,null,null,null,null,null,null,null,{"$f":"HISTO!P1555","v":0},{"$f":"IF(AC1555=\"\",\"Zonard\",INDEX(AB1556:AB$2008,MIN(IF(COUNTIF(AC$2:AC1555,AB1556:AB$2008),ROW(AB$2008)-ROW()+1,ROW(AB1556:AB$2008)-ROW()+1))))","v":0},0]
[null,null,null,null,null,null,null,null,null,null,null,null,null,null,null,null,null,null,null,null,null,null,null,null,null,null,null,{"$f":"HISTO!P1556","v":0},{"$f":"IF(AC1556=\"\",\"Zonard\",INDEX(AB1557:AB$2008,MIN(IF(COUNTIF(AC$2:AC1556,AB1557:AB$2008),ROW(AB$2008)-ROW()+1,ROW(AB1557:AB$2008)-ROW()+1))))","v":0},0]
[null,null,null,null,null,null,null,null,null,null,null,null,null,null,null,null,null,null,null,null,null,null,null,null,null,null,null,{"$f":"HISTO!P1557","v":0},{"$f":"IF(AC1557=\"\",\"Zonard\",INDEX(AB1558:AB$2008,MIN(IF(COUNTIF(AC$2:AC1557,AB1558:AB$2008),ROW(AB$2008)-ROW()+1,ROW(AB1558:AB$2008)-ROW()+1))))","v":0},0]
[null,null,null,null,null,null,null,null,null,null,null,null,null,null,null,null,null,null,null,null,null,null,null,null,null,null,null,{"$f":"HISTO!P1558","v":0},{"$f":"IF(AC1558=\"\",\"Zonard\",INDEX(AB1559:AB$2008,MIN(IF(COUNTIF(AC$2:AC1558,AB1559:AB$2008),ROW(AB$2008)-ROW()+1,ROW(AB1559:AB$2008)-ROW()+1))))","v":0},0]
[null,null,null,null,null,null,null,null,null,null,null,null,null,null,null,null,null,null,null,null,null,null,null,null,null,null,null,{"$f":"HISTO!P1559","v":0},{"$f":"IF(AC1559=\"\",\"Zonard\",INDEX(AB1560:AB$2008,MIN(IF(COUNTIF(AC$2:AC1559,AB1560:AB$2008),ROW(AB$2008)-ROW()+1,ROW(AB1560:AB$2008)-ROW()+1))))","v":0},0]
[null,null,null,null,null,null,null,null,null,null,null,null,null,null,null,null,null,null,null,null,null,null,null,null,null,null,null,{"$f":"HISTO!P1560","v":0},{"$f":"IF(AC1560=\"\",\"Zonard\",INDEX(AB1561:AB$2008,MIN(IF(COUNTIF(AC$2:AC1560,AB1561:AB$2008),ROW(AB$2008)-ROW()+1,ROW(AB1561:AB$2008)-ROW()+1))))","v":0},0]
[null,null,null,null,null,null,null,null,null,null,null,null,null,null,null,null,null,null,null,null,null,null,null,null,null,null,null,{"$f":"HISTO!P1561","v":0},{"$f":"IF(AC1561=\"\",\"Zonard\",INDEX(AB1562:AB$2008,MIN(IF(COUNTIF(AC$2:AC1561,AB1562:AB$2008),ROW(AB$2008)-ROW()+1,ROW(AB1562:AB$2008)-ROW()+1))))","v":0},0]
[null,null,null,null,null,null,null,null,null,null,null,null,null,null,null,null,null,null,null,null,null,null,null,null,null,null,null,{"$f":"HISTO!P1562","v":0},{"$f":"IF(AC1562=\"\",\"Zonard\",INDEX(AB1563:AB$2008,MIN(IF(COUNTIF(AC$2:AC1562,AB1563:AB$2008),ROW(AB$2008)-ROW()+1,ROW(AB1563:AB$2008)-ROW()+1))))","v":0},0]
[null,null,null,null,null,null,null,null,null,null,null,null,null,null,null,null,null,null,null,null,null,null,null,null,null,null,null,{"$f":"HISTO!P1563","v":0},{"$f":"IF(AC1563=\"\",\"Zonard\",INDEX(AB1564:AB$2008,MIN(IF(COUNTIF(AC$2:AC1563,AB1564:AB$2008),ROW(AB$2008)-ROW()+1,ROW(AB1564:AB$2008)-ROW()+1))))","v":0},0]
[null,null,null,null,null,null,null,null,null,null,null,null,null,null,null,null,null,null,null,null,null,null,null,null,null,null,null,{"$f":"HISTO!P1564","v":0},{"$f":"IF(AC1564=\"\",\"Zonard\",INDEX(AB1565:AB$2008,MIN(IF(COUNTIF(AC$2:AC1564,AB1565:AB$2008),ROW(AB$2008)-ROW()+1,ROW(AB1565:AB$2008)-ROW()+1))))","v":0},0]
[null,null,null,null,null,null,null,null,null,null,null,null,null,null,null,null,null,null,null,null,null,null,null,null,null,null,null,{"$f":"HISTO!P1565","v":0},{"$f":"IF(AC1565=\"\",\"Zonard\",INDEX(AB1566:AB$2008,MIN(IF(COUNTIF(AC$2:AC1565,AB1566:AB$2008),ROW(AB$2008)-ROW()+1,ROW(AB1566:AB$2008)-ROW()+1))))","v":0},0]
[null,null,null,null,null,null,null,null,null,null,null,null,null,null,null,null,null,null,null,null,null,null,null,null,null,null,null,{"$f":"HISTO!P1566","v":0},{"$f":"IF(AC1566=\"\",\"Zonard\",INDEX(AB1567:AB$2008,MIN(IF(COUNTIF(AC$2:AC1566,AB1567:AB$2008),ROW(AB$2008)-ROW()+1,ROW(AB1567:AB$2008)-ROW()+1))))","v":0},0]
[null,null,null,null,null,null,null,null,null,null,null,null,null,null,null,null,null,null,null,null,null,null,null,null,null,null,null,{"$f":"HISTO!P1567","v":0},{"$f":"IF(AC1567=\"\",\"Zonard\",INDEX(AB1568:AB$2008,MIN(IF(COUNTIF(AC$2:AC1567,AB1568:AB$2008),ROW(AB$2008)-ROW()+1,ROW(AB1568:AB$2008)-ROW()+1))))","v":0},0]
[null,null,null,null,null,null,null,null,null,null,null,null,null,null,null,null,null,null,null,null,null,null,null,null,null,null,null,{"$f":"HISTO!P1568","v":0},{"$f":"IF(AC1568=\"\",\"Zonard\",INDEX(AB1569:AB$2008,MIN(IF(COUNTIF(AC$2:AC1568,AB1569:AB$2008),ROW(AB$2008)-ROW()+1,ROW(AB1569:AB$2008)-ROW()+1))))","v":0},0]
[null,null,null,null,null,null,null,null,null,null,null,null,null,null,null,null,null,null,null,null,null,null,null,null,null,null,null,{"$f":"HISTO!P1569","v":0},{"$f":"IF(AC1569=\"\",\"Zonard\",INDEX(AB1570:AB$2008,MIN(IF(COUNTIF(AC$2:AC1569,AB1570:AB$2008),ROW(AB$2008)-ROW()+1,ROW(AB1570:AB$2008)-ROW()+1))))","v":0},0]
[null,null,null,null,null,null,null,null,null,null,null,null,null,null,null,null,null,null,null,null,null,null,null,null,null,null,null,{"$f":"HISTO!P1570","v":0},{"$f":"IF(AC1570=\"\",\"Zonard\",INDEX(AB1571:AB$2008,MIN(IF(COUNTIF(AC$2:AC1570,AB1571:AB$2008),ROW(AB$2008)-ROW()+1,ROW(AB1571:AB$2008)-ROW()+1))))","v":0},0]
[null,null,null,null,null,null,null,null,null,null,null,null,null,null,null,null,null,null,null,null,null,null,null,null,null,null,null,{"$f":"HISTO!P1571","v":0},{"$f":"IF(AC1571=\"\",\"Zonard\",INDEX(AB1572:AB$2008,MIN(IF(COUNTIF(AC$2:AC1571,AB1572:AB$2008),ROW(AB$2008)-ROW()+1,ROW(AB1572:AB$2008)-ROW()+1))))","v":0},0]
[null,null,null,null,null,null,null,null,null,null,null,null,null,null,null,null,null,null,null,null,null,null,null,null,null,null,null,{"$f":"HISTO!P1572","v":0},{"$f":"IF(AC1572=\"\",\"Zonard\",INDEX(AB1573:AB$2008,MIN(IF(COUNTIF(AC$2:AC1572,AB1573:AB$2008),ROW(AB$2008)-ROW()+1,ROW(AB1573:AB$2008)-ROW()+1))))","v":0},0]
[null,null,null,null,null,null,null,null,null,null,null,null,null,null,null,null,null,null,null,null,null,null,null,null,null,null,null,{"$f":"HISTO!P1573","v":0},{"$f":"IF(AC1573=\"\",\"Zonard\",INDEX(AB1574:AB$2008,MIN(IF(COUNTIF(AC$2:AC1573,AB1574:AB$2008),ROW(AB$2008)-ROW()+1,ROW(AB1574:AB$2008)-ROW()+1))))","v":0},0]
[null,null,null,null,null,null,null,null,null,null,null,null,null,null,null,null,null,null,null,null,null,null,null,null,null,null,null,{"$f":"HISTO!P1574","v":0},{"$f":"IF(AC1574=\"\",\"Zonard\",INDEX(AB1575:AB$2008,MIN(IF(COUNTIF(AC$2:AC1574,AB1575:AB$2008),ROW(AB$2008)-ROW()+1,ROW(AB1575:AB$2008)-ROW()+1))))","v":0},0]
[null,null,null,null,null,null,null,null,null,null,null,null,null,null,null,null,null,null,null,null,null,null,null,null,null,null,null,{"$f":"HISTO!P1575","v":0},{"$f":"IF(AC1575=\"\",\"Zonard\",INDEX(AB1576:AB$2008,MIN(IF(COUNTIF(AC$2:AC1575,AB1576:AB$2008),ROW(AB$2008)-ROW()+1,ROW(AB1576:AB$2008)-ROW()+1))))","v":0},0]
[null,null,null,null,null,null,null,null,null,null,null,null,null,null,null,null,null,null,null,null,null,null,null,null,null,null,null,{"$f":"HISTO!P1576","v":0},{"$f":"IF(AC1576=\"\",\"Zonard\",INDEX(AB1577:AB$2008,MIN(IF(COUNTIF(AC$2:AC1576,AB1577:AB$2008),ROW(AB$2008)-ROW()+1,ROW(AB1577:AB$2008)-ROW()+1))))","v":0},0]
[null,null,null,null,null,null,null,null,null,null,null,null,null,null,null,null,null,null,null,null,null,null,null,null,null,null,null,{"$f":"HISTO!P1577","v":0},{"$f":"IF(AC1577=\"\",\"Zonard\",INDEX(AB1578:AB$2008,MIN(IF(COUNTIF(AC$2:AC1577,AB1578:AB$2008),ROW(AB$2008)-ROW()+1,ROW(AB1578:AB$2008)-ROW()+1))))","v":0},0]
[null,null,null,null,null,null,null,null,null,null,null,null,null,null,null,null,null,null,null,null,null,null,null,null,null,null,null,{"$f":"HISTO!P1578","v":0},{"$f":"IF(AC1578=\"\",\"Zonard\",INDEX(AB1579:AB$2008,MIN(IF(COUNTIF(AC$2:AC1578,AB1579:AB$2008),ROW(AB$2008)-ROW()+1,ROW(AB1579:AB$2008)-ROW()+1))))","v":0},0]
[null,null,null,null,null,null,null,null,null,null,null,null,null,null,null,null,null,null,null,null,null,null,null,null,null,null,null,{"$f":"HISTO!P1579","v":0},{"$f":"IF(AC1579=\"\",\"Zonard\",INDEX(AB1580:AB$2008,MIN(IF(COUNTIF(AC$2:AC1579,AB1580:AB$2008),ROW(AB$2008)-ROW()+1,ROW(AB1580:AB$2008)-ROW()+1))))","v":0},0]
[null,null,null,null,null,null,null,null,null,null,null,null,null,null,null,null,null,null,null,null,null,null,null,null,null,null,null,{"$f":"HISTO!P1580","v":0},{"$f":"IF(AC1580=\"\",\"Zonard\",INDEX(AB1581:AB$2008,MIN(IF(COUNTIF(AC$2:AC1580,AB1581:AB$2008),ROW(AB$2008)-ROW()+1,ROW(AB1581:AB$2008)-ROW()+1))))","v":0},0]
[null,null,null,null,null,null,null,null,null,null,null,null,null,null,null,null,null,null,null,null,null,null,null,null,null,null,null,{"$f":"HISTO!P1581","v":0},{"$f":"IF(AC1581=\"\",\"Zonard\",INDEX(AB1582:AB$2008,MIN(IF(COUNTIF(AC$2:AC1581,AB1582:AB$2008),ROW(AB$2008)-ROW()+1,ROW(AB1582:AB$2008)-ROW()+1))))","v":0},0]
[null,null,null,null,null,null,null,null,null,null,null,null,null,null,null,null,null,null,null,null,null,null,null,null,null,null,null,{"$f":"HISTO!P1582","v":0},{"$f":"IF(AC1582=\"\",\"Zonard\",INDEX(AB1583:AB$2008,MIN(IF(COUNTIF(AC$2:AC1582,AB1583:AB$2008),ROW(AB$2008)-ROW()+1,ROW(AB1583:AB$2008)-ROW()+1))))","v":0},0]
[null,null,null,null,null,null,null,null,null,null,null,null,null,null,null,null,null,null,null,null,null,null,null,null,null,null,null,{"$f":"HISTO!P1583","v":0},{"$f":"IF(AC1583=\"\",\"Zonard\",INDEX(AB1584:AB$2008,MIN(IF(COUNTIF(AC$2:AC1583,AB1584:AB$2008),ROW(AB$2008)-ROW()+1,ROW(AB1584:AB$2008)-ROW()+1))))","v":0},0]
[null,null,null,null,null,null,null,null,null,null,null,null,null,null,null,null,null,null,null,null,null,null,null,null,null,null,null,{"$f":"HISTO!P1584","v":0},{"$f":"IF(AC1584=\"\",\"Zonard\",INDEX(AB1585:AB$2008,MIN(IF(COUNTIF(AC$2:AC1584,AB1585:AB$2008),ROW(AB$2008)-ROW()+1,ROW(AB1585:AB$2008)-ROW()+1))))","v":0},0]
[null,null,null,null,null,null,null,null,null,null,null,null,null,null,null,null,null,null,null,null,null,null,null,null,null,null,null,{"$f":"HISTO!P1585","v":0},{"$f":"IF(AC1585=\"\",\"Zonard\",INDEX(AB1586:AB$2008,MIN(IF(COUNTIF(AC$2:AC1585,AB1586:AB$2008),ROW(AB$2008)-ROW()+1,ROW(AB1586:AB$2008)-ROW()+1))))","v":0},0]
[null,null,null,null,null,null,null,null,null,null,null,null,null,null,null,null,null,null,null,null,null,null,null,null,null,null,null,{"$f":"HISTO!P1586","v":0},{"$f":"IF(AC1586=\"\",\"Zonard\",INDEX(AB1587:AB$2008,MIN(IF(COUNTIF(AC$2:AC1586,AB1587:AB$2008),ROW(AB$2008)-ROW()+1,ROW(AB1587:AB$2008)-ROW()+1))))","v":0},0]
[null,null,null,null,null,null,null,null,null,null,null,null,null,null,null,null,null,null,null,null,null,null,null,null,null,null,null,{"$f":"HISTO!P1587","v":0},{"$f":"IF(AC1587=\"\",\"Zonard\",INDEX(AB1588:AB$2008,MIN(IF(COUNTIF(AC$2:AC1587,AB1588:AB$2008),ROW(AB$2008)-ROW()+1,ROW(AB1588:AB$2008)-ROW()+1))))","v":0},0]
[null,null,null,null,null,null,null,null,null,null,null,null,null,null,null,null,null,null,null,null,null,null,null,null,null,null,null,{"$f":"HISTO!P1588","v":0},{"$f":"IF(AC1588=\"\",\"Zonard\",INDEX(AB1589:AB$2008,MIN(IF(COUNTIF(AC$2:AC1588,AB1589:AB$2008),ROW(AB$2008)-ROW()+1,ROW(AB1589:AB$2008)-ROW()+1))))","v":0},0]
[null,null,null,null,null,null,null,null,null,null,null,null,null,null,null,null,null,null,null,null,null,null,null,null,null,null,null,{"$f":"HISTO!P1589","v":0},{"$f":"IF(AC1589=\"\",\"Zonard\",INDEX(AB1590:AB$2008,MIN(IF(COUNTIF(AC$2:AC1589,AB1590:AB$2008),ROW(AB$2008)-ROW()+1,ROW(AB1590:AB$2008)-ROW()+1))))","v":0},0]
[null,null,null,null,null,null,null,null,null,null,null,null,null,null,null,null,null,null,null,null,null,null,null,null,null,null,null,{"$f":"HISTO!P1590","v":0},{"$f":"IF(AC1590=\"\",\"Zonard\",INDEX(AB1591:AB$2008,MIN(IF(COUNTIF(AC$2:AC1590,AB1591:AB$2008),ROW(AB$2008)-ROW()+1,ROW(AB1591:AB$2008)-ROW()+1))))","v":0},0]
[null,null,null,null,null,null,null,null,null,null,null,null,null,null,null,null,null,null,null,null,null,null,null,null,null,null,null,{"$f":"HISTO!P1591","v":0},{"$f":"IF(AC1591=\"\",\"Zonard\",INDEX(AB1592:AB$2008,MIN(IF(COUNTIF(AC$2:AC1591,AB1592:AB$2008),ROW(AB$2008)-ROW()+1,ROW(AB1592:AB$2008)-ROW()+1))))","v":0},0]
[null,null,null,null,null,null,null,null,null,null,null,null,null,null,null,null,null,null,null,null,null,null,null,null,null,null,null,{"$f":"HISTO!P1592","v":0},{"$f":"IF(AC1592=\"\",\"Zonard\",INDEX(AB1593:AB$2008,MIN(IF(COUNTIF(AC$2:AC1592,AB1593:AB$2008),ROW(AB$2008)-ROW()+1,ROW(AB1593:AB$2008)-ROW()+1))))","v":0},0]
[null,null,null,null,null,null,null,null,null,null,null,null,null,null,null,null,null,null,null,null,null,null,null,null,null,null,null,{"$f":"HISTO!P1593","v":0},{"$f":"IF(AC1593=\"\",\"Zonard\",INDEX(AB1594:AB$2008,MIN(IF(COUNTIF(AC$2:AC1593,AB1594:AB$2008),ROW(AB$2008)-ROW()+1,ROW(AB1594:AB$2008)-ROW()+1))))","v":0},0]
[null,null,null,null,null,null,null,null,null,null,null,null,null,null,null,null,null,null,null,null,null,null,null,null,null,null,null,{"$f":"HISTO!P1594","v":0},{"$f":"IF(AC1594=\"\",\"Zonard\",INDEX(AB1595:AB$2008,MIN(IF(COUNTIF(AC$2:AC1594,AB1595:AB$2008),ROW(AB$2008)-ROW()+1,ROW(AB1595:AB$2008)-ROW()+1))))","v":0},0]
[null,null,null,null,null,null,null,null,null,null,null,null,null,null,null,null,null,null,null,null,null,null,null,null,null,null,null,{"$f":"HISTO!P1595","v":0},{"$f":"IF(AC1595=\"\",\"Zonard\",INDEX(AB1596:AB$2008,MIN(IF(COUNTIF(AC$2:AC1595,AB1596:AB$2008),ROW(AB$2008)-ROW()+1,ROW(AB1596:AB$2008)-ROW()+1))))","v":0},0]
[null,null,null,null,null,null,null,null,null,null,null,null,null,null,null,null,null,null,null,null,null,null,null,null,null,null,null,{"$f":"HISTO!P1596","v":0},{"$f":"IF(AC1596=\"\",\"Zonard\",INDEX(AB1597:AB$2008,MIN(IF(COUNTIF(AC$2:AC1596,AB1597:AB$2008),ROW(AB$2008)-ROW()+1,ROW(AB1597:AB$2008)-ROW()+1))))","v":0},0]
[null,null,null,null,null,null,null,null,null,null,null,null,null,null,null,null,null,null,null,null,null,null,null,null,null,null,null,{"$f":"HISTO!P1597","v":0},{"$f":"IF(AC1597=\"\",\"Zonard\",INDEX(AB1598:AB$2008,MIN(IF(COUNTIF(AC$2:AC1597,AB1598:AB$2008),ROW(AB$2008)-ROW()+1,ROW(AB1598:AB$2008)-ROW()+1))))","v":0},0]
[null,null,null,null,null,null,null,null,null,null,null,null,null,null,null,null,null,null,null,null,null,null,null,null,null,null,null,{"$f":"HISTO!P1598","v":0},{"$f":"IF(AC1598=\"\",\"Zonard\",INDEX(AB1599:AB$2008,MIN(IF(COUNTIF(AC$2:AC1598,AB1599:AB$2008),ROW(AB$2008)-ROW()+1,ROW(AB1599:AB$2008)-ROW()+1))))","v":0},0]
[null,null,null,null,null,null,null,null,null,null,null,null,null,null,null,null,null,null,null,null,null,null,null,null,null,null,null,{"$f":"HISTO!P1599","v":0},{"$f":"IF(AC1599=\"\",\"Zonard\",INDEX(AB1600:AB$2008,MIN(IF(COUNTIF(AC$2:AC1599,AB1600:AB$2008),ROW(AB$2008)-ROW()+1,ROW(AB1600:AB$2008)-ROW()+1))))","v":0},0]
[null,null,null,null,null,null,null,null,null,null,null,null,null,null,null,null,null,null,null,null,null,null,null,null,null,null,null,{"$f":"HISTO!P1600","v":0},{"$f":"IF(AC1600=\"\",\"Zonard\",INDEX(AB1601:AB$2008,MIN(IF(COUNTIF(AC$2:AC1600,AB1601:AB$2008),ROW(AB$2008)-ROW()+1,ROW(AB1601:AB$2008)-ROW()+1))))","v":0},0]
[null,null,null,null,null,null,null,null,null,null,null,null,null,null,null,null,null,null,null,null,null,null,null,null,null,null,null,{"$f":"HISTO!P1601","v":0},{"$f":"IF(AC1601=\"\",\"Zonard\",INDEX(AB1602:AB$2008,MIN(IF(COUNTIF(AC$2:AC1601,AB1602:AB$2008),ROW(AB$2008)-ROW()+1,ROW(AB1602:AB$2008)-ROW()+1))))","v":0},0]
[null,null,null,null,null,null,null,null,null,null,null,null,null,null,null,null,null,null,null,null,null,null,null,null,null,null,null,{"$f":"HISTO!P1602","v":0},{"$f":"IF(AC1602=\"\",\"Zonard\",INDEX(AB1603:AB$2008,MIN(IF(COUNTIF(AC$2:AC1602,AB1603:AB$2008),ROW(AB$2008)-ROW()+1,ROW(AB1603:AB$2008)-ROW()+1))))","v":0},0]
[null,null,null,null,null,null,null,null,null,null,null,null,null,null,null,null,null,null,null,null,null,null,null,null,null,null,null,{"$f":"HISTO!P1603","v":0},{"$f":"IF(AC1603=\"\",\"Zonard\",INDEX(AB1604:AB$2008,MIN(IF(COUNTIF(AC$2:AC1603,AB1604:AB$2008),ROW(AB$2008)-ROW()+1,ROW(AB1604:AB$2008)-ROW()+1))))","v":0},0]
[null,null,null,null,null,null,null,null,null,null,null,null,null,null,null,null,null,null,null,null,null,null,null,null,null,null,null,{"$f":"HISTO!P1604","v":0},{"$f":"IF(AC1604=\"\",\"Zonard\",INDEX(AB1605:AB$2008,MIN(IF(COUNTIF(AC$2:AC1604,AB1605:AB$2008),ROW(AB$2008)-ROW()+1,ROW(AB1605:AB$2008)-ROW()+1))))","v":0},0]
[null,null,null,null,null,null,null,null,null,null,null,null,null,null,null,null,null,null,null,null,null,null,null,null,null,null,null,{"$f":"HISTO!P1605","v":0},{"$f":"IF(AC1605=\"\",\"Zonard\",INDEX(AB1606:AB$2008,MIN(IF(COUNTIF(AC$2:AC1605,AB1606:AB$2008),ROW(AB$2008)-ROW()+1,ROW(AB1606:AB$2008)-ROW()+1))))","v":0},0]
[null,null,null,null,null,null,null,null,null,null,null,null,null,null,null,null,null,null,null,null,null,null,null,null,null,null,null,{"$f":"HISTO!P1606","v":0},{"$f":"IF(AC1606=\"\",\"Zonard\",INDEX(AB1607:AB$2008,MIN(IF(COUNTIF(AC$2:AC1606,AB1607:AB$2008),ROW(AB$2008)-ROW()+1,ROW(AB1607:AB$2008)-ROW()+1))))","v":0},0]
[null,null,null,null,null,null,null,null,null,null,null,null,null,null,null,null,null,null,null,null,null,null,null,null,null,null,null,{"$f":"HISTO!P1607","v":0},{"$f":"IF(AC1607=\"\",\"Zonard\",INDEX(AB1608:AB$2008,MIN(IF(COUNTIF(AC$2:AC1607,AB1608:AB$2008),ROW(AB$2008)-ROW()+1,ROW(AB1608:AB$2008)-ROW()+1))))","v":0},0]
[null,null,null,null,null,null,null,null,null,null,null,null,null,null,null,null,null,null,null,null,null,null,null,null,null,null,null,{"$f":"HISTO!P1608","v":0},{"$f":"IF(AC1608=\"\",\"Zonard\",INDEX(AB1609:AB$2008,MIN(IF(COUNTIF(AC$2:AC1608,AB1609:AB$2008),ROW(AB$2008)-ROW()+1,ROW(AB1609:AB$2008)-ROW()+1))))","v":0},0]
[null,null,null,null,null,null,null,null,null,null,null,null,null,null,null,null,null,null,null,null,null,null,null,null,null,null,null,{"$f":"HISTO!P1609","v":0},{"$f":"IF(AC1609=\"\",\"Zonard\",INDEX(AB1610:AB$2008,MIN(IF(COUNTIF(AC$2:AC1609,AB1610:AB$2008),ROW(AB$2008)-ROW()+1,ROW(AB1610:AB$2008)-ROW()+1))))","v":0},0]
[null,null,null,null,null,null,null,null,null,null,null,null,null,null,null,null,null,null,null,null,null,null,null,null,null,null,null,{"$f":"HISTO!P1610","v":0},{"$f":"IF(AC1610=\"\",\"Zonard\",INDEX(AB1611:AB$2008,MIN(IF(COUNTIF(AC$2:AC1610,AB1611:AB$2008),ROW(AB$2008)-ROW()+1,ROW(AB1611:AB$2008)-ROW()+1))))","v":0},0]
[null,null,null,null,null,null,null,null,null,null,null,null,null,null,null,null,null,null,null,null,null,null,null,null,null,null,null,{"$f":"HISTO!P1611","v":0},{"$f":"IF(AC1611=\"\",\"Zonard\",INDEX(AB1612:AB$2008,MIN(IF(COUNTIF(AC$2:AC1611,AB1612:AB$2008),ROW(AB$2008)-ROW()+1,ROW(AB1612:AB$2008)-ROW()+1))))","v":0},0]
[null,null,null,null,null,null,null,null,null,null,null,null,null,null,null,null,null,null,null,null,null,null,null,null,null,null,null,{"$f":"HISTO!P1612","v":0},{"$f":"IF(AC1612=\"\",\"Zonard\",INDEX(AB1613:AB$2008,MIN(IF(COUNTIF(AC$2:AC1612,AB1613:AB$2008),ROW(AB$2008)-ROW()+1,ROW(AB1613:AB$2008)-ROW()+1))))","v":0},0]
[null,null,null,null,null,null,null,null,null,null,null,null,null,null,null,null,null,null,null,null,null,null,null,null,null,null,null,{"$f":"HISTO!P1613","v":0},{"$f":"IF(AC1613=\"\",\"Zonard\",INDEX(AB1614:AB$2008,MIN(IF(COUNTIF(AC$2:AC1613,AB1614:AB$2008),ROW(AB$2008)-ROW()+1,ROW(AB1614:AB$2008)-ROW()+1))))","v":0},0]
[null,null,null,null,null,null,null,null,null,null,null,null,null,null,null,null,null,null,null,null,null,null,null,null,null,null,null,{"$f":"HISTO!P1614","v":0},{"$f":"IF(AC1614=\"\",\"Zonard\",INDEX(AB1615:AB$2008,MIN(IF(COUNTIF(AC$2:AC1614,AB1615:AB$2008),ROW(AB$2008)-ROW()+1,ROW(AB1615:AB$2008)-ROW()+1))))","v":0},0]
[null,null,null,null,null,null,null,null,null,null,null,null,null,null,null,null,null,null,null,null,null,null,null,null,null,null,null,{"$f":"HISTO!P1615","v":0},{"$f":"IF(AC1615=\"\",\"Zonard\",INDEX(AB1616:AB$2008,MIN(IF(COUNTIF(AC$2:AC1615,AB1616:AB$2008),ROW(AB$2008)-ROW()+1,ROW(AB1616:AB$2008)-ROW()+1))))","v":0},0]
[null,null,null,null,null,null,null,null,null,null,null,null,null,null,null,null,null,null,null,null,null,null,null,null,null,null,null,{"$f":"HISTO!P1616","v":0},{"$f":"IF(AC1616=\"\",\"Zonard\",INDEX(AB1617:AB$2008,MIN(IF(COUNTIF(AC$2:AC1616,AB1617:AB$2008),ROW(AB$2008)-ROW()+1,ROW(AB1617:AB$2008)-ROW()+1))))","v":0},0]
[null,null,null,null,null,null,null,null,null,null,null,null,null,null,null,null,null,null,null,null,null,null,null,null,null,null,null,{"$f":"HISTO!P1617","v":0},{"$f":"IF(AC1617=\"\",\"Zonard\",INDEX(AB1618:AB$2008,MIN(IF(COUNTIF(AC$2:AC1617,AB1618:AB$2008),ROW(AB$2008)-ROW()+1,ROW(AB1618:AB$2008)-ROW()+1))))","v":0},0]
[null,null,null,null,null,null,null,null,null,null,null,null,null,null,null,null,null,null,null,null,null,null,null,null,null,null,null,{"$f":"HISTO!P1618","v":0},{"$f":"IF(AC1618=\"\",\"Zonard\",INDEX(AB1619:AB$2008,MIN(IF(COUNTIF(AC$2:AC1618,AB1619:AB$2008),ROW(AB$2008)-ROW()+1,ROW(AB1619:AB$2008)-ROW()+1))))","v":0},0]
[null,null,null,null,null,null,null,null,null,null,null,null,null,null,null,null,null,null,null,null,null,null,null,null,null,null,null,{"$f":"HISTO!P1619","v":0},{"$f":"IF(AC1619=\"\",\"Zonard\",INDEX(AB1620:AB$2008,MIN(IF(COUNTIF(AC$2:AC1619,AB1620:AB$2008),ROW(AB$2008)-ROW()+1,ROW(AB1620:AB$2008)-ROW()+1))))","v":0},0]
[null,null,null,null,null,null,null,null,null,null,null,null,null,null,null,null,null,null,null,null,null,null,null,null,null,null,null,{"$f":"HISTO!P1620","v":0},{"$f":"IF(AC1620=\"\",\"Zonard\",INDEX(AB1621:AB$2008,MIN(IF(COUNTIF(AC$2:AC1620,AB1621:AB$2008),ROW(AB$2008)-ROW()+1,ROW(AB1621:AB$2008)-ROW()+1))))","v":0},0]
[null,null,null,null,null,null,null,null,null,null,null,null,null,null,null,null,null,null,null,null,null,null,null,null,null,null,null,{"$f":"HISTO!P1621","v":0},{"$f":"IF(AC1621=\"\",\"Zonard\",INDEX(AB1622:AB$2008,MIN(IF(COUNTIF(AC$2:AC1621,AB1622:AB$2008),ROW(AB$2008)-ROW()+1,ROW(AB1622:AB$2008)-ROW()+1))))","v":0},0]
[null,null,null,null,null,null,null,null,null,null,null,null,null,null,null,null,null,null,null,null,null,null,null,null,null,null,null,{"$f":"HISTO!P1622","v":0},{"$f":"IF(AC1622=\"\",\"Zonard\",INDEX(AB1623:AB$2008,MIN(IF(COUNTIF(AC$2:AC1622,AB1623:AB$2008),ROW(AB$2008)-ROW()+1,ROW(AB1623:AB$2008)-ROW()+1))))","v":0},0]
[null,null,null,null,null,null,null,null,null,null,null,null,null,null,null,null,null,null,null,null,null,null,null,null,null,null,null,{"$f":"HISTO!P1623","v":0},{"$f":"IF(AC1623=\"\",\"Zonard\",INDEX(AB1624:AB$2008,MIN(IF(COUNTIF(AC$2:AC1623,AB1624:AB$2008),ROW(AB$2008)-ROW()+1,ROW(AB1624:AB$2008)-ROW()+1))))","v":0},0]
[null,null,null,null,null,null,null,null,null,null,null,null,null,null,null,null,null,null,null,null,null,null,null,null,null,null,null,{"$f":"HISTO!P1624","v":0},{"$f":"IF(AC1624=\"\",\"Zonard\",INDEX(AB1625:AB$2008,MIN(IF(COUNTIF(AC$2:AC1624,AB1625:AB$2008),ROW(AB$2008)-ROW()+1,ROW(AB1625:AB$2008)-ROW()+1))))","v":0},0]
[null,null,null,null,null,null,null,null,null,null,null,null,null,null,null,null,null,null,null,null,null,null,null,null,null,null,null,{"$f":"HISTO!P1625","v":0},{"$f":"IF(AC1625=\"\",\"Zonard\",INDEX(AB1626:AB$2008,MIN(IF(COUNTIF(AC$2:AC1625,AB1626:AB$2008),ROW(AB$2008)-ROW()+1,ROW(AB1626:AB$2008)-ROW()+1))))","v":0},0]
[null,null,null,null,null,null,null,null,null,null,null,null,null,null,null,null,null,null,null,null,null,null,null,null,null,null,null,{"$f":"HISTO!P1626","v":0},{"$f":"IF(AC1626=\"\",\"Zonard\",INDEX(AB1627:AB$2008,MIN(IF(COUNTIF(AC$2:AC1626,AB1627:AB$2008),ROW(AB$2008)-ROW()+1,ROW(AB1627:AB$2008)-ROW()+1))))","v":0},0]
[null,null,null,null,null,null,null,null,null,null,null,null,null,null,null,null,null,null,null,null,null,null,null,null,null,null,null,{"$f":"HISTO!P1627","v":0},{"$f":"IF(AC1627=\"\",\"Zonard\",INDEX(AB1628:AB$2008,MIN(IF(COUNTIF(AC$2:AC1627,AB1628:AB$2008),ROW(AB$2008)-ROW()+1,ROW(AB1628:AB$2008)-ROW()+1))))","v":0},0]
[null,null,null,null,null,null,null,null,null,null,null,null,null,null,null,null,null,null,null,null,null,null,null,null,null,null,null,{"$f":"HISTO!P1628","v":0},{"$f":"IF(AC1628=\"\",\"Zonard\",INDEX(AB1629:AB$2008,MIN(IF(COUNTIF(AC$2:AC1628,AB1629:AB$2008),ROW(AB$2008)-ROW()+1,ROW(AB1629:AB$2008)-ROW()+1))))","v":0},0]
[null,null,null,null,null,null,null,null,null,null,null,null,null,null,null,null,null,null,null,null,null,null,null,null,null,null,null,{"$f":"HISTO!P1629","v":0},{"$f":"IF(AC1629=\"\",\"Zonard\",INDEX(AB1630:AB$2008,MIN(IF(COUNTIF(AC$2:AC1629,AB1630:AB$2008),ROW(AB$2008)-ROW()+1,ROW(AB1630:AB$2008)-ROW()+1))))","v":0},0]
[null,null,null,null,null,null,null,null,null,null,null,null,null,null,null,null,null,null,null,null,null,null,null,null,null,null,null,{"$f":"HISTO!P1630","v":0},{"$f":"IF(AC1630=\"\",\"Zonard\",INDEX(AB1631:AB$2008,MIN(IF(COUNTIF(AC$2:AC1630,AB1631:AB$2008),ROW(AB$2008)-ROW()+1,ROW(AB1631:AB$2008)-ROW()+1))))","v":0},0]
[null,null,null,null,null,null,null,null,null,null,null,null,null,null,null,null,null,null,null,null,null,null,null,null,null,null,null,{"$f":"HISTO!P1631","v":0},{"$f":"IF(AC1631=\"\",\"Zonard\",INDEX(AB1632:AB$2008,MIN(IF(COUNTIF(AC$2:AC1631,AB1632:AB$2008),ROW(AB$2008)-ROW()+1,ROW(AB1632:AB$2008)-ROW()+1))))","v":0},0]
[null,null,null,null,null,null,null,null,null,null,null,null,null,null,null,null,null,null,null,null,null,null,null,null,null,null,null,{"$f":"HISTO!P1632","v":0},{"$f":"IF(AC1632=\"\",\"Zonard\",INDEX(AB1633:AB$2008,MIN(IF(COUNTIF(AC$2:AC1632,AB1633:AB$2008),ROW(AB$2008)-ROW()+1,ROW(AB1633:AB$2008)-ROW()+1))))","v":0},0]
[null,null,null,null,null,null,null,null,null,null,null,null,null,null,null,null,null,null,null,null,null,null,null,null,null,null,null,{"$f":"HISTO!P1633","v":0},{"$f":"IF(AC1633=\"\",\"Zonard\",INDEX(AB1634:AB$2008,MIN(IF(COUNTIF(AC$2:AC1633,AB1634:AB$2008),ROW(AB$2008)-ROW()+1,ROW(AB1634:AB$2008)-ROW()+1))))","v":0},0]
[null,null,null,null,null,null,null,null,null,null,null,null,null,null,null,null,null,null,null,null,null,null,null,null,null,null,null,{"$f":"HISTO!P1634","v":0},{"$f":"IF(AC1634=\"\",\"Zonard\",INDEX(AB1635:AB$2008,MIN(IF(COUNTIF(AC$2:AC1634,AB1635:AB$2008),ROW(AB$2008)-ROW()+1,ROW(AB1635:AB$2008)-ROW()+1))))","v":0},0]
[null,null,null,null,null,null,null,null,null,null,null,null,null,null,null,null,null,null,null,null,null,null,null,null,null,null,null,{"$f":"HISTO!P1635","v":0},{"$f":"IF(AC1635=\"\",\"Zonard\",INDEX(AB1636:AB$2008,MIN(IF(COUNTIF(AC$2:AC1635,AB1636:AB$2008),ROW(AB$2008)-ROW()+1,ROW(AB1636:AB$2008)-ROW()+1))))","v":0},0]
[null,null,null,null,null,null,null,null,null,null,null,null,null,null,null,null,null,null,null,null,null,null,null,null,null,null,null,{"$f":"HISTO!P1636","v":0},{"$f":"IF(AC1636=\"\",\"Zonard\",INDEX(AB1637:AB$2008,MIN(IF(COUNTIF(AC$2:AC1636,AB1637:AB$2008),ROW(AB$2008)-ROW()+1,ROW(AB1637:AB$2008)-ROW()+1))))","v":0},0]
[null,null,null,null,null,null,null,null,null,null,null,null,null,null,null,null,null,null,null,null,null,null,null,null,null,null,null,{"$f":"HISTO!P1637","v":0},{"$f":"IF(AC1637=\"\",\"Zonard\",INDEX(AB1638:AB$2008,MIN(IF(COUNTIF(AC$2:AC1637,AB1638:AB$2008),ROW(AB$2008)-ROW()+1,ROW(AB1638:AB$2008)-ROW()+1))))","v":0},0]
[null,null,null,null,null,null,null,null,null,null,null,null,null,null,null,null,null,null,null,null,null,null,null,null,null,null,null,{"$f":"HISTO!P1638","v":0},{"$f":"IF(AC1638=\"\",\"Zonard\",INDEX(AB1639:AB$2008,MIN(IF(COUNTIF(AC$2:AC1638,AB1639:AB$2008),ROW(AB$2008)-ROW()+1,ROW(AB1639:AB$2008)-ROW()+1))))","v":0},0]
[null,null,null,null,null,null,null,null,null,null,null,null,null,null,null,null,null,null,null,null,null,null,null,null,null,null,null,{"$f":"HISTO!P1639","v":0},{"$f":"IF(AC1639=\"\",\"Zonard\",INDEX(AB1640:AB$2008,MIN(IF(COUNTIF(AC$2:AC1639,AB1640:AB$2008),ROW(AB$2008)-ROW()+1,ROW(AB1640:AB$2008)-ROW()+1))))","v":0},0]
[null,null,null,null,null,null,null,null,null,null,null,null,null,null,null,null,null,null,null,null,null,null,null,null,null,null,null,{"$f":"HISTO!P1640","v":0},{"$f":"IF(AC1640=\"\",\"Zonard\",INDEX(AB1641:AB$2008,MIN(IF(COUNTIF(AC$2:AC1640,AB1641:AB$2008),ROW(AB$2008)-ROW()+1,ROW(AB1641:AB$2008)-ROW()+1))))","v":0},0]
[null,null,null,null,null,null,null,null,null,null,null,null,null,null,null,null,null,null,null,null,null,null,null,null,null,null,null,{"$f":"HISTO!P1641","v":0},{"$f":"IF(AC1641=\"\",\"Zonard\",INDEX(AB1642:AB$2008,MIN(IF(COUNTIF(AC$2:AC1641,AB1642:AB$2008),ROW(AB$2008)-ROW()+1,ROW(AB1642:AB$2008)-ROW()+1))))","v":0},0]
[null,null,null,null,null,null,null,null,null,null,null,null,null,null,null,null,null,null,null,null,null,null,null,null,null,null,null,{"$f":"HISTO!P1642","v":0},{"$f":"IF(AC1642=\"\",\"Zonard\",INDEX(AB1643:AB$2008,MIN(IF(COUNTIF(AC$2:AC1642,AB1643:AB$2008),ROW(AB$2008)-ROW()+1,ROW(AB1643:AB$2008)-ROW()+1))))","v":0},0]
[null,null,null,null,null,null,null,null,null,null,null,null,null,null,null,null,null,null,null,null,null,null,null,null,null,null,null,{"$f":"HISTO!P1643","v":0},{"$f":"IF(AC1643=\"\",\"Zonard\",INDEX(AB1644:AB$2008,MIN(IF(COUNTIF(AC$2:AC1643,AB1644:AB$2008),ROW(AB$2008)-ROW()+1,ROW(AB1644:AB$2008)-ROW()+1))))","v":0},0]
[null,null,null,null,null,null,null,null,null,null,null,null,null,null,null,null,null,null,null,null,null,null,null,null,null,null,null,{"$f":"HISTO!P1644","v":0},{"$f":"IF(AC1644=\"\",\"Zonard\",INDEX(AB1645:AB$2008,MIN(IF(COUNTIF(AC$2:AC1644,AB1645:AB$2008),ROW(AB$2008)-ROW()+1,ROW(AB1645:AB$2008)-ROW()+1))))","v":0},0]
[null,null,null,null,null,null,null,null,null,null,null,null,null,null,null,null,null,null,null,null,null,null,null,null,null,null,null,{"$f":"HISTO!P1645","v":0},{"$f":"IF(AC1645=\"\",\"Zonard\",INDEX(AB1646:AB$2008,MIN(IF(COUNTIF(AC$2:AC1645,AB1646:AB$2008),ROW(AB$2008)-ROW()+1,ROW(AB1646:AB$2008)-ROW()+1))))","v":0},0]
[null,null,null,null,null,null,null,null,null,null,null,null,null,null,null,null,null,null,null,null,null,null,null,null,null,null,null,{"$f":"HISTO!P1646","v":0},{"$f":"IF(AC1646=\"\",\"Zonard\",INDEX(AB1647:AB$2008,MIN(IF(COUNTIF(AC$2:AC1646,AB1647:AB$2008),ROW(AB$2008)-ROW()+1,ROW(AB1647:AB$2008)-ROW()+1))))","v":0},0]
[null,null,null,null,null,null,null,null,null,null,null,null,null,null,null,null,null,null,null,null,null,null,null,null,null,null,null,{"$f":"HISTO!P1647","v":0},{"$f":"IF(AC1647=\"\",\"Zonard\",INDEX(AB1648:AB$2008,MIN(IF(COUNTIF(AC$2:AC1647,AB1648:AB$2008),ROW(AB$2008)-ROW()+1,ROW(AB1648:AB$2008)-ROW()+1))))","v":0},0]
[null,null,null,null,null,null,null,null,null,null,null,null,null,null,null,null,null,null,null,null,null,null,null,null,null,null,null,{"$f":"HISTO!P1648","v":0},{"$f":"IF(AC1648=\"\",\"Zonard\",INDEX(AB1649:AB$2008,MIN(IF(COUNTIF(AC$2:AC1648,AB1649:AB$2008),ROW(AB$2008)-ROW()+1,ROW(AB1649:AB$2008)-ROW()+1))))","v":0},0]
[null,null,null,null,null,null,null,null,null,null,null,null,null,null,null,null,null,null,null,null,null,null,null,null,null,null,null,{"$f":"HISTO!P1649","v":0},{"$f":"IF(AC1649=\"\",\"Zonard\",INDEX(AB1650:AB$2008,MIN(IF(COUNTIF(AC$2:AC1649,AB1650:AB$2008),ROW(AB$2008)-ROW()+1,ROW(AB1650:AB$2008)-ROW()+1))))","v":0},0]
[null,null,null,null,null,null,null,null,null,null,null,null,null,null,null,null,null,null,null,null,null,null,null,null,null,null,null,{"$f":"HISTO!P1650","v":0},{"$f":"IF(AC1650=\"\",\"Zonard\",INDEX(AB1651:AB$2008,MIN(IF(COUNTIF(AC$2:AC1650,AB1651:AB$2008),ROW(AB$2008)-ROW()+1,ROW(AB1651:AB$2008)-ROW()+1))))","v":0},0]
[null,null,null,null,null,null,null,null,null,null,null,null,null,null,null,null,null,null,null,null,null,null,null,null,null,null,null,{"$f":"HISTO!P1651","v":0},{"$f":"IF(AC1651=\"\",\"Zonard\",INDEX(AB1652:AB$2008,MIN(IF(COUNTIF(AC$2:AC1651,AB1652:AB$2008),ROW(AB$2008)-ROW()+1,ROW(AB1652:AB$2008)-ROW()+1))))","v":0},0]
[null,null,null,null,null,null,null,null,null,null,null,null,null,null,null,null,null,null,null,null,null,null,null,null,null,null,null,{"$f":"HISTO!P1652","v":0},{"$f":"IF(AC1652=\"\",\"Zonard\",INDEX(AB1653:AB$2008,MIN(IF(COUNTIF(AC$2:AC1652,AB1653:AB$2008),ROW(AB$2008)-ROW()+1,ROW(AB1653:AB$2008)-ROW()+1))))","v":0},0]
[null,null,null,null,null,null,null,null,null,null,null,null,null,null,null,null,null,null,null,null,null,null,null,null,null,null,null,{"$f":"HISTO!P1653","v":0},{"$f":"IF(AC1653=\"\",\"Zonard\",INDEX(AB1654:AB$2008,MIN(IF(COUNTIF(AC$2:AC1653,AB1654:AB$2008),ROW(AB$2008)-ROW()+1,ROW(AB1654:AB$2008)-ROW()+1))))","v":0},0]
[null,null,null,null,null,null,null,null,null,null,null,null,null,null,null,null,null,null,null,null,null,null,null,null,null,null,null,{"$f":"HISTO!P1654","v":0},{"$f":"IF(AC1654=\"\",\"Zonard\",INDEX(AB1655:AB$2008,MIN(IF(COUNTIF(AC$2:AC1654,AB1655:AB$2008),ROW(AB$2008)-ROW()+1,ROW(AB1655:AB$2008)-ROW()+1))))","v":0},0]
[null,null,null,null,null,null,null,null,null,null,null,null,null,null,null,null,null,null,null,null,null,null,null,null,null,null,null,{"$f":"HISTO!P1655","v":0},{"$f":"IF(AC1655=\"\",\"Zonard\",INDEX(AB1656:AB$2008,MIN(IF(COUNTIF(AC$2:AC1655,AB1656:AB$2008),ROW(AB$2008)-ROW()+1,ROW(AB1656:AB$2008)-ROW()+1))))","v":0},0]
[null,null,null,null,null,null,null,null,null,null,null,null,null,null,null,null,null,null,null,null,null,null,null,null,null,null,null,{"$f":"HISTO!P1656","v":0},{"$f":"IF(AC1656=\"\",\"Zonard\",INDEX(AB1657:AB$2008,MIN(IF(COUNTIF(AC$2:AC1656,AB1657:AB$2008),ROW(AB$2008)-ROW()+1,ROW(AB1657:AB$2008)-ROW()+1))))","v":0},0]
[null,null,null,null,null,null,null,null,null,null,null,null,null,null,null,null,null,null,null,null,null,null,null,null,null,null,null,{"$f":"HISTO!P1657","v":0},{"$f":"IF(AC1657=\"\",\"Zonard\",INDEX(AB1658:AB$2008,MIN(IF(COUNTIF(AC$2:AC1657,AB1658:AB$2008),ROW(AB$2008)-ROW()+1,ROW(AB1658:AB$2008)-ROW()+1))))","v":0},0]
[null,null,null,null,null,null,null,null,null,null,null,null,null,null,null,null,null,null,null,null,null,null,null,null,null,null,null,{"$f":"HISTO!P1658","v":0},{"$f":"IF(AC1658=\"\",\"Zonard\",INDEX(AB1659:AB$2008,MIN(IF(COUNTIF(AC$2:AC1658,AB1659:AB$2008),ROW(AB$2008)-ROW()+1,ROW(AB1659:AB$2008)-ROW()+1))))","v":0},0]
[null,null,null,null,null,null,null,null,null,null,null,null,null,null,null,null,null,null,null,null,null,null,null,null,null,null,null,{"$f":"HISTO!P1659","v":0},{"$f":"IF(AC1659=\"\",\"Zonard\",INDEX(AB1660:AB$2008,MIN(IF(COUNTIF(AC$2:AC1659,AB1660:AB$2008),ROW(AB$2008)-ROW()+1,ROW(AB1660:AB$2008)-ROW()+1))))","v":0},0]
[null,null,null,null,null,null,null,null,null,null,null,null,null,null,null,null,null,null,null,null,null,null,null,null,null,null,null,{"$f":"HISTO!P1660","v":0},{"$f":"IF(AC1660=\"\",\"Zonard\",INDEX(AB1661:AB$2008,MIN(IF(COUNTIF(AC$2:AC1660,AB1661:AB$2008),ROW(AB$2008)-ROW()+1,ROW(AB1661:AB$2008)-ROW()+1))))","v":0},0]
[null,null,null,null,null,null,null,null,null,null,null,null,null,null,null,null,null,null,null,null,null,null,null,null,null,null,null,{"$f":"HISTO!P1661","v":0},{"$f":"IF(AC1661=\"\",\"Zonard\",INDEX(AB1662:AB$2008,MIN(IF(COUNTIF(AC$2:AC1661,AB1662:AB$2008),ROW(AB$2008)-ROW()+1,ROW(AB1662:AB$2008)-ROW()+1))))","v":0},0]
[null,null,null,null,null,null,null,null,null,null,null,null,null,null,null,null,null,null,null,null,null,null,null,null,null,null,null,{"$f":"HISTO!P1662","v":0},{"$f":"IF(AC1662=\"\",\"Zonard\",INDEX(AB1663:AB$2008,MIN(IF(COUNTIF(AC$2:AC1662,AB1663:AB$2008),ROW(AB$2008)-ROW()+1,ROW(AB1663:AB$2008)-ROW()+1))))","v":0},0]
[null,null,null,null,null,null,null,null,null,null,null,null,null,null,null,null,null,null,null,null,null,null,null,null,null,null,null,{"$f":"HISTO!P1663","v":0},{"$f":"IF(AC1663=\"\",\"Zonard\",INDEX(AB1664:AB$2008,MIN(IF(COUNTIF(AC$2:AC1663,AB1664:AB$2008),ROW(AB$2008)-ROW()+1,ROW(AB1664:AB$2008)-ROW()+1))))","v":0},0]
[null,null,null,null,null,null,null,null,null,null,null,null,null,null,null,null,null,null,null,null,null,null,null,null,null,null,null,{"$f":"HISTO!P1664","v":0},{"$f":"IF(AC1664=\"\",\"Zonard\",INDEX(AB1665:AB$2008,MIN(IF(COUNTIF(AC$2:AC1664,AB1665:AB$2008),ROW(AB$2008)-ROW()+1,ROW(AB1665:AB$2008)-ROW()+1))))","v":0},0]
[null,null,null,null,null,null,null,null,null,null,null,null,null,null,null,null,null,null,null,null,null,null,null,null,null,null,null,{"$f":"HISTO!P1665","v":0},{"$f":"IF(AC1665=\"\",\"Zonard\",INDEX(AB1666:AB$2008,MIN(IF(COUNTIF(AC$2:AC1665,AB1666:AB$2008),ROW(AB$2008)-ROW()+1,ROW(AB1666:AB$2008)-ROW()+1))))","v":0},0]
[null,null,null,null,null,null,null,null,null,null,null,null,null,null,null,null,null,null,null,null,null,null,null,null,null,null,null,{"$f":"HISTO!P1666","v":0},{"$f":"IF(AC1666=\"\",\"Zonard\",INDEX(AB1667:AB$2008,MIN(IF(COUNTIF(AC$2:AC1666,AB1667:AB$2008),ROW(AB$2008)-ROW()+1,ROW(AB1667:AB$2008)-ROW()+1))))","v":0},0]
[null,null,null,null,null,null,null,null,null,null,null,null,null,null,null,null,null,null,null,null,null,null,null,null,null,null,null,{"$f":"HISTO!P1667","v":0},{"$f":"IF(AC1667=\"\",\"Zonard\",INDEX(AB1668:AB$2008,MIN(IF(COUNTIF(AC$2:AC1667,AB1668:AB$2008),ROW(AB$2008)-ROW()+1,ROW(AB1668:AB$2008)-ROW()+1))))","v":0},0]
[null,null,null,null,null,null,null,null,null,null,null,null,null,null,null,null,null,null,null,null,null,null,null,null,null,null,null,{"$f":"HISTO!P1668","v":0},{"$f":"IF(AC1668=\"\",\"Zonard\",INDEX(AB1669:AB$2008,MIN(IF(COUNTIF(AC$2:AC1668,AB1669:AB$2008),ROW(AB$2008)-ROW()+1,ROW(AB1669:AB$2008)-ROW()+1))))","v":0},0]
[null,null,null,null,null,null,null,null,null,null,null,null,null,null,null,null,null,null,null,null,null,null,null,null,null,null,null,{"$f":"HISTO!P1669","v":0},{"$f":"IF(AC1669=\"\",\"Zonard\",INDEX(AB1670:AB$2008,MIN(IF(COUNTIF(AC$2:AC1669,AB1670:AB$2008),ROW(AB$2008)-ROW()+1,ROW(AB1670:AB$2008)-ROW()+1))))","v":0},0]
[null,null,null,null,null,null,null,null,null,null,null,null,null,null,null,null,null,null,null,null,null,null,null,null,null,null,null,{"$f":"HISTO!P1670","v":0},{"$f":"IF(AC1670=\"\",\"Zonard\",INDEX(AB1671:AB$2008,MIN(IF(COUNTIF(AC$2:AC1670,AB1671:AB$2008),ROW(AB$2008)-ROW()+1,ROW(AB1671:AB$2008)-ROW()+1))))","v":0},0]
[null,null,null,null,null,null,null,null,null,null,null,null,null,null,null,null,null,null,null,null,null,null,null,null,null,null,null,{"$f":"HISTO!P1671","v":0},{"$f":"IF(AC1671=\"\",\"Zonard\",INDEX(AB1672:AB$2008,MIN(IF(COUNTIF(AC$2:AC1671,AB1672:AB$2008),ROW(AB$2008)-ROW()+1,ROW(AB1672:AB$2008)-ROW()+1))))","v":0},0]
[null,null,null,null,null,null,null,null,null,null,null,null,null,null,null,null,null,null,null,null,null,null,null,null,null,null,null,{"$f":"HISTO!P1672","v":0},{"$f":"IF(AC1672=\"\",\"Zonard\",INDEX(AB1673:AB$2008,MIN(IF(COUNTIF(AC$2:AC1672,AB1673:AB$2008),ROW(AB$2008)-ROW()+1,ROW(AB1673:AB$2008)-ROW()+1))))","v":0},0]
[null,null,null,null,null,null,null,null,null,null,null,null,null,null,null,null,null,null,null,null,null,null,null,null,null,null,null,{"$f":"HISTO!P1673","v":0},{"$f":"IF(AC1673=\"\",\"Zonard\",INDEX(AB1674:AB$2008,MIN(IF(COUNTIF(AC$2:AC1673,AB1674:AB$2008),ROW(AB$2008)-ROW()+1,ROW(AB1674:AB$2008)-ROW()+1))))","v":0},0]
[null,null,null,null,null,null,null,null,null,null,null,null,null,null,null,null,null,null,null,null,null,null,null,null,null,null,null,{"$f":"HISTO!P1674","v":0},{"$f":"IF(AC1674=\"\",\"Zonard\",INDEX(AB1675:AB$2008,MIN(IF(COUNTIF(AC$2:AC1674,AB1675:AB$2008),ROW(AB$2008)-ROW()+1,ROW(AB1675:AB$2008)-ROW()+1))))","v":0},0]
[null,null,null,null,null,null,null,null,null,null,null,null,null,null,null,null,null,null,null,null,null,null,null,null,null,null,null,{"$f":"HISTO!P1675","v":0},{"$f":"IF(AC1675=\"\",\"Zonard\",INDEX(AB1676:AB$2008,MIN(IF(COUNTIF(AC$2:AC1675,AB1676:AB$2008),ROW(AB$2008)-ROW()+1,ROW(AB1676:AB$2008)-ROW()+1))))","v":0},0]
[null,null,null,null,null,null,null,null,null,null,null,null,null,null,null,null,null,null,null,null,null,null,null,null,null,null,null,{"$f":"HISTO!P1676","v":0},{"$f":"IF(AC1676=\"\",\"Zonard\",INDEX(AB1677:AB$2008,MIN(IF(COUNTIF(AC$2:AC1676,AB1677:AB$2008),ROW(AB$2008)-ROW()+1,ROW(AB1677:AB$2008)-ROW()+1))))","v":0},0]
[null,null,null,null,null,null,null,null,null,null,null,null,null,null,null,null,null,null,null,null,null,null,null,null,null,null,null,{"$f":"HISTO!P1677","v":0},{"$f":"IF(AC1677=\"\",\"Zonard\",INDEX(AB1678:AB$2008,MIN(IF(COUNTIF(AC$2:AC1677,AB1678:AB$2008),ROW(AB$2008)-ROW()+1,ROW(AB1678:AB$2008)-ROW()+1))))","v":0},0]
[null,null,null,null,null,null,null,null,null,null,null,null,null,null,null,null,null,null,null,null,null,null,null,null,null,null,null,{"$f":"HISTO!P1678","v":0},{"$f":"IF(AC1678=\"\",\"Zonard\",INDEX(AB1679:AB$2008,MIN(IF(COUNTIF(AC$2:AC1678,AB1679:AB$2008),ROW(AB$2008)-ROW()+1,ROW(AB1679:AB$2008)-ROW()+1))))","v":0},0]
[null,null,null,null,null,null,null,null,null,null,null,null,null,null,null,null,null,null,null,null,null,null,null,null,null,null,null,{"$f":"HISTO!P1679","v":0},{"$f":"IF(AC1679=\"\",\"Zonard\",INDEX(AB1680:AB$2008,MIN(IF(COUNTIF(AC$2:AC1679,AB1680:AB$2008),ROW(AB$2008)-ROW()+1,ROW(AB1680:AB$2008)-ROW()+1))))","v":0},0]
[null,null,null,null,null,null,null,null,null,null,null,null,null,null,null,null,null,null,null,null,null,null,null,null,null,null,null,{"$f":"HISTO!P1680","v":0},{"$f":"IF(AC1680=\"\",\"Zonard\",INDEX(AB1681:AB$2008,MIN(IF(COUNTIF(AC$2:AC1680,AB1681:AB$2008),ROW(AB$2008)-ROW()+1,ROW(AB1681:AB$2008)-ROW()+1))))","v":0},0]
[null,null,null,null,null,null,null,null,null,null,null,null,null,null,null,null,null,null,null,null,null,null,null,null,null,null,null,{"$f":"HISTO!P1681","v":0},{"$f":"IF(AC1681=\"\",\"Zonard\",INDEX(AB1682:AB$2008,MIN(IF(COUNTIF(AC$2:AC1681,AB1682:AB$2008),ROW(AB$2008)-ROW()+1,ROW(AB1682:AB$2008)-ROW()+1))))","v":0},0]
[null,null,null,null,null,null,null,null,null,null,null,null,null,null,null,null,null,null,null,null,null,null,null,null,null,null,null,{"$f":"HISTO!P1682","v":0},{"$f":"IF(AC1682=\"\",\"Zonard\",INDEX(AB1683:AB$2008,MIN(IF(COUNTIF(AC$2:AC1682,AB1683:AB$2008),ROW(AB$2008)-ROW()+1,ROW(AB1683:AB$2008)-ROW()+1))))","v":0},0]
[null,null,null,null,null,null,null,null,null,null,null,null,null,null,null,null,null,null,null,null,null,null,null,null,null,null,null,{"$f":"HISTO!P1683","v":0},{"$f":"IF(AC1683=\"\",\"Zonard\",INDEX(AB1684:AB$2008,MIN(IF(COUNTIF(AC$2:AC1683,AB1684:AB$2008),ROW(AB$2008)-ROW()+1,ROW(AB1684:AB$2008)-ROW()+1))))","v":0},0]
[null,null,null,null,null,null,null,null,null,null,null,null,null,null,null,null,null,null,null,null,null,null,null,null,null,null,null,{"$f":"HISTO!P1684","v":0},{"$f":"IF(AC1684=\"\",\"Zonard\",INDEX(AB1685:AB$2008,MIN(IF(COUNTIF(AC$2:AC1684,AB1685:AB$2008),ROW(AB$2008)-ROW()+1,ROW(AB1685:AB$2008)-ROW()+1))))","v":0},0]
[null,null,null,null,null,null,null,null,null,null,null,null,null,null,null,null,null,null,null,null,null,null,null,null,null,null,null,{"$f":"HISTO!P1685","v":0},{"$f":"IF(AC1685=\"\",\"Zonard\",INDEX(AB1686:AB$2008,MIN(IF(COUNTIF(AC$2:AC1685,AB1686:AB$2008),ROW(AB$2008)-ROW()+1,ROW(AB1686:AB$2008)-ROW()+1))))","v":0},0]
[null,null,null,null,null,null,null,null,null,null,null,null,null,null,null,null,null,null,null,null,null,null,null,null,null,null,null,{"$f":"HISTO!P1686","v":0},{"$f":"IF(AC1686=\"\",\"Zonard\",INDEX(AB1687:AB$2008,MIN(IF(COUNTIF(AC$2:AC1686,AB1687:AB$2008),ROW(AB$2008)-ROW()+1,ROW(AB1687:AB$2008)-ROW()+1))))","v":0},0]
[null,null,null,null,null,null,null,null,null,null,null,null,null,null,null,null,null,null,null,null,null,null,null,null,null,null,null,{"$f":"HISTO!P1687","v":0},{"$f":"IF(AC1687=\"\",\"Zonard\",INDEX(AB1688:AB$2008,MIN(IF(COUNTIF(AC$2:AC1687,AB1688:AB$2008),ROW(AB$2008)-ROW()+1,ROW(AB1688:AB$2008)-ROW()+1))))","v":0},0]
[null,null,null,null,null,null,null,null,null,null,null,null,null,null,null,null,null,null,null,null,null,null,null,null,null,null,null,{"$f":"HISTO!P1688","v":0},{"$f":"IF(AC1688=\"\",\"Zonard\",INDEX(AB1689:AB$2008,MIN(IF(COUNTIF(AC$2:AC1688,AB1689:AB$2008),ROW(AB$2008)-ROW()+1,ROW(AB1689:AB$2008)-ROW()+1))))","v":0},0]
[null,null,null,null,null,null,null,null,null,null,null,null,null,null,null,null,null,null,null,null,null,null,null,null,null,null,null,{"$f":"HISTO!P1689","v":0},{"$f":"IF(AC1689=\"\",\"Zonard\",INDEX(AB1690:AB$2008,MIN(IF(COUNTIF(AC$2:AC1689,AB1690:AB$2008),ROW(AB$2008)-ROW()+1,ROW(AB1690:AB$2008)-ROW()+1))))","v":0},0]
[null,null,null,null,null,null,null,null,null,null,null,null,null,null,null,null,null,null,null,null,null,null,null,null,null,null,null,{"$f":"HISTO!P1690","v":0},{"$f":"IF(AC1690=\"\",\"Zonard\",INDEX(AB1691:AB$2008,MIN(IF(COUNTIF(AC$2:AC1690,AB1691:AB$2008),ROW(AB$2008)-ROW()+1,ROW(AB1691:AB$2008)-ROW()+1))))","v":0},0]
[null,null,null,null,null,null,null,null,null,null,null,null,null,null,null,null,null,null,null,null,null,null,null,null,null,null,null,{"$f":"HISTO!P1691","v":0},{"$f":"IF(AC1691=\"\",\"Zonard\",INDEX(AB1692:AB$2008,MIN(IF(COUNTIF(AC$2:AC1691,AB1692:AB$2008),ROW(AB$2008)-ROW()+1,ROW(AB1692:AB$2008)-ROW()+1))))","v":0},0]
[null,null,null,null,null,null,null,null,null,null,null,null,null,null,null,null,null,null,null,null,null,null,null,null,null,null,null,{"$f":"HISTO!P1692","v":0},{"$f":"IF(AC1692=\"\",\"Zonard\",INDEX(AB1693:AB$2008,MIN(IF(COUNTIF(AC$2:AC1692,AB1693:AB$2008),ROW(AB$2008)-ROW()+1,ROW(AB1693:AB$2008)-ROW()+1))))","v":0},0]
[null,null,null,null,null,null,null,null,null,null,null,null,null,null,null,null,null,null,null,null,null,null,null,null,null,null,null,{"$f":"HISTO!P1693","v":0},{"$f":"IF(AC1693=\"\",\"Zonard\",INDEX(AB1694:AB$2008,MIN(IF(COUNTIF(AC$2:AC1693,AB1694:AB$2008),ROW(AB$2008)-ROW()+1,ROW(AB1694:AB$2008)-ROW()+1))))","v":0},0]
[null,null,null,null,null,null,null,null,null,null,null,null,null,null,null,null,null,null,null,null,null,null,null,null,null,null,null,{"$f":"HISTO!P1694","v":0},{"$f":"IF(AC1694=\"\",\"Zonard\",INDEX(AB1695:AB$2008,MIN(IF(COUNTIF(AC$2:AC1694,AB1695:AB$2008),ROW(AB$2008)-ROW()+1,ROW(AB1695:AB$2008)-ROW()+1))))","v":0},0]
[null,null,null,null,null,null,null,null,null,null,null,null,null,null,null,null,null,null,null,null,null,null,null,null,null,null,null,{"$f":"HISTO!P1695","v":0},{"$f":"IF(AC1695=\"\",\"Zonard\",INDEX(AB1696:AB$2008,MIN(IF(COUNTIF(AC$2:AC1695,AB1696:AB$2008),ROW(AB$2008)-ROW()+1,ROW(AB1696:AB$2008)-ROW()+1))))","v":0},0]
[null,null,null,null,null,null,null,null,null,null,null,null,null,null,null,null,null,null,null,null,null,null,null,null,null,null,null,{"$f":"HISTO!P1696","v":0},{"$f":"IF(AC1696=\"\",\"Zonard\",INDEX(AB1697:AB$2008,MIN(IF(COUNTIF(AC$2:AC1696,AB1697:AB$2008),ROW(AB$2008)-ROW()+1,ROW(AB1697:AB$2008)-ROW()+1))))","v":0},0]
[null,null,null,null,null,null,null,null,null,null,null,null,null,null,null,null,null,null,null,null,null,null,null,null,null,null,null,{"$f":"HISTO!P1697","v":0},{"$f":"IF(AC1697=\"\",\"Zonard\",INDEX(AB1698:AB$2008,MIN(IF(COUNTIF(AC$2:AC1697,AB1698:AB$2008),ROW(AB$2008)-ROW()+1,ROW(AB1698:AB$2008)-ROW()+1))))","v":0},0]
[null,null,null,null,null,null,null,null,null,null,null,null,null,null,null,null,null,null,null,null,null,null,null,null,null,null,null,{"$f":"HISTO!P1698","v":0},{"$f":"IF(AC1698=\"\",\"Zonard\",INDEX(AB1699:AB$2008,MIN(IF(COUNTIF(AC$2:AC1698,AB1699:AB$2008),ROW(AB$2008)-ROW()+1,ROW(AB1699:AB$2008)-ROW()+1))))","v":0},0]
[null,null,null,null,null,null,null,null,null,null,null,null,null,null,null,null,null,null,null,null,null,null,null,null,null,null,null,{"$f":"HISTO!P1699","v":0},{"$f":"IF(AC1699=\"\",\"Zonard\",INDEX(AB1700:AB$2008,MIN(IF(COUNTIF(AC$2:AC1699,AB1700:AB$2008),ROW(AB$2008)-ROW()+1,ROW(AB1700:AB$2008)-ROW()+1))))","v":0},0]
[null,null,null,null,null,null,null,null,null,null,null,null,null,null,null,null,null,null,null,null,null,null,null,null,null,null,null,{"$f":"HISTO!P1700","v":0},{"$f":"IF(AC1700=\"\",\"Zonard\",INDEX(AB1701:AB$2008,MIN(IF(COUNTIF(AC$2:AC1700,AB1701:AB$2008),ROW(AB$2008)-ROW()+1,ROW(AB1701:AB$2008)-ROW()+1))))","v":0},0]
[null,null,null,null,null,null,null,null,null,null,null,null,null,null,null,null,null,null,null,null,null,null,null,null,null,null,null,{"$f":"HISTO!P1701","v":0},{"$f":"IF(AC1701=\"\",\"Zonard\",INDEX(AB1702:AB$2008,MIN(IF(COUNTIF(AC$2:AC1701,AB1702:AB$2008),ROW(AB$2008)-ROW()+1,ROW(AB1702:AB$2008)-ROW()+1))))","v":0},0]
[null,null,null,null,null,null,null,null,null,null,null,null,null,null,null,null,null,null,null,null,null,null,null,null,null,null,null,{"$f":"HISTO!P1702","v":0},{"$f":"IF(AC1702=\"\",\"Zonard\",INDEX(AB1703:AB$2008,MIN(IF(COUNTIF(AC$2:AC1702,AB1703:AB$2008),ROW(AB$2008)-ROW()+1,ROW(AB1703:AB$2008)-ROW()+1))))","v":0},0]
[null,null,null,null,null,null,null,null,null,null,null,null,null,null,null,null,null,null,null,null,null,null,null,null,null,null,null,{"$f":"HISTO!P1703","v":0},{"$f":"IF(AC1703=\"\",\"Zonard\",INDEX(AB1704:AB$2008,MIN(IF(COUNTIF(AC$2:AC1703,AB1704:AB$2008),ROW(AB$2008)-ROW()+1,ROW(AB1704:AB$2008)-ROW()+1))))","v":0},0]
[null,null,null,null,null,null,null,null,null,null,null,null,null,null,null,null,null,null,null,null,null,null,null,null,null,null,null,{"$f":"HISTO!P1704","v":0},{"$f":"IF(AC1704=\"\",\"Zonard\",INDEX(AB1705:AB$2008,MIN(IF(COUNTIF(AC$2:AC1704,AB1705:AB$2008),ROW(AB$2008)-ROW()+1,ROW(AB1705:AB$2008)-ROW()+1))))","v":0},0]
[null,null,null,null,null,null,null,null,null,null,null,null,null,null,null,null,null,null,null,null,null,null,null,null,null,null,null,{"$f":"HISTO!P1705","v":0},{"$f":"IF(AC1705=\"\",\"Zonard\",INDEX(AB1706:AB$2008,MIN(IF(COUNTIF(AC$2:AC1705,AB1706:AB$2008),ROW(AB$2008)-ROW()+1,ROW(AB1706:AB$2008)-ROW()+1))))","v":0},0]
[null,null,null,null,null,null,null,null,null,null,null,null,null,null,null,null,null,null,null,null,null,null,null,null,null,null,null,{"$f":"HISTO!P1706","v":0},{"$f":"IF(AC1706=\"\",\"Zonard\",INDEX(AB1707:AB$2008,MIN(IF(COUNTIF(AC$2:AC1706,AB1707:AB$2008),ROW(AB$2008)-ROW()+1,ROW(AB1707:AB$2008)-ROW()+1))))","v":0},0]
[null,null,null,null,null,null,null,null,null,null,null,null,null,null,null,null,null,null,null,null,null,null,null,null,null,null,null,{"$f":"HISTO!P1707","v":0},{"$f":"IF(AC1707=\"\",\"Zonard\",INDEX(AB1708:AB$2008,MIN(IF(COUNTIF(AC$2:AC1707,AB1708:AB$2008),ROW(AB$2008)-ROW()+1,ROW(AB1708:AB$2008)-ROW()+1))))","v":0},0]
[null,null,null,null,null,null,null,null,null,null,null,null,null,null,null,null,null,null,null,null,null,null,null,null,null,null,null,{"$f":"HISTO!P1708","v":0},{"$f":"IF(AC1708=\"\",\"Zonard\",INDEX(AB1709:AB$2008,MIN(IF(COUNTIF(AC$2:AC1708,AB1709:AB$2008),ROW(AB$2008)-ROW()+1,ROW(AB1709:AB$2008)-ROW()+1))))","v":0},0]
[null,null,null,null,null,null,null,null,null,null,null,null,null,null,null,null,null,null,null,null,null,null,null,null,null,null,null,{"$f":"HISTO!P1709","v":0},{"$f":"IF(AC1709=\"\",\"Zonard\",INDEX(AB1710:AB$2008,MIN(IF(COUNTIF(AC$2:AC1709,AB1710:AB$2008),ROW(AB$2008)-ROW()+1,ROW(AB1710:AB$2008)-ROW()+1))))","v":0},0]
[null,null,null,null,null,null,null,null,null,null,null,null,null,null,null,null,null,null,null,null,null,null,null,null,null,null,null,{"$f":"HISTO!P1710","v":0},{"$f":"IF(AC1710=\"\",\"Zonard\",INDEX(AB1711:AB$2008,MIN(IF(COUNTIF(AC$2:AC1710,AB1711:AB$2008),ROW(AB$2008)-ROW()+1,ROW(AB1711:AB$2008)-ROW()+1))))","v":0},0]
[null,null,null,null,null,null,null,null,null,null,null,null,null,null,null,null,null,null,null,null,null,null,null,null,null,null,null,{"$f":"HISTO!P1711","v":0},{"$f":"IF(AC1711=\"\",\"Zonard\",INDEX(AB1712:AB$2008,MIN(IF(COUNTIF(AC$2:AC1711,AB1712:AB$2008),ROW(AB$2008)-ROW()+1,ROW(AB1712:AB$2008)-ROW()+1))))","v":0},0]
[null,null,null,null,null,null,null,null,null,null,null,null,null,null,null,null,null,null,null,null,null,null,null,null,null,null,null,{"$f":"HISTO!P1712","v":0},{"$f":"IF(AC1712=\"\",\"Zonard\",INDEX(AB1713:AB$2008,MIN(IF(COUNTIF(AC$2:AC1712,AB1713:AB$2008),ROW(AB$2008)-ROW()+1,ROW(AB1713:AB$2008)-ROW()+1))))","v":0},0]
[null,null,null,null,null,null,null,null,null,null,null,null,null,null,null,null,null,null,null,null,null,null,null,null,null,null,null,{"$f":"HISTO!P1713","v":0},{"$f":"IF(AC1713=\"\",\"Zonard\",INDEX(AB1714:AB$2008,MIN(IF(COUNTIF(AC$2:AC1713,AB1714:AB$2008),ROW(AB$2008)-ROW()+1,ROW(AB1714:AB$2008)-ROW()+1))))","v":0},0]
[null,null,null,null,null,null,null,null,null,null,null,null,null,null,null,null,null,null,null,null,null,null,null,null,null,null,null,{"$f":"HISTO!P1714","v":0},{"$f":"IF(AC1714=\"\",\"Zonard\",INDEX(AB1715:AB$2008,MIN(IF(COUNTIF(AC$2:AC1714,AB1715:AB$2008),ROW(AB$2008)-ROW()+1,ROW(AB1715:AB$2008)-ROW()+1))))","v":0},0]
[null,null,null,null,null,null,null,null,null,null,null,null,null,null,null,null,null,null,null,null,null,null,null,null,null,null,null,{"$f":"HISTO!P1715","v":0},{"$f":"IF(AC1715=\"\",\"Zonard\",INDEX(AB1716:AB$2008,MIN(IF(COUNTIF(AC$2:AC1715,AB1716:AB$2008),ROW(AB$2008)-ROW()+1,ROW(AB1716:AB$2008)-ROW()+1))))","v":0},0]
[null,null,null,null,null,null,null,null,null,null,null,null,null,null,null,null,null,null,null,null,null,null,null,null,null,null,null,{"$f":"HISTO!P1716","v":0},{"$f":"IF(AC1716=\"\",\"Zonard\",INDEX(AB1717:AB$2008,MIN(IF(COUNTIF(AC$2:AC1716,AB1717:AB$2008),ROW(AB$2008)-ROW()+1,ROW(AB1717:AB$2008)-ROW()+1))))","v":0},0]
[null,null,null,null,null,null,null,null,null,null,null,null,null,null,null,null,null,null,null,null,null,null,null,null,null,null,null,{"$f":"HISTO!P1717","v":0},{"$f":"IF(AC1717=\"\",\"Zonard\",INDEX(AB1718:AB$2008,MIN(IF(COUNTIF(AC$2:AC1717,AB1718:AB$2008),ROW(AB$2008)-ROW()+1,ROW(AB1718:AB$2008)-ROW()+1))))","v":0},0]
[null,null,null,null,null,null,null,null,null,null,null,null,null,null,null,null,null,null,null,null,null,null,null,null,null,null,null,{"$f":"HISTO!P1718","v":0},{"$f":"IF(AC1718=\"\",\"Zonard\",INDEX(AB1719:AB$2008,MIN(IF(COUNTIF(AC$2:AC1718,AB1719:AB$2008),ROW(AB$2008)-ROW()+1,ROW(AB1719:AB$2008)-ROW()+1))))","v":0},0]
[null,null,null,null,null,null,null,null,null,null,null,null,null,null,null,null,null,null,null,null,null,null,null,null,null,null,null,{"$f":"HISTO!P1719","v":0},{"$f":"IF(AC1719=\"\",\"Zonard\",INDEX(AB1720:AB$2008,MIN(IF(COUNTIF(AC$2:AC1719,AB1720:AB$2008),ROW(AB$2008)-ROW()+1,ROW(AB1720:AB$2008)-ROW()+1))))","v":0},0]
[null,null,null,null,null,null,null,null,null,null,null,null,null,null,null,null,null,null,null,null,null,null,null,null,null,null,null,{"$f":"HISTO!P1720","v":0},{"$f":"IF(AC1720=\"\",\"Zonard\",INDEX(AB1721:AB$2008,MIN(IF(COUNTIF(AC$2:AC1720,AB1721:AB$2008),ROW(AB$2008)-ROW()+1,ROW(AB1721:AB$2008)-ROW()+1))))","v":0},0]
[null,null,null,null,null,null,null,null,null,null,null,null,null,null,null,null,null,null,null,null,null,null,null,null,null,null,null,{"$f":"HISTO!P1721","v":0},{"$f":"IF(AC1721=\"\",\"Zonard\",INDEX(AB1722:AB$2008,MIN(IF(COUNTIF(AC$2:AC1721,AB1722:AB$2008),ROW(AB$2008)-ROW()+1,ROW(AB1722:AB$2008)-ROW()+1))))","v":0},0]
[null,null,null,null,null,null,null,null,null,null,null,null,null,null,null,null,null,null,null,null,null,null,null,null,null,null,null,{"$f":"HISTO!P1722","v":0},{"$f":"IF(AC1722=\"\",\"Zonard\",INDEX(AB1723:AB$2008,MIN(IF(COUNTIF(AC$2:AC1722,AB1723:AB$2008),ROW(AB$2008)-ROW()+1,ROW(AB1723:AB$2008)-ROW()+1))))","v":0},0]
[null,null,null,null,null,null,null,null,null,null,null,null,null,null,null,null,null,null,null,null,null,null,null,null,null,null,null,{"$f":"HISTO!P1723","v":0},{"$f":"IF(AC1723=\"\",\"Zonard\",INDEX(AB1724:AB$2008,MIN(IF(COUNTIF(AC$2:AC1723,AB1724:AB$2008),ROW(AB$2008)-ROW()+1,ROW(AB1724:AB$2008)-ROW()+1))))","v":0},0]
[null,null,null,null,null,null,null,null,null,null,null,null,null,null,null,null,null,null,null,null,null,null,null,null,null,null,null,{"$f":"HISTO!P1724","v":0},{"$f":"IF(AC1724=\"\",\"Zonard\",INDEX(AB1725:AB$2008,MIN(IF(COUNTIF(AC$2:AC1724,AB1725:AB$2008),ROW(AB$2008)-ROW()+1,ROW(AB1725:AB$2008)-ROW()+1))))","v":0},0]
[null,null,null,null,null,null,null,null,null,null,null,null,null,null,null,null,null,null,null,null,null,null,null,null,null,null,null,{"$f":"HISTO!P1725","v":0},{"$f":"IF(AC1725=\"\",\"Zonard\",INDEX(AB1726:AB$2008,MIN(IF(COUNTIF(AC$2:AC1725,AB1726:AB$2008),ROW(AB$2008)-ROW()+1,ROW(AB1726:AB$2008)-ROW()+1))))","v":0},0]
[null,null,null,null,null,null,null,null,null,null,null,null,null,null,null,null,null,null,null,null,null,null,null,null,null,null,null,{"$f":"HISTO!P1726","v":0},{"$f":"IF(AC1726=\"\",\"Zonard\",INDEX(AB1727:AB$2008,MIN(IF(COUNTIF(AC$2:AC1726,AB1727:AB$2008),ROW(AB$2008)-ROW()+1,ROW(AB1727:AB$2008)-ROW()+1))))","v":0},0]
[null,null,null,null,null,null,null,null,null,null,null,null,null,null,null,null,null,null,null,null,null,null,null,null,null,null,null,{"$f":"HISTO!P1727","v":0},{"$f":"IF(AC1727=\"\",\"Zonard\",INDEX(AB1728:AB$2008,MIN(IF(COUNTIF(AC$2:AC1727,AB1728:AB$2008),ROW(AB$2008)-ROW()+1,ROW(AB1728:AB$2008)-ROW()+1))))","v":0},0]
[null,null,null,null,null,null,null,null,null,null,null,null,null,null,null,null,null,null,null,null,null,null,null,null,null,null,null,{"$f":"HISTO!P1728","v":0},{"$f":"IF(AC1728=\"\",\"Zonard\",INDEX(AB1729:AB$2008,MIN(IF(COUNTIF(AC$2:AC1728,AB1729:AB$2008),ROW(AB$2008)-ROW()+1,ROW(AB1729:AB$2008)-ROW()+1))))","v":0},0]
[null,null,null,null,null,null,null,null,null,null,null,null,null,null,null,null,null,null,null,null,null,null,null,null,null,null,null,{"$f":"HISTO!P1729","v":0},{"$f":"IF(AC1729=\"\",\"Zonard\",INDEX(AB1730:AB$2008,MIN(IF(COUNTIF(AC$2:AC1729,AB1730:AB$2008),ROW(AB$2008)-ROW()+1,ROW(AB1730:AB$2008)-ROW()+1))))","v":0},0]
[null,null,null,null,null,null,null,null,null,null,null,null,null,null,null,null,null,null,null,null,null,null,null,null,null,null,null,{"$f":"HISTO!P1730","v":0},{"$f":"IF(AC1730=\"\",\"Zonard\",INDEX(AB1731:AB$2008,MIN(IF(COUNTIF(AC$2:AC1730,AB1731:AB$2008),ROW(AB$2008)-ROW()+1,ROW(AB1731:AB$2008)-ROW()+1))))","v":0},0]
[null,null,null,null,null,null,null,null,null,null,null,null,null,null,null,null,null,null,null,null,null,null,null,null,null,null,null,{"$f":"HISTO!P1731","v":0},{"$f":"IF(AC1731=\"\",\"Zonard\",INDEX(AB1732:AB$2008,MIN(IF(COUNTIF(AC$2:AC1731,AB1732:AB$2008),ROW(AB$2008)-ROW()+1,ROW(AB1732:AB$2008)-ROW()+1))))","v":0},0]
[null,null,null,null,null,null,null,null,null,null,null,null,null,null,null,null,null,null,null,null,null,null,null,null,null,null,null,{"$f":"HISTO!P1732","v":0},{"$f":"IF(AC1732=\"\",\"Zonard\",INDEX(AB1733:AB$2008,MIN(IF(COUNTIF(AC$2:AC1732,AB1733:AB$2008),ROW(AB$2008)-ROW()+1,ROW(AB1733:AB$2008)-ROW()+1))))","v":0},0]
[null,null,null,null,null,null,null,null,null,null,null,null,null,null,null,null,null,null,null,null,null,null,null,null,null,null,null,{"$f":"HISTO!P1733","v":0},{"$f":"IF(AC1733=\"\",\"Zonard\",INDEX(AB1734:AB$2008,MIN(IF(COUNTIF(AC$2:AC1733,AB1734:AB$2008),ROW(AB$2008)-ROW()+1,ROW(AB1734:AB$2008)-ROW()+1))))","v":0},0]
[null,null,null,null,null,null,null,null,null,null,null,null,null,null,null,null,null,null,null,null,null,null,null,null,null,null,null,{"$f":"HISTO!P1734","v":0},{"$f":"IF(AC1734=\"\",\"Zonard\",INDEX(AB1735:AB$2008,MIN(IF(COUNTIF(AC$2:AC1734,AB1735:AB$2008),ROW(AB$2008)-ROW()+1,ROW(AB1735:AB$2008)-ROW()+1))))","v":0},0]
[null,null,null,null,null,null,null,null,null,null,null,null,null,null,null,null,null,null,null,null,null,null,null,null,null,null,null,{"$f":"HISTO!P1735","v":0},{"$f":"IF(AC1735=\"\",\"Zonard\",INDEX(AB1736:AB$2008,MIN(IF(COUNTIF(AC$2:AC1735,AB1736:AB$2008),ROW(AB$2008)-ROW()+1,ROW(AB1736:AB$2008)-ROW()+1))))","v":0},0]
[null,null,null,null,null,null,null,null,null,null,null,null,null,null,null,null,null,null,null,null,null,null,null,null,null,null,null,{"$f":"HISTO!P1736","v":0},{"$f":"IF(AC1736=\"\",\"Zonard\",INDEX(AB1737:AB$2008,MIN(IF(COUNTIF(AC$2:AC1736,AB1737:AB$2008),ROW(AB$2008)-ROW()+1,ROW(AB1737:AB$2008)-ROW()+1))))","v":0},0]
[null,null,null,null,null,null,null,null,null,null,null,null,null,null,null,null,null,null,null,null,null,null,null,null,null,null,null,{"$f":"HISTO!P1737","v":0},{"$f":"IF(AC1737=\"\",\"Zonard\",INDEX(AB1738:AB$2008,MIN(IF(COUNTIF(AC$2:AC1737,AB1738:AB$2008),ROW(AB$2008)-ROW()+1,ROW(AB1738:AB$2008)-ROW()+1))))","v":0},0]
[null,null,null,null,null,null,null,null,null,null,null,null,null,null,null,null,null,null,null,null,null,null,null,null,null,null,null,{"$f":"HISTO!P1738","v":0},{"$f":"IF(AC1738=\"\",\"Zonard\",INDEX(AB1739:AB$2008,MIN(IF(COUNTIF(AC$2:AC1738,AB1739:AB$2008),ROW(AB$2008)-ROW()+1,ROW(AB1739:AB$2008)-ROW()+1))))","v":0},0]
[null,null,null,null,null,null,null,null,null,null,null,null,null,null,null,null,null,null,null,null,null,null,null,null,null,null,null,{"$f":"HISTO!P1739","v":0},{"$f":"IF(AC1739=\"\",\"Zonard\",INDEX(AB1740:AB$2008,MIN(IF(COUNTIF(AC$2:AC1739,AB1740:AB$2008),ROW(AB$2008)-ROW()+1,ROW(AB1740:AB$2008)-ROW()+1))))","v":0},0]
[null,null,null,null,null,null,null,null,null,null,null,null,null,null,null,null,null,null,null,null,null,null,null,null,null,null,null,{"$f":"HISTO!P1740","v":0},{"$f":"IF(AC1740=\"\",\"Zonard\",INDEX(AB1741:AB$2008,MIN(IF(COUNTIF(AC$2:AC1740,AB1741:AB$2008),ROW(AB$2008)-ROW()+1,ROW(AB1741:AB$2008)-ROW()+1))))","v":0},0]
[null,null,null,null,null,null,null,null,null,null,null,null,null,null,null,null,null,null,null,null,null,null,null,null,null,null,null,{"$f":"HISTO!P1741","v":0},{"$f":"IF(AC1741=\"\",\"Zonard\",INDEX(AB1742:AB$2008,MIN(IF(COUNTIF(AC$2:AC1741,AB1742:AB$2008),ROW(AB$2008)-ROW()+1,ROW(AB1742:AB$2008)-ROW()+1))))","v":0},0]
[null,null,null,null,null,null,null,null,null,null,null,null,null,null,null,null,null,null,null,null,null,null,null,null,null,null,null,{"$f":"HISTO!P1742","v":0},{"$f":"IF(AC1742=\"\",\"Zonard\",INDEX(AB1743:AB$2008,MIN(IF(COUNTIF(AC$2:AC1742,AB1743:AB$2008),ROW(AB$2008)-ROW()+1,ROW(AB1743:AB$2008)-ROW()+1))))","v":0},0]
[null,null,null,null,null,null,null,null,null,null,null,null,null,null,null,null,null,null,null,null,null,null,null,null,null,null,null,{"$f":"HISTO!P1743","v":0},{"$f":"IF(AC1743=\"\",\"Zonard\",INDEX(AB1744:AB$2008,MIN(IF(COUNTIF(AC$2:AC1743,AB1744:AB$2008),ROW(AB$2008)-ROW()+1,ROW(AB1744:AB$2008)-ROW()+1))))","v":0},0]
[null,null,null,null,null,null,null,null,null,null,null,null,null,null,null,null,null,null,null,null,null,null,null,null,null,null,null,{"$f":"HISTO!P1744","v":0},{"$f":"IF(AC1744=\"\",\"Zonard\",INDEX(AB1745:AB$2008,MIN(IF(COUNTIF(AC$2:AC1744,AB1745:AB$2008),ROW(AB$2008)-ROW()+1,ROW(AB1745:AB$2008)-ROW()+1))))","v":0},0]
[null,null,null,null,null,null,null,null,null,null,null,null,null,null,null,null,null,null,null,null,null,null,null,null,null,null,null,{"$f":"HISTO!P1745","v":0},{"$f":"IF(AC1745=\"\",\"Zonard\",INDEX(AB1746:AB$2008,MIN(IF(COUNTIF(AC$2:AC1745,AB1746:AB$2008),ROW(AB$2008)-ROW()+1,ROW(AB1746:AB$2008)-ROW()+1))))","v":0},0]
[null,null,null,null,null,null,null,null,null,null,null,null,null,null,null,null,null,null,null,null,null,null,null,null,null,null,null,{"$f":"HISTO!P1746","v":0},{"$f":"IF(AC1746=\"\",\"Zonard\",INDEX(AB1747:AB$2008,MIN(IF(COUNTIF(AC$2:AC1746,AB1747:AB$2008),ROW(AB$2008)-ROW()+1,ROW(AB1747:AB$2008)-ROW()+1))))","v":0},0]
[null,null,null,null,null,null,null,null,null,null,null,null,null,null,null,null,null,null,null,null,null,null,null,null,null,null,null,{"$f":"HISTO!P1747","v":0},{"$f":"IF(AC1747=\"\",\"Zonard\",INDEX(AB1748:AB$2008,MIN(IF(COUNTIF(AC$2:AC1747,AB1748:AB$2008),ROW(AB$2008)-ROW()+1,ROW(AB1748:AB$2008)-ROW()+1))))","v":0},0]
[null,null,null,null,null,null,null,null,null,null,null,null,null,null,null,null,null,null,null,null,null,null,null,null,null,null,null,{"$f":"HISTO!P1748","v":0},{"$f":"IF(AC1748=\"\",\"Zonard\",INDEX(AB1749:AB$2008,MIN(IF(COUNTIF(AC$2:AC1748,AB1749:AB$2008),ROW(AB$2008)-ROW()+1,ROW(AB1749:AB$2008)-ROW()+1))))","v":0},0]
[null,null,null,null,null,null,null,null,null,null,null,null,null,null,null,null,null,null,null,null,null,null,null,null,null,null,null,{"$f":"HISTO!P1749","v":0},{"$f":"IF(AC1749=\"\",\"Zonard\",INDEX(AB1750:AB$2008,MIN(IF(COUNTIF(AC$2:AC1749,AB1750:AB$2008),ROW(AB$2008)-ROW()+1,ROW(AB1750:AB$2008)-ROW()+1))))","v":0},0]
[null,null,null,null,null,null,null,null,null,null,null,null,null,null,null,null,null,null,null,null,null,null,null,null,null,null,null,{"$f":"HISTO!P1750","v":0},{"$f":"IF(AC1750=\"\",\"Zonard\",INDEX(AB1751:AB$2008,MIN(IF(COUNTIF(AC$2:AC1750,AB1751:AB$2008),ROW(AB$2008)-ROW()+1,ROW(AB1751:AB$2008)-ROW()+1))))","v":0},0]
[null,null,null,null,null,null,null,null,null,null,null,null,null,null,null,null,null,null,null,null,null,null,null,null,null,null,null,{"$f":"HISTO!P1751","v":0},{"$f":"IF(AC1751=\"\",\"Zonard\",INDEX(AB1752:AB$2008,MIN(IF(COUNTIF(AC$2:AC1751,AB1752:AB$2008),ROW(AB$2008)-ROW()+1,ROW(AB1752:AB$2008)-ROW()+1))))","v":0},0]
[null,null,null,null,null,null,null,null,null,null,null,null,null,null,null,null,null,null,null,null,null,null,null,null,null,null,null,{"$f":"HISTO!P1752","v":0},{"$f":"IF(AC1752=\"\",\"Zonard\",INDEX(AB1753:AB$2008,MIN(IF(COUNTIF(AC$2:AC1752,AB1753:AB$2008),ROW(AB$2008)-ROW()+1,ROW(AB1753:AB$2008)-ROW()+1))))","v":0},0]
[null,null,null,null,null,null,null,null,null,null,null,null,null,null,null,null,null,null,null,null,null,null,null,null,null,null,null,{"$f":"HISTO!P1753","v":0},{"$f":"IF(AC1753=\"\",\"Zonard\",INDEX(AB1754:AB$2008,MIN(IF(COUNTIF(AC$2:AC1753,AB1754:AB$2008),ROW(AB$2008)-ROW()+1,ROW(AB1754:AB$2008)-ROW()+1))))","v":0},0]
[null,null,null,null,null,null,null,null,null,null,null,null,null,null,null,null,null,null,null,null,null,null,null,null,null,null,null,{"$f":"HISTO!P1754","v":0},{"$f":"IF(AC1754=\"\",\"Zonard\",INDEX(AB1755:AB$2008,MIN(IF(COUNTIF(AC$2:AC1754,AB1755:AB$2008),ROW(AB$2008)-ROW()+1,ROW(AB1755:AB$2008)-ROW()+1))))","v":0},0]
[null,null,null,null,null,null,null,null,null,null,null,null,null,null,null,null,null,null,null,null,null,null,null,null,null,null,null,{"$f":"HISTO!P1755","v":0},{"$f":"IF(AC1755=\"\",\"Zonard\",INDEX(AB1756:AB$2008,MIN(IF(COUNTIF(AC$2:AC1755,AB1756:AB$2008),ROW(AB$2008)-ROW()+1,ROW(AB1756:AB$2008)-ROW()+1))))","v":0},0]
[null,null,null,null,null,null,null,null,null,null,null,null,null,null,null,null,null,null,null,null,null,null,null,null,null,null,null,{"$f":"HISTO!P1756","v":0},{"$f":"IF(AC1756=\"\",\"Zonard\",INDEX(AB1757:AB$2008,MIN(IF(COUNTIF(AC$2:AC1756,AB1757:AB$2008),ROW(AB$2008)-ROW()+1,ROW(AB1757:AB$2008)-ROW()+1))))","v":0},0]
[null,null,null,null,null,null,null,null,null,null,null,null,null,null,null,null,null,null,null,null,null,null,null,null,null,null,null,{"$f":"HISTO!P1757","v":0},{"$f":"IF(AC1757=\"\",\"Zonard\",INDEX(AB1758:AB$2008,MIN(IF(COUNTIF(AC$2:AC1757,AB1758:AB$2008),ROW(AB$2008)-ROW()+1,ROW(AB1758:AB$2008)-ROW()+1))))","v":0},0]
[null,null,null,null,null,null,null,null,null,null,null,null,null,null,null,null,null,null,null,null,null,null,null,null,null,null,null,{"$f":"HISTO!P1758","v":0},{"$f":"IF(AC1758=\"\",\"Zonard\",INDEX(AB1759:AB$2008,MIN(IF(COUNTIF(AC$2:AC1758,AB1759:AB$2008),ROW(AB$2008)-ROW()+1,ROW(AB1759:AB$2008)-ROW()+1))))","v":0},0]
[null,null,null,null,null,null,null,null,null,null,null,null,null,null,null,null,null,null,null,null,null,null,null,null,null,null,null,{"$f":"HISTO!P1759","v":0},{"$f":"IF(AC1759=\"\",\"Zonard\",INDEX(AB1760:AB$2008,MIN(IF(COUNTIF(AC$2:AC1759,AB1760:AB$2008),ROW(AB$2008)-ROW()+1,ROW(AB1760:AB$2008)-ROW()+1))))","v":0},0]
[null,null,null,null,null,null,null,null,null,null,null,null,null,null,null,null,null,null,null,null,null,null,null,null,null,null,null,{"$f":"HISTO!P1760","v":0},{"$f":"IF(AC1760=\"\",\"Zonard\",INDEX(AB1761:AB$2008,MIN(IF(COUNTIF(AC$2:AC1760,AB1761:AB$2008),ROW(AB$2008)-ROW()+1,ROW(AB1761:AB$2008)-ROW()+1))))","v":0},0]
[null,null,null,null,null,null,null,null,null,null,null,null,null,null,null,null,null,null,null,null,null,null,null,null,null,null,null,{"$f":"HISTO!P1761","v":0},{"$f":"IF(AC1761=\"\",\"Zonard\",INDEX(AB1762:AB$2008,MIN(IF(COUNTIF(AC$2:AC1761,AB1762:AB$2008),ROW(AB$2008)-ROW()+1,ROW(AB1762:AB$2008)-ROW()+1))))","v":0},0]
[null,null,null,null,null,null,null,null,null,null,null,null,null,null,null,null,null,null,null,null,null,null,null,null,null,null,null,{"$f":"HISTO!P1762","v":0},{"$f":"IF(AC1762=\"\",\"Zonard\",INDEX(AB1763:AB$2008,MIN(IF(COUNTIF(AC$2:AC1762,AB1763:AB$2008),ROW(AB$2008)-ROW()+1,ROW(AB1763:AB$2008)-ROW()+1))))","v":0},0]
[null,null,null,null,null,null,null,null,null,null,null,null,null,null,null,null,null,null,null,null,null,null,null,null,null,null,null,{"$f":"HISTO!P1763","v":0},{"$f":"IF(AC1763=\"\",\"Zonard\",INDEX(AB1764:AB$2008,MIN(IF(COUNTIF(AC$2:AC1763,AB1764:AB$2008),ROW(AB$2008)-ROW()+1,ROW(AB1764:AB$2008)-ROW()+1))))","v":0},0]
[null,null,null,null,null,null,null,null,null,null,null,null,null,null,null,null,null,null,null,null,null,null,null,null,null,null,null,{"$f":"HISTO!P1764","v":0},{"$f":"IF(AC1764=\"\",\"Zonard\",INDEX(AB1765:AB$2008,MIN(IF(COUNTIF(AC$2:AC1764,AB1765:AB$2008),ROW(AB$2008)-ROW()+1,ROW(AB1765:AB$2008)-ROW()+1))))","v":0},0]
[null,null,null,null,null,null,null,null,null,null,null,null,null,null,null,null,null,null,null,null,null,null,null,null,null,null,null,{"$f":"HISTO!P1765","v":0},{"$f":"IF(AC1765=\"\",\"Zonard\",INDEX(AB1766:AB$2008,MIN(IF(COUNTIF(AC$2:AC1765,AB1766:AB$2008),ROW(AB$2008)-ROW()+1,ROW(AB1766:AB$2008)-ROW()+1))))","v":0},0]
[null,null,null,null,null,null,null,null,null,null,null,null,null,null,null,null,null,null,null,null,null,null,null,null,null,null,null,{"$f":"HISTO!P1766","v":0},{"$f":"IF(AC1766=\"\",\"Zonard\",INDEX(AB1767:AB$2008,MIN(IF(COUNTIF(AC$2:AC1766,AB1767:AB$2008),ROW(AB$2008)-ROW()+1,ROW(AB1767:AB$2008)-ROW()+1))))","v":0},0]
[null,null,null,null,null,null,null,null,null,null,null,null,null,null,null,null,null,null,null,null,null,null,null,null,null,null,null,{"$f":"HISTO!P1767","v":0},{"$f":"IF(AC1767=\"\",\"Zonard\",INDEX(AB1768:AB$2008,MIN(IF(COUNTIF(AC$2:AC1767,AB1768:AB$2008),ROW(AB$2008)-ROW()+1,ROW(AB1768:AB$2008)-ROW()+1))))","v":0},0]
[null,null,null,null,null,null,null,null,null,null,null,null,null,null,null,null,null,null,null,null,null,null,null,null,null,null,null,{"$f":"HISTO!P1768","v":0},{"$f":"IF(AC1768=\"\",\"Zonard\",INDEX(AB1769:AB$2008,MIN(IF(COUNTIF(AC$2:AC1768,AB1769:AB$2008),ROW(AB$2008)-ROW()+1,ROW(AB1769:AB$2008)-ROW()+1))))","v":0},0]
[null,null,null,null,null,null,null,null,null,null,null,null,null,null,null,null,null,null,null,null,null,null,null,null,null,null,null,{"$f":"HISTO!P1769","v":0},{"$f":"IF(AC1769=\"\",\"Zonard\",INDEX(AB1770:AB$2008,MIN(IF(COUNTIF(AC$2:AC1769,AB1770:AB$2008),ROW(AB$2008)-ROW()+1,ROW(AB1770:AB$2008)-ROW()+1))))","v":0},0]
[null,null,null,null,null,null,null,null,null,null,null,null,null,null,null,null,null,null,null,null,null,null,null,null,null,null,null,{"$f":"HISTO!P1770","v":0},{"$f":"IF(AC1770=\"\",\"Zonard\",INDEX(AB1771:AB$2008,MIN(IF(COUNTIF(AC$2:AC1770,AB1771:AB$2008),ROW(AB$2008)-ROW()+1,ROW(AB1771:AB$2008)-ROW()+1))))","v":0},0]
[null,null,null,null,null,null,null,null,null,null,null,null,null,null,null,null,null,null,null,null,null,null,null,null,null,null,null,{"$f":"HISTO!P1771","v":0},{"$f":"IF(AC1771=\"\",\"Zonard\",INDEX(AB1772:AB$2008,MIN(IF(COUNTIF(AC$2:AC1771,AB1772:AB$2008),ROW(AB$2008)-ROW()+1,ROW(AB1772:AB$2008)-ROW()+1))))","v":0},0]
[null,null,null,null,null,null,null,null,null,null,null,null,null,null,null,null,null,null,null,null,null,null,null,null,null,null,null,{"$f":"HISTO!P1772","v":0},{"$f":"IF(AC1772=\"\",\"Zonard\",INDEX(AB1773:AB$2008,MIN(IF(COUNTIF(AC$2:AC1772,AB1773:AB$2008),ROW(AB$2008)-ROW()+1,ROW(AB1773:AB$2008)-ROW()+1))))","v":0},0]
[null,null,null,null,null,null,null,null,null,null,null,null,null,null,null,null,null,null,null,null,null,null,null,null,null,null,null,{"$f":"HISTO!P1773","v":0},{"$f":"IF(AC1773=\"\",\"Zonard\",INDEX(AB1774:AB$2008,MIN(IF(COUNTIF(AC$2:AC1773,AB1774:AB$2008),ROW(AB$2008)-ROW()+1,ROW(AB1774:AB$2008)-ROW()+1))))","v":0},0]
[null,null,null,null,null,null,null,null,null,null,null,null,null,null,null,null,null,null,null,null,null,null,null,null,null,null,null,{"$f":"HISTO!P1774","v":0},{"$f":"IF(AC1774=\"\",\"Zonard\",INDEX(AB1775:AB$2008,MIN(IF(COUNTIF(AC$2:AC1774,AB1775:AB$2008),ROW(AB$2008)-ROW()+1,ROW(AB1775:AB$2008)-ROW()+1))))","v":0},0]
[null,null,null,null,null,null,null,null,null,null,null,null,null,null,null,null,null,null,null,null,null,null,null,null,null,null,null,{"$f":"HISTO!P1775","v":0},{"$f":"IF(AC1775=\"\",\"Zonard\",INDEX(AB1776:AB$2008,MIN(IF(COUNTIF(AC$2:AC1775,AB1776:AB$2008),ROW(AB$2008)-ROW()+1,ROW(AB1776:AB$2008)-ROW()+1))))","v":0},0]
[null,null,null,null,null,null,null,null,null,null,null,null,null,null,null,null,null,null,null,null,null,null,null,null,null,null,null,{"$f":"HISTO!P1776","v":0},{"$f":"IF(AC1776=\"\",\"Zonard\",INDEX(AB1777:AB$2008,MIN(IF(COUNTIF(AC$2:AC1776,AB1777:AB$2008),ROW(AB$2008)-ROW()+1,ROW(AB1777:AB$2008)-ROW()+1))))","v":0},0]
[null,null,null,null,null,null,null,null,null,null,null,null,null,null,null,null,null,null,null,null,null,null,null,null,null,null,null,{"$f":"HISTO!P1777","v":0},{"$f":"IF(AC1777=\"\",\"Zonard\",INDEX(AB1778:AB$2008,MIN(IF(COUNTIF(AC$2:AC1777,AB1778:AB$2008),ROW(AB$2008)-ROW()+1,ROW(AB1778:AB$2008)-ROW()+1))))","v":0},0]
[null,null,null,null,null,null,null,null,null,null,null,null,null,null,null,null,null,null,null,null,null,null,null,null,null,null,null,{"$f":"HISTO!P1778","v":0},{"$f":"IF(AC1778=\"\",\"Zonard\",INDEX(AB1779:AB$2008,MIN(IF(COUNTIF(AC$2:AC1778,AB1779:AB$2008),ROW(AB$2008)-ROW()+1,ROW(AB1779:AB$2008)-ROW()+1))))","v":0},0]
[null,null,null,null,null,null,null,null,null,null,null,null,null,null,null,null,null,null,null,null,null,null,null,null,null,null,null,{"$f":"HISTO!P1779","v":0},{"$f":"IF(AC1779=\"\",\"Zonard\",INDEX(AB1780:AB$2008,MIN(IF(COUNTIF(AC$2:AC1779,AB1780:AB$2008),ROW(AB$2008)-ROW()+1,ROW(AB1780:AB$2008)-ROW()+1))))","v":0},0]
[null,null,null,null,null,null,null,null,null,null,null,null,null,null,null,null,null,null,null,null,null,null,null,null,null,null,null,{"$f":"HISTO!P1780","v":0},{"$f":"IF(AC1780=\"\",\"Zonard\",INDEX(AB1781:AB$2008,MIN(IF(COUNTIF(AC$2:AC1780,AB1781:AB$2008),ROW(AB$2008)-ROW()+1,ROW(AB1781:AB$2008)-ROW()+1))))","v":0},0]
[null,null,null,null,null,null,null,null,null,null,null,null,null,null,null,null,null,null,null,null,null,null,null,null,null,null,null,{"$f":"HISTO!P1781","v":0},{"$f":"IF(AC1781=\"\",\"Zonard\",INDEX(AB1782:AB$2008,MIN(IF(COUNTIF(AC$2:AC1781,AB1782:AB$2008),ROW(AB$2008)-ROW()+1,ROW(AB1782:AB$2008)-ROW()+1))))","v":0},0]
[null,null,null,null,null,null,null,null,null,null,null,null,null,null,null,null,null,null,null,null,null,null,null,null,null,null,null,{"$f":"HISTO!P1782","v":0},{"$f":"IF(AC1782=\"\",\"Zonard\",INDEX(AB1783:AB$2008,MIN(IF(COUNTIF(AC$2:AC1782,AB1783:AB$2008),ROW(AB$2008)-ROW()+1,ROW(AB1783:AB$2008)-ROW()+1))))","v":0},0]
[null,null,null,null,null,null,null,null,null,null,null,null,null,null,null,null,null,null,null,null,null,null,null,null,null,null,null,{"$f":"HISTO!P1783","v":0},{"$f":"IF(AC1783=\"\",\"Zonard\",INDEX(AB1784:AB$2008,MIN(IF(COUNTIF(AC$2:AC1783,AB1784:AB$2008),ROW(AB$2008)-ROW()+1,ROW(AB1784:AB$2008)-ROW()+1))))","v":0},0]
[null,null,null,null,null,null,null,null,null,null,null,null,null,null,null,null,null,null,null,null,null,null,null,null,null,null,null,{"$f":"HISTO!P1784","v":0},{"$f":"IF(AC1784=\"\",\"Zonard\",INDEX(AB1785:AB$2008,MIN(IF(COUNTIF(AC$2:AC1784,AB1785:AB$2008),ROW(AB$2008)-ROW()+1,ROW(AB1785:AB$2008)-ROW()+1))))","v":0},0]
[null,null,null,null,null,null,null,null,null,null,null,null,null,null,null,null,null,null,null,null,null,null,null,null,null,null,null,{"$f":"HISTO!P1785","v":0},{"$f":"IF(AC1785=\"\",\"Zonard\",INDEX(AB1786:AB$2008,MIN(IF(COUNTIF(AC$2:AC1785,AB1786:AB$2008),ROW(AB$2008)-ROW()+1,ROW(AB1786:AB$2008)-ROW()+1))))","v":0},0]
[null,null,null,null,null,null,null,null,null,null,null,null,null,null,null,null,null,null,null,null,null,null,null,null,null,null,null,{"$f":"HISTO!P1786","v":0},{"$f":"IF(AC1786=\"\",\"Zonard\",INDEX(AB1787:AB$2008,MIN(IF(COUNTIF(AC$2:AC1786,AB1787:AB$2008),ROW(AB$2008)-ROW()+1,ROW(AB1787:AB$2008)-ROW()+1))))","v":0},0]
[null,null,null,null,null,null,null,null,null,null,null,null,null,null,null,null,null,null,null,null,null,null,null,null,null,null,null,{"$f":"HISTO!P1787","v":0},{"$f":"IF(AC1787=\"\",\"Zonard\",INDEX(AB1788:AB$2008,MIN(IF(COUNTIF(AC$2:AC1787,AB1788:AB$2008),ROW(AB$2008)-ROW()+1,ROW(AB1788:AB$2008)-ROW()+1))))","v":0},0]
[null,null,null,null,null,null,null,null,null,null,null,null,null,null,null,null,null,null,null,null,null,null,null,null,null,null,null,{"$f":"HISTO!P1788","v":0},{"$f":"IF(AC1788=\"\",\"Zonard\",INDEX(AB1789:AB$2008,MIN(IF(COUNTIF(AC$2:AC1788,AB1789:AB$2008),ROW(AB$2008)-ROW()+1,ROW(AB1789:AB$2008)-ROW()+1))))","v":0},0]
[null,null,null,null,null,null,null,null,null,null,null,null,null,null,null,null,null,null,null,null,null,null,null,null,null,null,null,{"$f":"HISTO!P1789","v":0},{"$f":"IF(AC1789=\"\",\"Zonard\",INDEX(AB1790:AB$2008,MIN(IF(COUNTIF(AC$2:AC1789,AB1790:AB$2008),ROW(AB$2008)-ROW()+1,ROW(AB1790:AB$2008)-ROW()+1))))","v":0},0]
[null,null,null,null,null,null,null,null,null,null,null,null,null,null,null,null,null,null,null,null,null,null,null,null,null,null,null,{"$f":"HISTO!P1790","v":0},{"$f":"IF(AC1790=\"\",\"Zonard\",INDEX(AB1791:AB$2008,MIN(IF(COUNTIF(AC$2:AC1790,AB1791:AB$2008),ROW(AB$2008)-ROW()+1,ROW(AB1791:AB$2008)-ROW()+1))))","v":0},0]
[null,null,null,null,null,null,null,null,null,null,null,null,null,null,null,null,null,null,null,null,null,null,null,null,null,null,null,{"$f":"HISTO!P1791","v":0},{"$f":"IF(AC1791=\"\",\"Zonard\",INDEX(AB1792:AB$2008,MIN(IF(COUNTIF(AC$2:AC1791,AB1792:AB$2008),ROW(AB$2008)-ROW()+1,ROW(AB1792:AB$2008)-ROW()+1))))","v":0},0]
[null,null,null,null,null,null,null,null,null,null,null,null,null,null,null,null,null,null,null,null,null,null,null,null,null,null,null,{"$f":"HISTO!P1792","v":0},{"$f":"IF(AC1792=\"\",\"Zonard\",INDEX(AB1793:AB$2008,MIN(IF(COUNTIF(AC$2:AC1792,AB1793:AB$2008),ROW(AB$2008)-ROW()+1,ROW(AB1793:AB$2008)-ROW()+1))))","v":0},0]
[null,null,null,null,null,null,null,null,null,null,null,null,null,null,null,null,null,null,null,null,null,null,null,null,null,null,null,{"$f":"HISTO!P1793","v":0},{"$f":"IF(AC1793=\"\",\"Zonard\",INDEX(AB1794:AB$2008,MIN(IF(COUNTIF(AC$2:AC1793,AB1794:AB$2008),ROW(AB$2008)-ROW()+1,ROW(AB1794:AB$2008)-ROW()+1))))","v":0},0]
[null,null,null,null,null,null,null,null,null,null,null,null,null,null,null,null,null,null,null,null,null,null,null,null,null,null,null,{"$f":"HISTO!P1794","v":0},{"$f":"IF(AC1794=\"\",\"Zonard\",INDEX(AB1795:AB$2008,MIN(IF(COUNTIF(AC$2:AC1794,AB1795:AB$2008),ROW(AB$2008)-ROW()+1,ROW(AB1795:AB$2008)-ROW()+1))))","v":0},0]
[null,null,null,null,null,null,null,null,null,null,null,null,null,null,null,null,null,null,null,null,null,null,null,null,null,null,null,{"$f":"HISTO!P1795","v":0},{"$f":"IF(AC1795=\"\",\"Zonard\",INDEX(AB1796:AB$2008,MIN(IF(COUNTIF(AC$2:AC1795,AB1796:AB$2008),ROW(AB$2008)-ROW()+1,ROW(AB1796:AB$2008)-ROW()+1))))","v":0},0]
[null,null,null,null,null,null,null,null,null,null,null,null,null,null,null,null,null,null,null,null,null,null,null,null,null,null,null,{"$f":"HISTO!P1796","v":0},{"$f":"IF(AC1796=\"\",\"Zonard\",INDEX(AB1797:AB$2008,MIN(IF(COUNTIF(AC$2:AC1796,AB1797:AB$2008),ROW(AB$2008)-ROW()+1,ROW(AB1797:AB$2008)-ROW()+1))))","v":0},0]
[null,null,null,null,null,null,null,null,null,null,null,null,null,null,null,null,null,null,null,null,null,null,null,null,null,null,null,{"$f":"HISTO!P1797","v":0},{"$f":"IF(AC1797=\"\",\"Zonard\",INDEX(AB1798:AB$2008,MIN(IF(COUNTIF(AC$2:AC1797,AB1798:AB$2008),ROW(AB$2008)-ROW()+1,ROW(AB1798:AB$2008)-ROW()+1))))","v":0},0]
[null,null,null,null,null,null,null,null,null,null,null,null,null,null,null,null,null,null,null,null,null,null,null,null,null,null,null,{"$f":"HISTO!P1798","v":0},{"$f":"IF(AC1798=\"\",\"Zonard\",INDEX(AB1799:AB$2008,MIN(IF(COUNTIF(AC$2:AC1798,AB1799:AB$2008),ROW(AB$2008)-ROW()+1,ROW(AB1799:AB$2008)-ROW()+1))))","v":0},0]
[null,null,null,null,null,null,null,null,null,null,null,null,null,null,null,null,null,null,null,null,null,null,null,null,null,null,null,{"$f":"HISTO!P1799","v":0},{"$f":"IF(AC1799=\"\",\"Zonard\",INDEX(AB1800:AB$2008,MIN(IF(COUNTIF(AC$2:AC1799,AB1800:AB$2008),ROW(AB$2008)-ROW()+1,ROW(AB1800:AB$2008)-ROW()+1))))","v":0},0]
[null,null,null,null,null,null,null,null,null,null,null,null,null,null,null,null,null,null,null,null,null,null,null,null,null,null,null,{"$f":"HISTO!P1800","v":0},{"$f":"IF(AC1800=\"\",\"Zonard\",INDEX(AB1801:AB$2008,MIN(IF(COUNTIF(AC$2:AC1800,AB1801:AB$2008),ROW(AB$2008)-ROW()+1,ROW(AB1801:AB$2008)-ROW()+1))))","v":0},0]
[null,null,null,null,null,null,null,null,null,null,null,null,null,null,null,null,null,null,null,null,null,null,null,null,null,null,null,{"$f":"HISTO!P1801","v":0},{"$f":"IF(AC1801=\"\",\"Zonard\",INDEX(AB1802:AB$2008,MIN(IF(COUNTIF(AC$2:AC1801,AB1802:AB$2008),ROW(AB$2008)-ROW()+1,ROW(AB1802:AB$2008)-ROW()+1))))","v":0},0]
[null,null,null,null,null,null,null,null,null,null,null,null,null,null,null,null,null,null,null,null,null,null,null,null,null,null,null,{"$f":"HISTO!P1802","v":0},{"$f":"IF(AC1802=\"\",\"Zonard\",INDEX(AB1803:AB$2008,MIN(IF(COUNTIF(AC$2:AC1802,AB1803:AB$2008),ROW(AB$2008)-ROW()+1,ROW(AB1803:AB$2008)-ROW()+1))))","v":0},0]
[null,null,null,null,null,null,null,null,null,null,null,null,null,null,null,null,null,null,null,null,null,null,null,null,null,null,null,{"$f":"HISTO!P1803","v":0},{"$f":"IF(AC1803=\"\",\"Zonard\",INDEX(AB1804:AB$2008,MIN(IF(COUNTIF(AC$2:AC1803,AB1804:AB$2008),ROW(AB$2008)-ROW()+1,ROW(AB1804:AB$2008)-ROW()+1))))","v":0},0]
[null,null,null,null,null,null,null,null,null,null,null,null,null,null,null,null,null,null,null,null,null,null,null,null,null,null,null,{"$f":"HISTO!P1804","v":0},{"$f":"IF(AC1804=\"\",\"Zonard\",INDEX(AB1805:AB$2008,MIN(IF(COUNTIF(AC$2:AC1804,AB1805:AB$2008),ROW(AB$2008)-ROW()+1,ROW(AB1805:AB$2008)-ROW()+1))))","v":0},0]
[null,null,null,null,null,null,null,null,null,null,null,null,null,null,null,null,null,null,null,null,null,null,null,null,null,null,null,{"$f":"HISTO!P1805","v":0},{"$f":"IF(AC1805=\"\",\"Zonard\",INDEX(AB1806:AB$2008,MIN(IF(COUNTIF(AC$2:AC1805,AB1806:AB$2008),ROW(AB$2008)-ROW()+1,ROW(AB1806:AB$2008)-ROW()+1))))","v":0},0]
[null,null,null,null,null,null,null,null,null,null,null,null,null,null,null,null,null,null,null,null,null,null,null,null,null,null,null,{"$f":"HISTO!P1806","v":0},{"$f":"IF(AC1806=\"\",\"Zonard\",INDEX(AB1807:AB$2008,MIN(IF(COUNTIF(AC$2:AC1806,AB1807:AB$2008),ROW(AB$2008)-ROW()+1,ROW(AB1807:AB$2008)-ROW()+1))))","v":0},0]
[null,null,null,null,null,null,null,null,null,null,null,null,null,null,null,null,null,null,null,null,null,null,null,null,null,null,null,{"$f":"HISTO!P1807","v":0},{"$f":"IF(AC1807=\"\",\"Zonard\",INDEX(AB1808:AB$2008,MIN(IF(COUNTIF(AC$2:AC1807,AB1808:AB$2008),ROW(AB$2008)-ROW()+1,ROW(AB1808:AB$2008)-ROW()+1))))","v":0},0]
[null,null,null,null,null,null,null,null,null,null,null,null,null,null,null,null,null,null,null,null,null,null,null,null,null,null,null,{"$f":"HISTO!P1808","v":0},{"$f":"IF(AC1808=\"\",\"Zonard\",INDEX(AB1809:AB$2008,MIN(IF(COUNTIF(AC$2:AC1808,AB1809:AB$2008),ROW(AB$2008)-ROW()+1,ROW(AB1809:AB$2008)-ROW()+1))))","v":0},0]
[null,null,null,null,null,null,null,null,null,null,null,null,null,null,null,null,null,null,null,null,null,null,null,null,null,null,null,{"$f":"HISTO!P1809","v":0},{"$f":"IF(AC1809=\"\",\"Zonard\",INDEX(AB1810:AB$2008,MIN(IF(COUNTIF(AC$2:AC1809,AB1810:AB$2008),ROW(AB$2008)-ROW()+1,ROW(AB1810:AB$2008)-ROW()+1))))","v":0},0]
[null,null,null,null,null,null,null,null,null,null,null,null,null,null,null,null,null,null,null,null,null,null,null,null,null,null,null,{"$f":"HISTO!P1810","v":0},{"$f":"IF(AC1810=\"\",\"Zonard\",INDEX(AB1811:AB$2008,MIN(IF(COUNTIF(AC$2:AC1810,AB1811:AB$2008),ROW(AB$2008)-ROW()+1,ROW(AB1811:AB$2008)-ROW()+1))))","v":0},0]
[null,null,null,null,null,null,null,null,null,null,null,null,null,null,null,null,null,null,null,null,null,null,null,null,null,null,null,{"$f":"HISTO!P1811","v":0},{"$f":"IF(AC1811=\"\",\"Zonard\",INDEX(AB1812:AB$2008,MIN(IF(COUNTIF(AC$2:AC1811,AB1812:AB$2008),ROW(AB$2008)-ROW()+1,ROW(AB1812:AB$2008)-ROW()+1))))","v":0},0]
[null,null,null,null,null,null,null,null,null,null,null,null,null,null,null,null,null,null,null,null,null,null,null,null,null,null,null,{"$f":"HISTO!P1812","v":0},{"$f":"IF(AC1812=\"\",\"Zonard\",INDEX(AB1813:AB$2008,MIN(IF(COUNTIF(AC$2:AC1812,AB1813:AB$2008),ROW(AB$2008)-ROW()+1,ROW(AB1813:AB$2008)-ROW()+1))))","v":0},0]
[null,null,null,null,null,null,null,null,null,null,null,null,null,null,null,null,null,null,null,null,null,null,null,null,null,null,null,{"$f":"HISTO!P1813","v":0},{"$f":"IF(AC1813=\"\",\"Zonard\",INDEX(AB1814:AB$2008,MIN(IF(COUNTIF(AC$2:AC1813,AB1814:AB$2008),ROW(AB$2008)-ROW()+1,ROW(AB1814:AB$2008)-ROW()+1))))","v":0},0]
[null,null,null,null,null,null,null,null,null,null,null,null,null,null,null,null,null,null,null,null,null,null,null,null,null,null,null,{"$f":"HISTO!P1814","v":0},{"$f":"IF(AC1814=\"\",\"Zonard\",INDEX(AB1815:AB$2008,MIN(IF(COUNTIF(AC$2:AC1814,AB1815:AB$2008),ROW(AB$2008)-ROW()+1,ROW(AB1815:AB$2008)-ROW()+1))))","v":0},0]
[null,null,null,null,null,null,null,null,null,null,null,null,null,null,null,null,null,null,null,null,null,null,null,null,null,null,null,{"$f":"HISTO!P1815","v":0},{"$f":"IF(AC1815=\"\",\"Zonard\",INDEX(AB1816:AB$2008,MIN(IF(COUNTIF(AC$2:AC1815,AB1816:AB$2008),ROW(AB$2008)-ROW()+1,ROW(AB1816:AB$2008)-ROW()+1))))","v":0},0]
[null,null,null,null,null,null,null,null,null,null,null,null,null,null,null,null,null,null,null,null,null,null,null,null,null,null,null,{"$f":"HISTO!P1816","v":0},{"$f":"IF(AC1816=\"\",\"Zonard\",INDEX(AB1817:AB$2008,MIN(IF(COUNTIF(AC$2:AC1816,AB1817:AB$2008),ROW(AB$2008)-ROW()+1,ROW(AB1817:AB$2008)-ROW()+1))))","v":0},0]
[null,null,null,null,null,null,null,null,null,null,null,null,null,null,null,null,null,null,null,null,null,null,null,null,null,null,null,{"$f":"HISTO!P1817","v":0},{"$f":"IF(AC1817=\"\",\"Zonard\",INDEX(AB1818:AB$2008,MIN(IF(COUNTIF(AC$2:AC1817,AB1818:AB$2008),ROW(AB$2008)-ROW()+1,ROW(AB1818:AB$2008)-ROW()+1))))","v":0},0]
[null,null,null,null,null,null,null,null,null,null,null,null,null,null,null,null,null,null,null,null,null,null,null,null,null,null,null,{"$f":"HISTO!P1818","v":0},{"$f":"IF(AC1818=\"\",\"Zonard\",INDEX(AB1819:AB$2008,MIN(IF(COUNTIF(AC$2:AC1818,AB1819:AB$2008),ROW(AB$2008)-ROW()+1,ROW(AB1819:AB$2008)-ROW()+1))))","v":0},0]
[null,null,null,null,null,null,null,null,null,null,null,null,null,null,null,null,null,null,null,null,null,null,null,null,null,null,null,{"$f":"HISTO!P1819","v":0},{"$f":"IF(AC1819=\"\",\"Zonard\",INDEX(AB1820:AB$2008,MIN(IF(COUNTIF(AC$2:AC1819,AB1820:AB$2008),ROW(AB$2008)-ROW()+1,ROW(AB1820:AB$2008)-ROW()+1))))","v":0},0]
[null,null,null,null,null,null,null,null,null,null,null,null,null,null,null,null,null,null,null,null,null,null,null,null,null,null,null,{"$f":"HISTO!P1820","v":0},{"$f":"IF(AC1820=\"\",\"Zonard\",INDEX(AB1821:AB$2008,MIN(IF(COUNTIF(AC$2:AC1820,AB1821:AB$2008),ROW(AB$2008)-ROW()+1,ROW(AB1821:AB$2008)-ROW()+1))))","v":0},0]
[null,null,null,null,null,null,null,null,null,null,null,null,null,null,null,null,null,null,null,null,null,null,null,null,null,null,null,{"$f":"HISTO!P1821","v":0},{"$f":"IF(AC1821=\"\",\"Zonard\",INDEX(AB1822:AB$2008,MIN(IF(COUNTIF(AC$2:AC1821,AB1822:AB$2008),ROW(AB$2008)-ROW()+1,ROW(AB1822:AB$2008)-ROW()+1))))","v":0},0]
[null,null,null,null,null,null,null,null,null,null,null,null,null,null,null,null,null,null,null,null,null,null,null,null,null,null,null,{"$f":"HISTO!P1822","v":0},{"$f":"IF(AC1822=\"\",\"Zonard\",INDEX(AB1823:AB$2008,MIN(IF(COUNTIF(AC$2:AC1822,AB1823:AB$2008),ROW(AB$2008)-ROW()+1,ROW(AB1823:AB$2008)-ROW()+1))))","v":0},0]
[null,null,null,null,null,null,null,null,null,null,null,null,null,null,null,null,null,null,null,null,null,null,null,null,null,null,null,{"$f":"HISTO!P1823","v":0},{"$f":"IF(AC1823=\"\",\"Zonard\",INDEX(AB1824:AB$2008,MIN(IF(COUNTIF(AC$2:AC1823,AB1824:AB$2008),ROW(AB$2008)-ROW()+1,ROW(AB1824:AB$2008)-ROW()+1))))","v":0},0]
[null,null,null,null,null,null,null,null,null,null,null,null,null,null,null,null,null,null,null,null,null,null,null,null,null,null,null,{"$f":"HISTO!P1824","v":0},{"$f":"IF(AC1824=\"\",\"Zonard\",INDEX(AB1825:AB$2008,MIN(IF(COUNTIF(AC$2:AC1824,AB1825:AB$2008),ROW(AB$2008)-ROW()+1,ROW(AB1825:AB$2008)-ROW()+1))))","v":0},0]
[null,null,null,null,null,null,null,null,null,null,null,null,null,null,null,null,null,null,null,null,null,null,null,null,null,null,null,{"$f":"HISTO!P1825","v":0},{"$f":"IF(AC1825=\"\",\"Zonard\",INDEX(AB1826:AB$2008,MIN(IF(COUNTIF(AC$2:AC1825,AB1826:AB$2008),ROW(AB$2008)-ROW()+1,ROW(AB1826:AB$2008)-ROW()+1))))","v":0},0]
[null,null,null,null,null,null,null,null,null,null,null,null,null,null,null,null,null,null,null,null,null,null,null,null,null,null,null,{"$f":"HISTO!P1826","v":0},{"$f":"IF(AC1826=\"\",\"Zonard\",INDEX(AB1827:AB$2008,MIN(IF(COUNTIF(AC$2:AC1826,AB1827:AB$2008),ROW(AB$2008)-ROW()+1,ROW(AB1827:AB$2008)-ROW()+1))))","v":0},0]
[null,null,null,null,null,null,null,null,null,null,null,null,null,null,null,null,null,null,null,null,null,null,null,null,null,null,null,{"$f":"HISTO!P1827","v":0},{"$f":"IF(AC1827=\"\",\"Zonard\",INDEX(AB1828:AB$2008,MIN(IF(COUNTIF(AC$2:AC1827,AB1828:AB$2008),ROW(AB$2008)-ROW()+1,ROW(AB1828:AB$2008)-ROW()+1))))","v":0},0]
[null,null,null,null,null,null,null,null,null,null,null,null,null,null,null,null,null,null,null,null,null,null,null,null,null,null,null,{"$f":"HISTO!P1828","v":0},{"$f":"IF(AC1828=\"\",\"Zonard\",INDEX(AB1829:AB$2008,MIN(IF(COUNTIF(AC$2:AC1828,AB1829:AB$2008),ROW(AB$2008)-ROW()+1,ROW(AB1829:AB$2008)-ROW()+1))))","v":0},0]
[null,null,null,null,null,null,null,null,null,null,null,null,null,null,null,null,null,null,null,null,null,null,null,null,null,null,null,{"$f":"HISTO!P1829","v":0},{"$f":"IF(AC1829=\"\",\"Zonard\",INDEX(AB1830:AB$2008,MIN(IF(COUNTIF(AC$2:AC1829,AB1830:AB$2008),ROW(AB$2008)-ROW()+1,ROW(AB1830:AB$2008)-ROW()+1))))","v":0},0]
[null,null,null,null,null,null,null,null,null,null,null,null,null,null,null,null,null,null,null,null,null,null,null,null,null,null,null,{"$f":"HISTO!P1830","v":0},{"$f":"IF(AC1830=\"\",\"Zonard\",INDEX(AB1831:AB$2008,MIN(IF(COUNTIF(AC$2:AC1830,AB1831:AB$2008),ROW(AB$2008)-ROW()+1,ROW(AB1831:AB$2008)-ROW()+1))))","v":0},0]
[null,null,null,null,null,null,null,null,null,null,null,null,null,null,null,null,null,null,null,null,null,null,null,null,null,null,null,{"$f":"HISTO!P1831","v":0},{"$f":"IF(AC1831=\"\",\"Zonard\",INDEX(AB1832:AB$2008,MIN(IF(COUNTIF(AC$2:AC1831,AB1832:AB$2008),ROW(AB$2008)-ROW()+1,ROW(AB1832:AB$2008)-ROW()+1))))","v":0},0]
[null,null,null,null,null,null,null,null,null,null,null,null,null,null,null,null,null,null,null,null,null,null,null,null,null,null,null,{"$f":"HISTO!P1832","v":0},{"$f":"IF(AC1832=\"\",\"Zonard\",INDEX(AB1833:AB$2008,MIN(IF(COUNTIF(AC$2:AC1832,AB1833:AB$2008),ROW(AB$2008)-ROW()+1,ROW(AB1833:AB$2008)-ROW()+1))))","v":0},0]
[null,null,null,null,null,null,null,null,null,null,null,null,null,null,null,null,null,null,null,null,null,null,null,null,null,null,null,{"$f":"HISTO!P1833","v":0},{"$f":"IF(AC1833=\"\",\"Zonard\",INDEX(AB1834:AB$2008,MIN(IF(COUNTIF(AC$2:AC1833,AB1834:AB$2008),ROW(AB$2008)-ROW()+1,ROW(AB1834:AB$2008)-ROW()+1))))","v":0},0]
[null,null,null,null,null,null,null,null,null,null,null,null,null,null,null,null,null,null,null,null,null,null,null,null,null,null,null,{"$f":"HISTO!P1834","v":0},{"$f":"IF(AC1834=\"\",\"Zonard\",INDEX(AB1835:AB$2008,MIN(IF(COUNTIF(AC$2:AC1834,AB1835:AB$2008),ROW(AB$2008)-ROW()+1,ROW(AB1835:AB$2008)-ROW()+1))))","v":0},0]
[null,null,null,null,null,null,null,null,null,null,null,null,null,null,null,null,null,null,null,null,null,null,null,null,null,null,null,{"$f":"HISTO!P1835","v":0},{"$f":"IF(AC1835=\"\",\"Zonard\",INDEX(AB1836:AB$2008,MIN(IF(COUNTIF(AC$2:AC1835,AB1836:AB$2008),ROW(AB$2008)-ROW()+1,ROW(AB1836:AB$2008)-ROW()+1))))","v":0},0]
[null,null,null,null,null,null,null,null,null,null,null,null,null,null,null,null,null,null,null,null,null,null,null,null,null,null,null,{"$f":"HISTO!P1836","v":0},{"$f":"IF(AC1836=\"\",\"Zonard\",INDEX(AB1837:AB$2008,MIN(IF(COUNTIF(AC$2:AC1836,AB1837:AB$2008),ROW(AB$2008)-ROW()+1,ROW(AB1837:AB$2008)-ROW()+1))))","v":0},0]
[null,null,null,null,null,null,null,null,null,null,null,null,null,null,null,null,null,null,null,null,null,null,null,null,null,null,null,{"$f":"HISTO!P1837","v":0},{"$f":"IF(AC1837=\"\",\"Zonard\",INDEX(AB1838:AB$2008,MIN(IF(COUNTIF(AC$2:AC1837,AB1838:AB$2008),ROW(AB$2008)-ROW()+1,ROW(AB1838:AB$2008)-ROW()+1))))","v":0},0]
[null,null,null,null,null,null,null,null,null,null,null,null,null,null,null,null,null,null,null,null,null,null,null,null,null,null,null,{"$f":"HISTO!P1838","v":0},{"$f":"IF(AC1838=\"\",\"Zonard\",INDEX(AB1839:AB$2008,MIN(IF(COUNTIF(AC$2:AC1838,AB1839:AB$2008),ROW(AB$2008)-ROW()+1,ROW(AB1839:AB$2008)-ROW()+1))))","v":0},0]
[null,null,null,null,null,null,null,null,null,null,null,null,null,null,null,null,null,null,null,null,null,null,null,null,null,null,null,{"$f":"HISTO!P1839","v":0},{"$f":"IF(AC1839=\"\",\"Zonard\",INDEX(AB1840:AB$2008,MIN(IF(COUNTIF(AC$2:AC1839,AB1840:AB$2008),ROW(AB$2008)-ROW()+1,ROW(AB1840:AB$2008)-ROW()+1))))","v":0},0]
[null,null,null,null,null,null,null,null,null,null,null,null,null,null,null,null,null,null,null,null,null,null,null,null,null,null,null,{"$f":"HISTO!P1840","v":0},{"$f":"IF(AC1840=\"\",\"Zonard\",INDEX(AB1841:AB$2008,MIN(IF(COUNTIF(AC$2:AC1840,AB1841:AB$2008),ROW(AB$2008)-ROW()+1,ROW(AB1841:AB$2008)-ROW()+1))))","v":0},0]
[null,null,null,null,null,null,null,null,null,null,null,null,null,null,null,null,null,null,null,null,null,null,null,null,null,null,null,{"$f":"HISTO!P1841","v":0},{"$f":"IF(AC1841=\"\",\"Zonard\",INDEX(AB1842:AB$2008,MIN(IF(COUNTIF(AC$2:AC1841,AB1842:AB$2008),ROW(AB$2008)-ROW()+1,ROW(AB1842:AB$2008)-ROW()+1))))","v":0},0]
[null,null,null,null,null,null,null,null,null,null,null,null,null,null,null,null,null,null,null,null,null,null,null,null,null,null,null,{"$f":"HISTO!P1842","v":0},{"$f":"IF(AC1842=\"\",\"Zonard\",INDEX(AB1843:AB$2008,MIN(IF(COUNTIF(AC$2:AC1842,AB1843:AB$2008),ROW(AB$2008)-ROW()+1,ROW(AB1843:AB$2008)-ROW()+1))))","v":0},0]
[null,null,null,null,null,null,null,null,null,null,null,null,null,null,null,null,null,null,null,null,null,null,null,null,null,null,null,{"$f":"HISTO!P1843","v":0},{"$f":"IF(AC1843=\"\",\"Zonard\",INDEX(AB1844:AB$2008,MIN(IF(COUNTIF(AC$2:AC1843,AB1844:AB$2008),ROW(AB$2008)-ROW()+1,ROW(AB1844:AB$2008)-ROW()+1))))","v":0},0]
[null,null,null,null,null,null,null,null,null,null,null,null,null,null,null,null,null,null,null,null,null,null,null,null,null,null,null,{"$f":"HISTO!P1844","v":0},{"$f":"IF(AC1844=\"\",\"Zonard\",INDEX(AB1845:AB$2008,MIN(IF(COUNTIF(AC$2:AC1844,AB1845:AB$2008),ROW(AB$2008)-ROW()+1,ROW(AB1845:AB$2008)-ROW()+1))))","v":0},0]
[null,null,null,null,null,null,null,null,null,null,null,null,null,null,null,null,null,null,null,null,null,null,null,null,null,null,null,{"$f":"HISTO!P1845","v":0},{"$f":"IF(AC1845=\"\",\"Zonard\",INDEX(AB1846:AB$2008,MIN(IF(COUNTIF(AC$2:AC1845,AB1846:AB$2008),ROW(AB$2008)-ROW()+1,ROW(AB1846:AB$2008)-ROW()+1))))","v":0},0]
[null,null,null,null,null,null,null,null,null,null,null,null,null,null,null,null,null,null,null,null,null,null,null,null,null,null,null,{"$f":"HISTO!P1846","v":0},{"$f":"IF(AC1846=\"\",\"Zonard\",INDEX(AB1847:AB$2008,MIN(IF(COUNTIF(AC$2:AC1846,AB1847:AB$2008),ROW(AB$2008)-ROW()+1,ROW(AB1847:AB$2008)-ROW()+1))))","v":0},0]
[null,null,null,null,null,null,null,null,null,null,null,null,null,null,null,null,null,null,null,null,null,null,null,null,null,null,null,{"$f":"HISTO!P1847","v":0},{"$f":"IF(AC1847=\"\",\"Zonard\",INDEX(AB1848:AB$2008,MIN(IF(COUNTIF(AC$2:AC1847,AB1848:AB$2008),ROW(AB$2008)-ROW()+1,ROW(AB1848:AB$2008)-ROW()+1))))","v":0},0]
[null,null,null,null,null,null,null,null,null,null,null,null,null,null,null,null,null,null,null,null,null,null,null,null,null,null,null,{"$f":"HISTO!P1848","v":0},{"$f":"IF(AC1848=\"\",\"Zonard\",INDEX(AB1849:AB$2008,MIN(IF(COUNTIF(AC$2:AC1848,AB1849:AB$2008),ROW(AB$2008)-ROW()+1,ROW(AB1849:AB$2008)-ROW()+1))))","v":0},0]
[null,null,null,null,null,null,null,null,null,null,null,null,null,null,null,null,null,null,null,null,null,null,null,null,null,null,null,{"$f":"HISTO!P1849","v":0},{"$f":"IF(AC1849=\"\",\"Zonard\",INDEX(AB1850:AB$2008,MIN(IF(COUNTIF(AC$2:AC1849,AB1850:AB$2008),ROW(AB$2008)-ROW()+1,ROW(AB1850:AB$2008)-ROW()+1))))","v":0},0]
[null,null,null,null,null,null,null,null,null,null,null,null,null,null,null,null,null,null,null,null,null,null,null,null,null,null,null,{"$f":"HISTO!P1850","v":0},{"$f":"IF(AC1850=\"\",\"Zonard\",INDEX(AB1851:AB$2008,MIN(IF(COUNTIF(AC$2:AC1850,AB1851:AB$2008),ROW(AB$2008)-ROW()+1,ROW(AB1851:AB$2008)-ROW()+1))))","v":0},0]
[null,null,null,null,null,null,null,null,null,null,null,null,null,null,null,null,null,null,null,null,null,null,null,null,null,null,null,{"$f":"HISTO!P1851","v":0},{"$f":"IF(AC1851=\"\",\"Zonard\",INDEX(AB1852:AB$2008,MIN(IF(COUNTIF(AC$2:AC1851,AB1852:AB$2008),ROW(AB$2008)-ROW()+1,ROW(AB1852:AB$2008)-ROW()+1))))","v":0},0]
[null,null,null,null,null,null,null,null,null,null,null,null,null,null,null,null,null,null,null,null,null,null,null,null,null,null,null,{"$f":"HISTO!P1852","v":0},{"$f":"IF(AC1852=\"\",\"Zonard\",INDEX(AB1853:AB$2008,MIN(IF(COUNTIF(AC$2:AC1852,AB1853:AB$2008),ROW(AB$2008)-ROW()+1,ROW(AB1853:AB$2008)-ROW()+1))))","v":0},0]
[null,null,null,null,null,null,null,null,null,null,null,null,null,null,null,null,null,null,null,null,null,null,null,null,null,null,null,{"$f":"HISTO!P1853","v":0},{"$f":"IF(AC1853=\"\",\"Zonard\",INDEX(AB1854:AB$2008,MIN(IF(COUNTIF(AC$2:AC1853,AB1854:AB$2008),ROW(AB$2008)-ROW()+1,ROW(AB1854:AB$2008)-ROW()+1))))","v":0},0]
[null,null,null,null,null,null,null,null,null,null,null,null,null,null,null,null,null,null,null,null,null,null,null,null,null,null,null,{"$f":"HISTO!P1854","v":0},{"$f":"IF(AC1854=\"\",\"Zonard\",INDEX(AB1855:AB$2008,MIN(IF(COUNTIF(AC$2:AC1854,AB1855:AB$2008),ROW(AB$2008)-ROW()+1,ROW(AB1855:AB$2008)-ROW()+1))))","v":0},0]
[null,null,null,null,null,null,null,null,null,null,null,null,null,null,null,null,null,null,null,null,null,null,null,null,null,null,null,{"$f":"HISTO!P1855","v":0},{"$f":"IF(AC1855=\"\",\"Zonard\",INDEX(AB1856:AB$2008,MIN(IF(COUNTIF(AC$2:AC1855,AB1856:AB$2008),ROW(AB$2008)-ROW()+1,ROW(AB1856:AB$2008)-ROW()+1))))","v":0},0]
[null,null,null,null,null,null,null,null,null,null,null,null,null,null,null,null,null,null,null,null,null,null,null,null,null,null,null,{"$f":"HISTO!P1856","v":0},{"$f":"IF(AC1856=\"\",\"Zonard\",INDEX(AB1857:AB$2008,MIN(IF(COUNTIF(AC$2:AC1856,AB1857:AB$2008),ROW(AB$2008)-ROW()+1,ROW(AB1857:AB$2008)-ROW()+1))))","v":0},0]
[null,null,null,null,null,null,null,null,null,null,null,null,null,null,null,null,null,null,null,null,null,null,null,null,null,null,null,{"$f":"HISTO!P1857","v":0},{"$f":"IF(AC1857=\"\",\"Zonard\",INDEX(AB1858:AB$2008,MIN(IF(COUNTIF(AC$2:AC1857,AB1858:AB$2008),ROW(AB$2008)-ROW()+1,ROW(AB1858:AB$2008)-ROW()+1))))","v":0},0]
[null,null,null,null,null,null,null,null,null,null,null,null,null,null,null,null,null,null,null,null,null,null,null,null,null,null,null,{"$f":"HISTO!P1858","v":0},{"$f":"IF(AC1858=\"\",\"Zonard\",INDEX(AB1859:AB$2008,MIN(IF(COUNTIF(AC$2:AC1858,AB1859:AB$2008),ROW(AB$2008)-ROW()+1,ROW(AB1859:AB$2008)-ROW()+1))))","v":0},0]
[null,null,null,null,null,null,null,null,null,null,null,null,null,null,null,null,null,null,null,null,null,null,null,null,null,null,null,{"$f":"HISTO!P1859","v":0},{"$f":"IF(AC1859=\"\",\"Zonard\",INDEX(AB1860:AB$2008,MIN(IF(COUNTIF(AC$2:AC1859,AB1860:AB$2008),ROW(AB$2008)-ROW()+1,ROW(AB1860:AB$2008)-ROW()+1))))","v":0},0]
[null,null,null,null,null,null,null,null,null,null,null,null,null,null,null,null,null,null,null,null,null,null,null,null,null,null,null,{"$f":"HISTO!P1860","v":0},{"$f":"IF(AC1860=\"\",\"Zonard\",INDEX(AB1861:AB$2008,MIN(IF(COUNTIF(AC$2:AC1860,AB1861:AB$2008),ROW(AB$2008)-ROW()+1,ROW(AB1861:AB$2008)-ROW()+1))))","v":0},0]
[null,null,null,null,null,null,null,null,null,null,null,null,null,null,null,null,null,null,null,null,null,null,null,null,null,null,null,{"$f":"HISTO!P1861","v":0},{"$f":"IF(AC1861=\"\",\"Zonard\",INDEX(AB1862:AB$2008,MIN(IF(COUNTIF(AC$2:AC1861,AB1862:AB$2008),ROW(AB$2008)-ROW()+1,ROW(AB1862:AB$2008)-ROW()+1))))","v":0},0]
[null,null,null,null,null,null,null,null,null,null,null,null,null,null,null,null,null,null,null,null,null,null,null,null,null,null,null,{"$f":"HISTO!P1862","v":0},{"$f":"IF(AC1862=\"\",\"Zonard\",INDEX(AB1863:AB$2008,MIN(IF(COUNTIF(AC$2:AC1862,AB1863:AB$2008),ROW(AB$2008)-ROW()+1,ROW(AB1863:AB$2008)-ROW()+1))))","v":0},0]
[null,null,null,null,null,null,null,null,null,null,null,null,null,null,null,null,null,null,null,null,null,null,null,null,null,null,null,{"$f":"HISTO!P1863","v":0},{"$f":"IF(AC1863=\"\",\"Zonard\",INDEX(AB1864:AB$2008,MIN(IF(COUNTIF(AC$2:AC1863,AB1864:AB$2008),ROW(AB$2008)-ROW()+1,ROW(AB1864:AB$2008)-ROW()+1))))","v":0},0]
[null,null,null,null,null,null,null,null,null,null,null,null,null,null,null,null,null,null,null,null,null,null,null,null,null,null,null,{"$f":"HISTO!P1864","v":0},{"$f":"IF(AC1864=\"\",\"Zonard\",INDEX(AB1865:AB$2008,MIN(IF(COUNTIF(AC$2:AC1864,AB1865:AB$2008),ROW(AB$2008)-ROW()+1,ROW(AB1865:AB$2008)-ROW()+1))))","v":0},0]
[null,null,null,null,null,null,null,null,null,null,null,null,null,null,null,null,null,null,null,null,null,null,null,null,null,null,null,{"$f":"HISTO!P1865","v":0},{"$f":"IF(AC1865=\"\",\"Zonard\",INDEX(AB1866:AB$2008,MIN(IF(COUNTIF(AC$2:AC1865,AB1866:AB$2008),ROW(AB$2008)-ROW()+1,ROW(AB1866:AB$2008)-ROW()+1))))","v":0},0]
[null,null,null,null,null,null,null,null,null,null,null,null,null,null,null,null,null,null,null,null,null,null,null,null,null,null,null,{"$f":"HISTO!P1866","v":0},{"$f":"IF(AC1866=\"\",\"Zonard\",INDEX(AB1867:AB$2008,MIN(IF(COUNTIF(AC$2:AC1866,AB1867:AB$2008),ROW(AB$2008)-ROW()+1,ROW(AB1867:AB$2008)-ROW()+1))))","v":0},0]
[null,null,null,null,null,null,null,null,null,null,null,null,null,null,null,null,null,null,null,null,null,null,null,null,null,null,null,{"$f":"HISTO!P1867","v":0},{"$f":"IF(AC1867=\"\",\"Zonard\",INDEX(AB1868:AB$2008,MIN(IF(COUNTIF(AC$2:AC1867,AB1868:AB$2008),ROW(AB$2008)-ROW()+1,ROW(AB1868:AB$2008)-ROW()+1))))","v":0},0]
[null,null,null,null,null,null,null,null,null,null,null,null,null,null,null,null,null,null,null,null,null,null,null,null,null,null,null,{"$f":"HISTO!P1868","v":0},{"$f":"IF(AC1868=\"\",\"Zonard\",INDEX(AB1869:AB$2008,MIN(IF(COUNTIF(AC$2:AC1868,AB1869:AB$2008),ROW(AB$2008)-ROW()+1,ROW(AB1869:AB$2008)-ROW()+1))))","v":0},0]
[null,null,null,null,null,null,null,null,null,null,null,null,null,null,null,null,null,null,null,null,null,null,null,null,null,null,null,{"$f":"HISTO!P1869","v":0},{"$f":"IF(AC1869=\"\",\"Zonard\",INDEX(AB1870:AB$2008,MIN(IF(COUNTIF(AC$2:AC1869,AB1870:AB$2008),ROW(AB$2008)-ROW()+1,ROW(AB1870:AB$2008)-ROW()+1))))","v":0},0]
[null,null,null,null,null,null,null,null,null,null,null,null,null,null,null,null,null,null,null,null,null,null,null,null,null,null,null,{"$f":"HISTO!P1870","v":0},{"$f":"IF(AC1870=\"\",\"Zonard\",INDEX(AB1871:AB$2008,MIN(IF(COUNTIF(AC$2:AC1870,AB1871:AB$2008),ROW(AB$2008)-ROW()+1,ROW(AB1871:AB$2008)-ROW()+1))))","v":0},0]
[null,null,null,null,null,null,null,null,null,null,null,null,null,null,null,null,null,null,null,null,null,null,null,null,null,null,null,{"$f":"HISTO!P1871","v":0},{"$f":"IF(AC1871=\"\",\"Zonard\",INDEX(AB1872:AB$2008,MIN(IF(COUNTIF(AC$2:AC1871,AB1872:AB$2008),ROW(AB$2008)-ROW()+1,ROW(AB1872:AB$2008)-ROW()+1))))","v":0},0]
[null,null,null,null,null,null,null,null,null,null,null,null,null,null,null,null,null,null,null,null,null,null,null,null,null,null,null,{"$f":"HISTO!P1872","v":0},{"$f":"IF(AC1872=\"\",\"Zonard\",INDEX(AB1873:AB$2008,MIN(IF(COUNTIF(AC$2:AC1872,AB1873:AB$2008),ROW(AB$2008)-ROW()+1,ROW(AB1873:AB$2008)-ROW()+1))))","v":0},0]
[null,null,null,null,null,null,null,null,null,null,null,null,null,null,null,null,null,null,null,null,null,null,null,null,null,null,null,{"$f":"HISTO!P1873","v":0},{"$f":"IF(AC1873=\"\",\"Zonard\",INDEX(AB1874:AB$2008,MIN(IF(COUNTIF(AC$2:AC1873,AB1874:AB$2008),ROW(AB$2008)-ROW()+1,ROW(AB1874:AB$2008)-ROW()+1))))","v":0},0]
[null,null,null,null,null,null,null,null,null,null,null,null,null,null,null,null,null,null,null,null,null,null,null,null,null,null,null,{"$f":"HISTO!P1874","v":0},{"$f":"IF(AC1874=\"\",\"Zonard\",INDEX(AB1875:AB$2008,MIN(IF(COUNTIF(AC$2:AC1874,AB1875:AB$2008),ROW(AB$2008)-ROW()+1,ROW(AB1875:AB$2008)-ROW()+1))))","v":0},0]
[null,null,null,null,null,null,null,null,null,null,null,null,null,null,null,null,null,null,null,null,null,null,null,null,null,null,null,{"$f":"HISTO!P1875","v":0},{"$f":"IF(AC1875=\"\",\"Zonard\",INDEX(AB1876:AB$2008,MIN(IF(COUNTIF(AC$2:AC1875,AB1876:AB$2008),ROW(AB$2008)-ROW()+1,ROW(AB1876:AB$2008)-ROW()+1))))","v":0},0]
[null,null,null,null,null,null,null,null,null,null,null,null,null,null,null,null,null,null,null,null,null,null,null,null,null,null,null,{"$f":"HISTO!P1876","v":0},{"$f":"IF(AC1876=\"\",\"Zonard\",INDEX(AB1877:AB$2008,MIN(IF(COUNTIF(AC$2:AC1876,AB1877:AB$2008),ROW(AB$2008)-ROW()+1,ROW(AB1877:AB$2008)-ROW()+1))))","v":0},0]
[null,null,null,null,null,null,null,null,null,null,null,null,null,null,null,null,null,null,null,null,null,null,null,null,null,null,null,{"$f":"HISTO!P1877","v":0},{"$f":"IF(AC1877=\"\",\"Zonard\",INDEX(AB1878:AB$2008,MIN(IF(COUNTIF(AC$2:AC1877,AB1878:AB$2008),ROW(AB$2008)-ROW()+1,ROW(AB1878:AB$2008)-ROW()+1))))","v":0},0]
[null,null,null,null,null,null,null,null,null,null,null,null,null,null,null,null,null,null,null,null,null,null,null,null,null,null,null,{"$f":"HISTO!P1878","v":0},{"$f":"IF(AC1878=\"\",\"Zonard\",INDEX(AB1879:AB$2008,MIN(IF(COUNTIF(AC$2:AC1878,AB1879:AB$2008),ROW(AB$2008)-ROW()+1,ROW(AB1879:AB$2008)-ROW()+1))))","v":0},0]
[null,null,null,null,null,null,null,null,null,null,null,null,null,null,null,null,null,null,null,null,null,null,null,null,null,null,null,{"$f":"HISTO!P1879","v":0},{"$f":"IF(AC1879=\"\",\"Zonard\",INDEX(AB1880:AB$2008,MIN(IF(COUNTIF(AC$2:AC1879,AB1880:AB$2008),ROW(AB$2008)-ROW()+1,ROW(AB1880:AB$2008)-ROW()+1))))","v":0},0]
[null,null,null,null,null,null,null,null,null,null,null,null,null,null,null,null,null,null,null,null,null,null,null,null,null,null,null,{"$f":"HISTO!P1880","v":0},{"$f":"IF(AC1880=\"\",\"Zonard\",INDEX(AB1881:AB$2008,MIN(IF(COUNTIF(AC$2:AC1880,AB1881:AB$2008),ROW(AB$2008)-ROW()+1,ROW(AB1881:AB$2008)-ROW()+1))))","v":0},0]
[null,null,null,null,null,null,null,null,null,null,null,null,null,null,null,null,null,null,null,null,null,null,null,null,null,null,null,{"$f":"HISTO!P1881","v":0},{"$f":"IF(AC1881=\"\",\"Zonard\",INDEX(AB1882:AB$2008,MIN(IF(COUNTIF(AC$2:AC1881,AB1882:AB$2008),ROW(AB$2008)-ROW()+1,ROW(AB1882:AB$2008)-ROW()+1))))","v":0},0]
[null,null,null,null,null,null,null,null,null,null,null,null,null,null,null,null,null,null,null,null,null,null,null,null,null,null,null,{"$f":"HISTO!P1882","v":0},{"$f":"IF(AC1882=\"\",\"Zonard\",INDEX(AB1883:AB$2008,MIN(IF(COUNTIF(AC$2:AC1882,AB1883:AB$2008),ROW(AB$2008)-ROW()+1,ROW(AB1883:AB$2008)-ROW()+1))))","v":0},0]
[null,null,null,null,null,null,null,null,null,null,null,null,null,null,null,null,null,null,null,null,null,null,null,null,null,null,null,{"$f":"HISTO!P1883","v":0},{"$f":"IF(AC1883=\"\",\"Zonard\",INDEX(AB1884:AB$2008,MIN(IF(COUNTIF(AC$2:AC1883,AB1884:AB$2008),ROW(AB$2008)-ROW()+1,ROW(AB1884:AB$2008)-ROW()+1))))","v":0},0]
[null,null,null,null,null,null,null,null,null,null,null,null,null,null,null,null,null,null,null,null,null,null,null,null,null,null,null,{"$f":"HISTO!P1884","v":0},{"$f":"IF(AC1884=\"\",\"Zonard\",INDEX(AB1885:AB$2008,MIN(IF(COUNTIF(AC$2:AC1884,AB1885:AB$2008),ROW(AB$2008)-ROW()+1,ROW(AB1885:AB$2008)-ROW()+1))))","v":0},0]
[null,null,null,null,null,null,null,null,null,null,null,null,null,null,null,null,null,null,null,null,null,null,null,null,null,null,null,{"$f":"HISTO!P1885","v":0},{"$f":"IF(AC1885=\"\",\"Zonard\",INDEX(AB1886:AB$2008,MIN(IF(COUNTIF(AC$2:AC1885,AB1886:AB$2008),ROW(AB$2008)-ROW()+1,ROW(AB1886:AB$2008)-ROW()+1))))","v":0},0]
[null,null,null,null,null,null,null,null,null,null,null,null,null,null,null,null,null,null,null,null,null,null,null,null,null,null,null,{"$f":"HISTO!P1886","v":0},{"$f":"IF(AC1886=\"\",\"Zonard\",INDEX(AB1887:AB$2008,MIN(IF(COUNTIF(AC$2:AC1886,AB1887:AB$2008),ROW(AB$2008)-ROW()+1,ROW(AB1887:AB$2008)-ROW()+1))))","v":0},0]
[null,null,null,null,null,null,null,null,null,null,null,null,null,null,null,null,null,null,null,null,null,null,null,null,null,null,null,{"$f":"HISTO!P1887","v":0},{"$f":"IF(AC1887=\"\",\"Zonard\",INDEX(AB1888:AB$2008,MIN(IF(COUNTIF(AC$2:AC1887,AB1888:AB$2008),ROW(AB$2008)-ROW()+1,ROW(AB1888:AB$2008)-ROW()+1))))","v":0},0]
[null,null,null,null,null,null,null,null,null,null,null,null,null,null,null,null,null,null,null,null,null,null,null,null,null,null,null,{"$f":"HISTO!P1888","v":0},{"$f":"IF(AC1888=\"\",\"Zonard\",INDEX(AB1889:AB$2008,MIN(IF(COUNTIF(AC$2:AC1888,AB1889:AB$2008),ROW(AB$2008)-ROW()+1,ROW(AB1889:AB$2008)-ROW()+1))))","v":0},0]
[null,null,null,null,null,null,null,null,null,null,null,null,null,null,null,null,null,null,null,null,null,null,null,null,null,null,null,{"$f":"HISTO!P1889","v":0},{"$f":"IF(AC1889=\"\",\"Zonard\",INDEX(AB1890:AB$2008,MIN(IF(COUNTIF(AC$2:AC1889,AB1890:AB$2008),ROW(AB$2008)-ROW()+1,ROW(AB1890:AB$2008)-ROW()+1))))","v":0},0]
[null,null,null,null,null,null,null,null,null,null,null,null,null,null,null,null,null,null,null,null,null,null,null,null,null,null,null,{"$f":"HISTO!P1890","v":0},{"$f":"IF(AC1890=\"\",\"Zonard\",INDEX(AB1891:AB$2008,MIN(IF(COUNTIF(AC$2:AC1890,AB1891:AB$2008),ROW(AB$2008)-ROW()+1,ROW(AB1891:AB$2008)-ROW()+1))))","v":0},0]
[null,null,null,null,null,null,null,null,null,null,null,null,null,null,null,null,null,null,null,null,null,null,null,null,null,null,null,{"$f":"HISTO!P1891","v":0},{"$f":"IF(AC1891=\"\",\"Zonard\",INDEX(AB1892:AB$2008,MIN(IF(COUNTIF(AC$2:AC1891,AB1892:AB$2008),ROW(AB$2008)-ROW()+1,ROW(AB1892:AB$2008)-ROW()+1))))","v":0},0]
[null,null,null,null,null,null,null,null,null,null,null,null,null,null,null,null,null,null,null,null,null,null,null,null,null,null,null,{"$f":"HISTO!P1892","v":0},{"$f":"IF(AC1892=\"\",\"Zonard\",INDEX(AB1893:AB$2008,MIN(IF(COUNTIF(AC$2:AC1892,AB1893:AB$2008),ROW(AB$2008)-ROW()+1,ROW(AB1893:AB$2008)-ROW()+1))))","v":0},0]
[null,null,null,null,null,null,null,null,null,null,null,null,null,null,null,null,null,null,null,null,null,null,null,null,null,null,null,{"$f":"HISTO!P1893","v":0},{"$f":"IF(AC1893=\"\",\"Zonard\",INDEX(AB1894:AB$2008,MIN(IF(COUNTIF(AC$2:AC1893,AB1894:AB$2008),ROW(AB$2008)-ROW()+1,ROW(AB1894:AB$2008)-ROW()+1))))","v":0},0]
[null,null,null,null,null,null,null,null,null,null,null,null,null,null,null,null,null,null,null,null,null,null,null,null,null,null,null,{"$f":"HISTO!P1894","v":0},{"$f":"IF(AC1894=\"\",\"Zonard\",INDEX(AB1895:AB$2008,MIN(IF(COUNTIF(AC$2:AC1894,AB1895:AB$2008),ROW(AB$2008)-ROW()+1,ROW(AB1895:AB$2008)-ROW()+1))))","v":0},0]
[null,null,null,null,null,null,null,null,null,null,null,null,null,null,null,null,null,null,null,null,null,null,null,null,null,null,null,{"$f":"HISTO!P1895","v":0},{"$f":"IF(AC1895=\"\",\"Zonard\",INDEX(AB1896:AB$2008,MIN(IF(COUNTIF(AC$2:AC1895,AB1896:AB$2008),ROW(AB$2008)-ROW()+1,ROW(AB1896:AB$2008)-ROW()+1))))","v":0},0]
[null,null,null,null,null,null,null,null,null,null,null,null,null,null,null,null,null,null,null,null,null,null,null,null,null,null,null,{"$f":"HISTO!P1896","v":0},{"$f":"IF(AC1896=\"\",\"Zonard\",INDEX(AB1897:AB$2008,MIN(IF(COUNTIF(AC$2:AC1896,AB1897:AB$2008),ROW(AB$2008)-ROW()+1,ROW(AB1897:AB$2008)-ROW()+1))))","v":0},0]
[null,null,null,null,null,null,null,null,null,null,null,null,null,null,null,null,null,null,null,null,null,null,null,null,null,null,null,{"$f":"HISTO!P1897","v":0},{"$f":"IF(AC1897=\"\",\"Zonard\",INDEX(AB1898:AB$2008,MIN(IF(COUNTIF(AC$2:AC1897,AB1898:AB$2008),ROW(AB$2008)-ROW()+1,ROW(AB1898:AB$2008)-ROW()+1))))","v":0},0]
[null,null,null,null,null,null,null,null,null,null,null,null,null,null,null,null,null,null,null,null,null,null,null,null,null,null,null,{"$f":"HISTO!P1898","v":0},{"$f":"IF(AC1898=\"\",\"Zonard\",INDEX(AB1899:AB$2008,MIN(IF(COUNTIF(AC$2:AC1898,AB1899:AB$2008),ROW(AB$2008)-ROW()+1,ROW(AB1899:AB$2008)-ROW()+1))))","v":0},0]
[null,null,null,null,null,null,null,null,null,null,null,null,null,null,null,null,null,null,null,null,null,null,null,null,null,null,null,{"$f":"HISTO!P1899","v":0},{"$f":"IF(AC1899=\"\",\"Zonard\",INDEX(AB1900:AB$2008,MIN(IF(COUNTIF(AC$2:AC1899,AB1900:AB$2008),ROW(AB$2008)-ROW()+1,ROW(AB1900:AB$2008)-ROW()+1))))","v":0},0]
[null,null,null,null,null,null,null,null,null,null,null,null,null,null,null,null,null,null,null,null,null,null,null,null,null,null,null,{"$f":"HISTO!P1900","v":0},{"$f":"IF(AC1900=\"\",\"Zonard\",INDEX(AB1901:AB$2008,MIN(IF(COUNTIF(AC$2:AC1900,AB1901:AB$2008),ROW(AB$2008)-ROW()+1,ROW(AB1901:AB$2008)-ROW()+1))))","v":0},0]
[null,null,null,null,null,null,null,null,null,null,null,null,null,null,null,null,null,null,null,null,null,null,null,null,null,null,null,{"$f":"HISTO!P1901","v":0},{"$f":"IF(AC1901=\"\",\"Zonard\",INDEX(AB1902:AB$2008,MIN(IF(COUNTIF(AC$2:AC1901,AB1902:AB$2008),ROW(AB$2008)-ROW()+1,ROW(AB1902:AB$2008)-ROW()+1))))","v":0},0]
[null,null,null,null,null,null,null,null,null,null,null,null,null,null,null,null,null,null,null,null,null,null,null,null,null,null,null,{"$f":"HISTO!P1902","v":0},{"$f":"IF(AC1902=\"\",\"Zonard\",INDEX(AB1903:AB$2008,MIN(IF(COUNTIF(AC$2:AC1902,AB1903:AB$2008),ROW(AB$2008)-ROW()+1,ROW(AB1903:AB$2008)-ROW()+1))))","v":0},0]
[null,null,null,null,null,null,null,null,null,null,null,null,null,null,null,null,null,null,null,null,null,null,null,null,null,null,null,{"$f":"HISTO!P1903","v":0},{"$f":"IF(AC1903=\"\",\"Zonard\",INDEX(AB1904:AB$2008,MIN(IF(COUNTIF(AC$2:AC1903,AB1904:AB$2008),ROW(AB$2008)-ROW()+1,ROW(AB1904:AB$2008)-ROW()+1))))","v":0},0]
[null,null,null,null,null,null,null,null,null,null,null,null,null,null,null,null,null,null,null,null,null,null,null,null,null,null,null,{"$f":"HISTO!P1904","v":0},{"$f":"IF(AC1904=\"\",\"Zonard\",INDEX(AB1905:AB$2008,MIN(IF(COUNTIF(AC$2:AC1904,AB1905:AB$2008),ROW(AB$2008)-ROW()+1,ROW(AB1905:AB$2008)-ROW()+1))))","v":0},0]
[null,null,null,null,null,null,null,null,null,null,null,null,null,null,null,null,null,null,null,null,null,null,null,null,null,null,null,{"$f":"HISTO!P1905","v":0},{"$f":"IF(AC1905=\"\",\"Zonard\",INDEX(AB1906:AB$2008,MIN(IF(COUNTIF(AC$2:AC1905,AB1906:AB$2008),ROW(AB$2008)-ROW()+1,ROW(AB1906:AB$2008)-ROW()+1))))","v":0},0]
[null,null,null,null,null,null,null,null,null,null,null,null,null,null,null,null,null,null,null,null,null,null,null,null,null,null,null,{"$f":"HISTO!P1906","v":0},{"$f":"IF(AC1906=\"\",\"Zonard\",INDEX(AB1907:AB$2008,MIN(IF(COUNTIF(AC$2:AC1906,AB1907:AB$2008),ROW(AB$2008)-ROW()+1,ROW(AB1907:AB$2008)-ROW()+1))))","v":0},0]
[null,null,null,null,null,null,null,null,null,null,null,null,null,null,null,null,null,null,null,null,null,null,null,null,null,null,null,{"$f":"HISTO!P1907","v":0},{"$f":"IF(AC1907=\"\",\"Zonard\",INDEX(AB1908:AB$2008,MIN(IF(COUNTIF(AC$2:AC1907,AB1908:AB$2008),ROW(AB$2008)-ROW()+1,ROW(AB1908:AB$2008)-ROW()+1))))","v":0},0]
[null,null,null,null,null,null,null,null,null,null,null,null,null,null,null,null,null,null,null,null,null,null,null,null,null,null,null,{"$f":"HISTO!P1908","v":0},{"$f":"IF(AC1908=\"\",\"Zonard\",INDEX(AB1909:AB$2008,MIN(IF(COUNTIF(AC$2:AC1908,AB1909:AB$2008),ROW(AB$2008)-ROW()+1,ROW(AB1909:AB$2008)-ROW()+1))))","v":0},0]
[null,null,null,null,null,null,null,null,null,null,null,null,null,null,null,null,null,null,null,null,null,null,null,null,null,null,null,{"$f":"HISTO!P1909","v":0},{"$f":"IF(AC1909=\"\",\"Zonard\",INDEX(AB1910:AB$2008,MIN(IF(COUNTIF(AC$2:AC1909,AB1910:AB$2008),ROW(AB$2008)-ROW()+1,ROW(AB1910:AB$2008)-ROW()+1))))","v":0},0]
[null,null,null,null,null,null,null,null,null,null,null,null,null,null,null,null,null,null,null,null,null,null,null,null,null,null,null,{"$f":"HISTO!P1910","v":0},{"$f":"IF(AC1910=\"\",\"Zonard\",INDEX(AB1911:AB$2008,MIN(IF(COUNTIF(AC$2:AC1910,AB1911:AB$2008),ROW(AB$2008)-ROW()+1,ROW(AB1911:AB$2008)-ROW()+1))))","v":0},0]
[null,null,null,null,null,null,null,null,null,null,null,null,null,null,null,null,null,null,null,null,null,null,null,null,null,null,null,{"$f":"HISTO!P1911","v":0},{"$f":"IF(AC1911=\"\",\"Zonard\",INDEX(AB1912:AB$2008,MIN(IF(COUNTIF(AC$2:AC1911,AB1912:AB$2008),ROW(AB$2008)-ROW()+1,ROW(AB1912:AB$2008)-ROW()+1))))","v":0},0]
[null,null,null,null,null,null,null,null,null,null,null,null,null,null,null,null,null,null,null,null,null,null,null,null,null,null,null,{"$f":"HISTO!P1912","v":0},{"$f":"IF(AC1912=\"\",\"Zonard\",INDEX(AB1913:AB$2008,MIN(IF(COUNTIF(AC$2:AC1912,AB1913:AB$2008),ROW(AB$2008)-ROW()+1,ROW(AB1913:AB$2008)-ROW()+1))))","v":0},0]
[null,null,null,null,null,null,null,null,null,null,null,null,null,null,null,null,null,null,null,null,null,null,null,null,null,null,null,{"$f":"HISTO!P1913","v":0},{"$f":"IF(AC1913=\"\",\"Zonard\",INDEX(AB1914:AB$2008,MIN(IF(COUNTIF(AC$2:AC1913,AB1914:AB$2008),ROW(AB$2008)-ROW()+1,ROW(AB1914:AB$2008)-ROW()+1))))","v":0},0]
[null,null,null,null,null,null,null,null,null,null,null,null,null,null,null,null,null,null,null,null,null,null,null,null,null,null,null,{"$f":"HISTO!P1914","v":0},{"$f":"IF(AC1914=\"\",\"Zonard\",INDEX(AB1915:AB$2008,MIN(IF(COUNTIF(AC$2:AC1914,AB1915:AB$2008),ROW(AB$2008)-ROW()+1,ROW(AB1915:AB$2008)-ROW()+1))))","v":0},0]
[null,null,null,null,null,null,null,null,null,null,null,null,null,null,null,null,null,null,null,null,null,null,null,null,null,null,null,{"$f":"HISTO!P1915","v":0},{"$f":"IF(AC1915=\"\",\"Zonard\",INDEX(AB1916:AB$2008,MIN(IF(COUNTIF(AC$2:AC1915,AB1916:AB$2008),ROW(AB$2008)-ROW()+1,ROW(AB1916:AB$2008)-ROW()+1))))","v":0},0]
[null,null,null,null,null,null,null,null,null,null,null,null,null,null,null,null,null,null,null,null,null,null,null,null,null,null,null,{"$f":"HISTO!P1916","v":0},{"$f":"IF(AC1916=\"\",\"Zonard\",INDEX(AB1917:AB$2008,MIN(IF(COUNTIF(AC$2:AC1916,AB1917:AB$2008),ROW(AB$2008)-ROW()+1,ROW(AB1917:AB$2008)-ROW()+1))))","v":0},0]
[null,null,null,null,null,null,null,null,null,null,null,null,null,null,null,null,null,null,null,null,null,null,null,null,null,null,null,{"$f":"HISTO!P1917","v":0},{"$f":"IF(AC1917=\"\",\"Zonard\",INDEX(AB1918:AB$2008,MIN(IF(COUNTIF(AC$2:AC1917,AB1918:AB$2008),ROW(AB$2008)-ROW()+1,ROW(AB1918:AB$2008)-ROW()+1))))","v":0},0]
[null,null,null,null,null,null,null,null,null,null,null,null,null,null,null,null,null,null,null,null,null,null,null,null,null,null,null,{"$f":"HISTO!P1918","v":0},{"$f":"IF(AC1918=\"\",\"Zonard\",INDEX(AB1919:AB$2008,MIN(IF(COUNTIF(AC$2:AC1918,AB1919:AB$2008),ROW(AB$2008)-ROW()+1,ROW(AB1919:AB$2008)-ROW()+1))))","v":0},0]
[null,null,null,null,null,null,null,null,null,null,null,null,null,null,null,null,null,null,null,null,null,null,null,null,null,null,null,{"$f":"HISTO!P1919","v":0},{"$f":"IF(AC1919=\"\",\"Zonard\",INDEX(AB1920:AB$2008,MIN(IF(COUNTIF(AC$2:AC1919,AB1920:AB$2008),ROW(AB$2008)-ROW()+1,ROW(AB1920:AB$2008)-ROW()+1))))","v":0},0]
[null,null,null,null,null,null,null,null,null,null,null,null,null,null,null,null,null,null,null,null,null,null,null,null,null,null,null,{"$f":"HISTO!P1920","v":0},{"$f":"IF(AC1920=\"\",\"Zonard\",INDEX(AB1921:AB$2008,MIN(IF(COUNTIF(AC$2:AC1920,AB1921:AB$2008),ROW(AB$2008)-ROW()+1,ROW(AB1921:AB$2008)-ROW()+1))))","v":0},0]
[null,null,null,null,null,null,null,null,null,null,null,null,null,null,null,null,null,null,null,null,null,null,null,null,null,null,null,{"$f":"HISTO!P1921","v":0},{"$f":"IF(AC1921=\"\",\"Zonard\",INDEX(AB1922:AB$2008,MIN(IF(COUNTIF(AC$2:AC1921,AB1922:AB$2008),ROW(AB$2008)-ROW()+1,ROW(AB1922:AB$2008)-ROW()+1))))","v":0},0]
[null,null,null,null,null,null,null,null,null,null,null,null,null,null,null,null,null,null,null,null,null,null,null,null,null,null,null,{"$f":"HISTO!P1922","v":0},{"$f":"IF(AC1922=\"\",\"Zonard\",INDEX(AB1923:AB$2008,MIN(IF(COUNTIF(AC$2:AC1922,AB1923:AB$2008),ROW(AB$2008)-ROW()+1,ROW(AB1923:AB$2008)-ROW()+1))))","v":0},0]
[null,null,null,null,null,null,null,null,null,null,null,null,null,null,null,null,null,null,null,null,null,null,null,null,null,null,null,{"$f":"HISTO!P1923","v":0},{"$f":"IF(AC1923=\"\",\"Zonard\",INDEX(AB1924:AB$2008,MIN(IF(COUNTIF(AC$2:AC1923,AB1924:AB$2008),ROW(AB$2008)-ROW()+1,ROW(AB1924:AB$2008)-ROW()+1))))","v":0},0]
[null,null,null,null,null,null,null,null,null,null,null,null,null,null,null,null,null,null,null,null,null,null,null,null,null,null,null,{"$f":"HISTO!P1924","v":0},{"$f":"IF(AC1924=\"\",\"Zonard\",INDEX(AB1925:AB$2008,MIN(IF(COUNTIF(AC$2:AC1924,AB1925:AB$2008),ROW(AB$2008)-ROW()+1,ROW(AB1925:AB$2008)-ROW()+1))))","v":0},0]
[null,null,null,null,null,null,null,null,null,null,null,null,null,null,null,null,null,null,null,null,null,null,null,null,null,null,null,{"$f":"HISTO!P1925","v":0},{"$f":"IF(AC1925=\"\",\"Zonard\",INDEX(AB1926:AB$2008,MIN(IF(COUNTIF(AC$2:AC1925,AB1926:AB$2008),ROW(AB$2008)-ROW()+1,ROW(AB1926:AB$2008)-ROW()+1))))","v":0},0]
[null,null,null,null,null,null,null,null,null,null,null,null,null,null,null,null,null,null,null,null,null,null,null,null,null,null,null,{"$f":"HISTO!P1926","v":0},{"$f":"IF(AC1926=\"\",\"Zonard\",INDEX(AB1927:AB$2008,MIN(IF(COUNTIF(AC$2:AC1926,AB1927:AB$2008),ROW(AB$2008)-ROW()+1,ROW(AB1927:AB$2008)-ROW()+1))))","v":0},0]
[null,null,null,null,null,null,null,null,null,null,null,null,null,null,null,null,null,null,null,null,null,null,null,null,null,null,null,{"$f":"HISTO!P1927","v":0},{"$f":"IF(AC1927=\"\",\"Zonard\",INDEX(AB1928:AB$2008,MIN(IF(COUNTIF(AC$2:AC1927,AB1928:AB$2008),ROW(AB$2008)-ROW()+1,ROW(AB1928:AB$2008)-ROW()+1))))","v":0},0]
[null,null,null,null,null,null,null,null,null,null,null,null,null,null,null,null,null,null,null,null,null,null,null,null,null,null,null,{"$f":"HISTO!P1928","v":0},{"$f":"IF(AC1928=\"\",\"Zonard\",INDEX(AB1929:AB$2008,MIN(IF(COUNTIF(AC$2:AC1928,AB1929:AB$2008),ROW(AB$2008)-ROW()+1,ROW(AB1929:AB$2008)-ROW()+1))))","v":0},0]
[null,null,null,null,null,null,null,null,null,null,null,null,null,null,null,null,null,null,null,null,null,null,null,null,null,null,null,{"$f":"HISTO!P1929","v":0},{"$f":"IF(AC1929=\"\",\"Zonard\",INDEX(AB1930:AB$2008,MIN(IF(COUNTIF(AC$2:AC1929,AB1930:AB$2008),ROW(AB$2008)-ROW()+1,ROW(AB1930:AB$2008)-ROW()+1))))","v":0},0]
[null,null,null,null,null,null,null,null,null,null,null,null,null,null,null,null,null,null,null,null,null,null,null,null,null,null,null,{"$f":"HISTO!P1930","v":0},{"$f":"IF(AC1930=\"\",\"Zonard\",INDEX(AB1931:AB$2008,MIN(IF(COUNTIF(AC$2:AC1930,AB1931:AB$2008),ROW(AB$2008)-ROW()+1,ROW(AB1931:AB$2008)-ROW()+1))))","v":0},0]
[null,null,null,null,null,null,null,null,null,null,null,null,null,null,null,null,null,null,null,null,null,null,null,null,null,null,null,{"$f":"HISTO!P1931","v":0},{"$f":"IF(AC1931=\"\",\"Zonard\",INDEX(AB1932:AB$2008,MIN(IF(COUNTIF(AC$2:AC1931,AB1932:AB$2008),ROW(AB$2008)-ROW()+1,ROW(AB1932:AB$2008)-ROW()+1))))","v":0},0]
[null,null,null,null,null,null,null,null,null,null,null,null,null,null,null,null,null,null,null,null,null,null,null,null,null,null,null,{"$f":"HISTO!P1932","v":0},{"$f":"IF(AC1932=\"\",\"Zonard\",INDEX(AB1933:AB$2008,MIN(IF(COUNTIF(AC$2:AC1932,AB1933:AB$2008),ROW(AB$2008)-ROW()+1,ROW(AB1933:AB$2008)-ROW()+1))))","v":0},0]
[null,null,null,null,null,null,null,null,null,null,null,null,null,null,null,null,null,null,null,null,null,null,null,null,null,null,null,{"$f":"HISTO!P1933","v":0},{"$f":"IF(AC1933=\"\",\"Zonard\",INDEX(AB1934:AB$2008,MIN(IF(COUNTIF(AC$2:AC1933,AB1934:AB$2008),ROW(AB$2008)-ROW()+1,ROW(AB1934:AB$2008)-ROW()+1))))","v":0},0]
[null,null,null,null,null,null,null,null,null,null,null,null,null,null,null,null,null,null,null,null,null,null,null,null,null,null,null,{"$f":"HISTO!P1934","v":0},{"$f":"IF(AC1934=\"\",\"Zonard\",INDEX(AB1935:AB$2008,MIN(IF(COUNTIF(AC$2:AC1934,AB1935:AB$2008),ROW(AB$2008)-ROW()+1,ROW(AB1935:AB$2008)-ROW()+1))))","v":0},0]
[null,null,null,null,null,null,null,null,null,null,null,null,null,null,null,null,null,null,null,null,null,null,null,null,null,null,null,{"$f":"HISTO!P1935","v":0},{"$f":"IF(AC1935=\"\",\"Zonard\",INDEX(AB1936:AB$2008,MIN(IF(COUNTIF(AC$2:AC1935,AB1936:AB$2008),ROW(AB$2008)-ROW()+1,ROW(AB1936:AB$2008)-ROW()+1))))","v":0},0]
[null,null,null,null,null,null,null,null,null,null,null,null,null,null,null,null,null,null,null,null,null,null,null,null,null,null,null,{"$f":"HISTO!P1936","v":0},{"$f":"IF(AC1936=\"\",\"Zonard\",INDEX(AB1937:AB$2008,MIN(IF(COUNTIF(AC$2:AC1936,AB1937:AB$2008),ROW(AB$2008)-ROW()+1,ROW(AB1937:AB$2008)-ROW()+1))))","v":0},0]
[null,null,null,null,null,null,null,null,null,null,null,null,null,null,null,null,null,null,null,null,null,null,null,null,null,null,null,{"$f":"HISTO!P1937","v":0},{"$f":"IF(AC1937=\"\",\"Zonard\",INDEX(AB1938:AB$2008,MIN(IF(COUNTIF(AC$2:AC1937,AB1938:AB$2008),ROW(AB$2008)-ROW()+1,ROW(AB1938:AB$2008)-ROW()+1))))","v":0},0]
[null,null,null,null,null,null,null,null,null,null,null,null,null,null,null,null,null,null,null,null,null,null,null,null,null,null,null,{"$f":"HISTO!P1938","v":0},{"$f":"IF(AC1938=\"\",\"Zonard\",INDEX(AB1939:AB$2008,MIN(IF(COUNTIF(AC$2:AC1938,AB1939:AB$2008),ROW(AB$2008)-ROW()+1,ROW(AB1939:AB$2008)-ROW()+1))))","v":0},0]
[null,null,null,null,null,null,null,null,null,null,null,null,null,null,null,null,null,null,null,null,null,null,null,null,null,null,null,{"$f":"HISTO!P1939","v":0},{"$f":"IF(AC1939=\"\",\"Zonard\",INDEX(AB1940:AB$2008,MIN(IF(COUNTIF(AC$2:AC1939,AB1940:AB$2008),ROW(AB$2008)-ROW()+1,ROW(AB1940:AB$2008)-ROW()+1))))","v":0},0]
[null,null,null,null,null,null,null,null,null,null,null,null,null,null,null,null,null,null,null,null,null,null,null,null,null,null,null,{"$f":"HISTO!P1940","v":0},{"$f":"IF(AC1940=\"\",\"Zonard\",INDEX(AB1941:AB$2008,MIN(IF(COUNTIF(AC$2:AC1940,AB1941:AB$2008),ROW(AB$2008)-ROW()+1,ROW(AB1941:AB$2008)-ROW()+1))))","v":0},0]
[null,null,null,null,null,null,null,null,null,null,null,null,null,null,null,null,null,null,null,null,null,null,null,null,null,null,null,{"$f":"HISTO!P1941","v":0},{"$f":"IF(AC1941=\"\",\"Zonard\",INDEX(AB1942:AB$2008,MIN(IF(COUNTIF(AC$2:AC1941,AB1942:AB$2008),ROW(AB$2008)-ROW()+1,ROW(AB1942:AB$2008)-ROW()+1))))","v":0},0]
[null,null,null,null,null,null,null,null,null,null,null,null,null,null,null,null,null,null,null,null,null,null,null,null,null,null,null,{"$f":"HISTO!P1942","v":0},{"$f":"IF(AC1942=\"\",\"Zonard\",INDEX(AB1943:AB$2008,MIN(IF(COUNTIF(AC$2:AC1942,AB1943:AB$2008),ROW(AB$2008)-ROW()+1,ROW(AB1943:AB$2008)-ROW()+1))))","v":0},0]
[null,null,null,null,null,null,null,null,null,null,null,null,null,null,null,null,null,null,null,null,null,null,null,null,null,null,null,{"$f":"HISTO!P1943","v":0},{"$f":"IF(AC1943=\"\",\"Zonard\",INDEX(AB1944:AB$2008,MIN(IF(COUNTIF(AC$2:AC1943,AB1944:AB$2008),ROW(AB$2008)-ROW()+1,ROW(AB1944:AB$2008)-ROW()+1))))","v":0},0]
[null,null,null,null,null,null,null,null,null,null,null,null,null,null,null,null,null,null,null,null,null,null,null,null,null,null,null,{"$f":"HISTO!P1944","v":0},{"$f":"IF(AC1944=\"\",\"Zonard\",INDEX(AB1945:AB$2008,MIN(IF(COUNTIF(AC$2:AC1944,AB1945:AB$2008),ROW(AB$2008)-ROW()+1,ROW(AB1945:AB$2008)-ROW()+1))))","v":0},0]
[null,null,null,null,null,null,null,null,null,null,null,null,null,null,null,null,null,null,null,null,null,null,null,null,null,null,null,{"$f":"HISTO!P1945","v":0},{"$f":"IF(AC1945=\"\",\"Zonard\",INDEX(AB1946:AB$2008,MIN(IF(COUNTIF(AC$2:AC1945,AB1946:AB$2008),ROW(AB$2008)-ROW()+1,ROW(AB1946:AB$2008)-ROW()+1))))","v":0},0]
[null,null,null,null,null,null,null,null,null,null,null,null,null,null,null,null,null,null,null,null,null,null,null,null,null,null,null,{"$f":"HISTO!P1946","v":0},{"$f":"IF(AC1946=\"\",\"Zonard\",INDEX(AB1947:AB$2008,MIN(IF(COUNTIF(AC$2:AC1946,AB1947:AB$2008),ROW(AB$2008)-ROW()+1,ROW(AB1947:AB$2008)-ROW()+1))))","v":0},0]
[null,null,null,null,null,null,null,null,null,null,null,null,null,null,null,null,null,null,null,null,null,null,null,null,null,null,null,{"$f":"HISTO!P1947","v":0},{"$f":"IF(AC1947=\"\",\"Zonard\",INDEX(AB1948:AB$2008,MIN(IF(COUNTIF(AC$2:AC1947,AB1948:AB$2008),ROW(AB$2008)-ROW()+1,ROW(AB1948:AB$2008)-ROW()+1))))","v":0},0]
[null,null,null,null,null,null,null,null,null,null,null,null,null,null,null,null,null,null,null,null,null,null,null,null,null,null,null,{"$f":"HISTO!P1948","v":0},{"$f":"IF(AC1948=\"\",\"Zonard\",INDEX(AB1949:AB$2008,MIN(IF(COUNTIF(AC$2:AC1948,AB1949:AB$2008),ROW(AB$2008)-ROW()+1,ROW(AB1949:AB$2008)-ROW()+1))))","v":0},0]
[null,null,null,null,null,null,null,null,null,null,null,null,null,null,null,null,null,null,null,null,null,null,null,null,null,null,null,{"$f":"HISTO!P1949","v":0},{"$f":"IF(AC1949=\"\",\"Zonard\",INDEX(AB1950:AB$2008,MIN(IF(COUNTIF(AC$2:AC1949,AB1950:AB$2008),ROW(AB$2008)-ROW()+1,ROW(AB1950:AB$2008)-ROW()+1))))","v":0},0]
[null,null,null,null,null,null,null,null,null,null,null,null,null,null,null,null,null,null,null,null,null,null,null,null,null,null,null,{"$f":"HISTO!P1950","v":0},{"$f":"IF(AC1950=\"\",\"Zonard\",INDEX(AB1951:AB$2008,MIN(IF(COUNTIF(AC$2:AC1950,AB1951:AB$2008),ROW(AB$2008)-ROW()+1,ROW(AB1951:AB$2008)-ROW()+1))))","v":0},0]
[null,null,null,null,null,null,null,null,null,null,null,null,null,null,null,null,null,null,null,null,null,null,null,null,null,null,null,{"$f":"HISTO!P1951","v":0},{"$f":"IF(AC1951=\"\",\"Zonard\",INDEX(AB1952:AB$2008,MIN(IF(COUNTIF(AC$2:AC1951,AB1952:AB$2008),ROW(AB$2008)-ROW()+1,ROW(AB1952:AB$2008)-ROW()+1))))","v":0},0]
[null,null,null,null,null,null,null,null,null,null,null,null,null,null,null,null,null,null,null,null,null,null,null,null,null,null,null,{"$f":"HISTO!P1952","v":0},{"$f":"IF(AC1952=\"\",\"Zonard\",INDEX(AB1953:AB$2008,MIN(IF(COUNTIF(AC$2:AC1952,AB1953:AB$2008),ROW(AB$2008)-ROW()+1,ROW(AB1953:AB$2008)-ROW()+1))))","v":0},0]
[null,null,null,null,null,null,null,null,null,null,null,null,null,null,null,null,null,null,null,null,null,null,null,null,null,null,null,{"$f":"HISTO!P1953","v":0},{"$f":"IF(AC1953=\"\",\"Zonard\",INDEX(AB1954:AB$2008,MIN(IF(COUNTIF(AC$2:AC1953,AB1954:AB$2008),ROW(AB$2008)-ROW()+1,ROW(AB1954:AB$2008)-ROW()+1))))","v":0},0]
[null,null,null,null,null,null,null,null,null,null,null,null,null,null,null,null,null,null,null,null,null,null,null,null,null,null,null,{"$f":"HISTO!P1954","v":0},{"$f":"IF(AC1954=\"\",\"Zonard\",INDEX(AB1955:AB$2008,MIN(IF(COUNTIF(AC$2:AC1954,AB1955:AB$2008),ROW(AB$2008)-ROW()+1,ROW(AB1955:AB$2008)-ROW()+1))))","v":0},0]
[null,null,null,null,null,null,null,null,null,null,null,null,null,null,null,null,null,null,null,null,null,null,null,null,null,null,null,{"$f":"HISTO!P1955","v":0},{"$f":"IF(AC1955=\"\",\"Zonard\",INDEX(AB1956:AB$2008,MIN(IF(COUNTIF(AC$2:AC1955,AB1956:AB$2008),ROW(AB$2008)-ROW()+1,ROW(AB1956:AB$2008)-ROW()+1))))","v":0},0]
[null,null,null,null,null,null,null,null,null,null,null,null,null,null,null,null,null,null,null,null,null,null,null,null,null,null,null,{"$f":"HISTO!P1956","v":0},{"$f":"IF(AC1956=\"\",\"Zonard\",INDEX(AB1957:AB$2008,MIN(IF(COUNTIF(AC$2:AC1956,AB1957:AB$2008),ROW(AB$2008)-ROW()+1,ROW(AB1957:AB$2008)-ROW()+1))))","v":0},0]
[null,null,null,null,null,null,null,null,null,null,null,null,null,null,null,null,null,null,null,null,null,null,null,null,null,null,null,{"$f":"HISTO!P1957","v":0},{"$f":"IF(AC1957=\"\",\"Zonard\",INDEX(AB1958:AB$2008,MIN(IF(COUNTIF(AC$2:AC1957,AB1958:AB$2008),ROW(AB$2008)-ROW()+1,ROW(AB1958:AB$2008)-ROW()+1))))","v":0},0]
[null,null,null,null,null,null,null,null,null,null,null,null,null,null,null,null,null,null,null,null,null,null,null,null,null,null,null,{"$f":"HISTO!P1958","v":0},{"$f":"IF(AC1958=\"\",\"Zonard\",INDEX(AB1959:AB$2008,MIN(IF(COUNTIF(AC$2:AC1958,AB1959:AB$2008),ROW(AB$2008)-ROW()+1,ROW(AB1959:AB$2008)-ROW()+1))))","v":0},0]
[null,null,null,null,null,null,null,null,null,null,null,null,null,null,null,null,null,null,null,null,null,null,null,null,null,null,null,{"$f":"HISTO!P1959","v":0},{"$f":"IF(AC1959=\"\",\"Zonard\",INDEX(AB1960:AB$2008,MIN(IF(COUNTIF(AC$2:AC1959,AB1960:AB$2008),ROW(AB$2008)-ROW()+1,ROW(AB1960:AB$2008)-ROW()+1))))","v":0},0]
[null,null,null,null,null,null,null,null,null,null,null,null,null,null,null,null,null,null,null,null,null,null,null,null,null,null,null,{"$f":"HISTO!P1960","v":0},{"$f":"IF(AC1960=\"\",\"Zonard\",INDEX(AB1961:AB$2008,MIN(IF(COUNTIF(AC$2:AC1960,AB1961:AB$2008),ROW(AB$2008)-ROW()+1,ROW(AB1961:AB$2008)-ROW()+1))))","v":0},0]
[null,null,null,null,null,null,null,null,null,null,null,null,null,null,null,null,null,null,null,null,null,null,null,null,null,null,null,{"$f":"HISTO!P1961","v":0},{"$f":"IF(AC1961=\"\",\"Zonard\",INDEX(AB1962:AB$2008,MIN(IF(COUNTIF(AC$2:AC1961,AB1962:AB$2008),ROW(AB$2008)-ROW()+1,ROW(AB1962:AB$2008)-ROW()+1))))","v":0},0]
[null,null,null,null,null,null,null,null,null,null,null,null,null,null,null,null,null,null,null,null,null,null,null,null,null,null,null,{"$f":"HISTO!P1962","v":0},{"$f":"IF(AC1962=\"\",\"Zonard\",INDEX(AB1963:AB$2008,MIN(IF(COUNTIF(AC$2:AC1962,AB1963:AB$2008),ROW(AB$2008)-ROW()+1,ROW(AB1963:AB$2008)-ROW()+1))))","v":0},0]
[null,null,null,null,null,null,null,null,null,null,null,null,null,null,null,null,null,null,null,null,null,null,null,null,null,null,null,{"$f":"HISTO!P1963","v":0},{"$f":"IF(AC1963=\"\",\"Zonard\",INDEX(AB1964:AB$2008,MIN(IF(COUNTIF(AC$2:AC1963,AB1964:AB$2008),ROW(AB$2008)-ROW()+1,ROW(AB1964:AB$2008)-ROW()+1))))","v":0},0]
[null,null,null,null,null,null,null,null,null,null,null,null,null,null,null,null,null,null,null,null,null,null,null,null,null,null,null,{"$f":"HISTO!P1964","v":0},{"$f":"IF(AC1964=\"\",\"Zonard\",INDEX(AB1965:AB$2008,MIN(IF(COUNTIF(AC$2:AC1964,AB1965:AB$2008),ROW(AB$2008)-ROW()+1,ROW(AB1965:AB$2008)-ROW()+1))))","v":0},0]
[null,null,null,null,null,null,null,null,null,null,null,null,null,null,null,null,null,null,null,null,null,null,null,null,null,null,null,{"$f":"HISTO!P1965","v":0},{"$f":"IF(AC1965=\"\",\"Zonard\",INDEX(AB1966:AB$2008,MIN(IF(COUNTIF(AC$2:AC1965,AB1966:AB$2008),ROW(AB$2008)-ROW()+1,ROW(AB1966:AB$2008)-ROW()+1))))","v":0},0]
[null,null,null,null,null,null,null,null,null,null,null,null,null,null,null,null,null,null,null,null,null,null,null,null,null,null,null,{"$f":"HISTO!P1966","v":0},{"$f":"IF(AC1966=\"\",\"Zonard\",INDEX(AB1967:AB$2008,MIN(IF(COUNTIF(AC$2:AC1966,AB1967:AB$2008),ROW(AB$2008)-ROW()+1,ROW(AB1967:AB$2008)-ROW()+1))))","v":0},0]
[null,null,null,null,null,null,null,null,null,null,null,null,null,null,null,null,null,null,null,null,null,null,null,null,null,null,null,{"$f":"HISTO!P1967","v":0},{"$f":"IF(AC1967=\"\",\"Zonard\",INDEX(AB1968:AB$2008,MIN(IF(COUNTIF(AC$2:AC1967,AB1968:AB$2008),ROW(AB$2008)-ROW()+1,ROW(AB1968:AB$2008)-ROW()+1))))","v":0},0]
[null,null,null,null,null,null,null,null,null,null,null,null,null,null,null,null,null,null,null,null,null,null,null,null,null,null,null,{"$f":"HISTO!P1968","v":0},{"$f":"IF(AC1968=\"\",\"Zonard\",INDEX(AB1969:AB$2008,MIN(IF(COUNTIF(AC$2:AC1968,AB1969:AB$2008),ROW(AB$2008)-ROW()+1,ROW(AB1969:AB$2008)-ROW()+1))))","v":0},0]
[null,null,null,null,null,null,null,null,null,null,null,null,null,null,null,null,null,null,null,null,null,null,null,null,null,null,null,{"$f":"HISTO!P1969","v":0},{"$f":"IF(AC1969=\"\",\"Zonard\",INDEX(AB1970:AB$2008,MIN(IF(COUNTIF(AC$2:AC1969,AB1970:AB$2008),ROW(AB$2008)-ROW()+1,ROW(AB1970:AB$2008)-ROW()+1))))","v":0},0]
[null,null,null,null,null,null,null,null,null,null,null,null,null,null,null,null,null,null,null,null,null,null,null,null,null,null,null,{"$f":"HISTO!P1970","v":0},{"$f":"IF(AC1970=\"\",\"Zonard\",INDEX(AB1971:AB$2008,MIN(IF(COUNTIF(AC$2:AC1970,AB1971:AB$2008),ROW(AB$2008)-ROW()+1,ROW(AB1971:AB$2008)-ROW()+1))))","v":0},0]
[null,null,null,null,null,null,null,null,null,null,null,null,null,null,null,null,null,null,null,null,null,null,null,null,null,null,null,{"$f":"HISTO!P1971","v":0},{"$f":"IF(AC1971=\"\",\"Zonard\",INDEX(AB1972:AB$2008,MIN(IF(COUNTIF(AC$2:AC1971,AB1972:AB$2008),ROW(AB$2008)-ROW()+1,ROW(AB1972:AB$2008)-ROW()+1))))","v":0},0]
[null,null,null,null,null,null,null,null,null,null,null,null,null,null,null,null,null,null,null,null,null,null,null,null,null,null,null,{"$f":"HISTO!P1972","v":0},{"$f":"IF(AC1972=\"\",\"Zonard\",INDEX(AB1973:AB$2008,MIN(IF(COUNTIF(AC$2:AC1972,AB1973:AB$2008),ROW(AB$2008)-ROW()+1,ROW(AB1973:AB$2008)-ROW()+1))))","v":0},0]
[null,null,null,null,null,null,null,null,null,null,null,null,null,null,null,null,null,null,null,null,null,null,null,null,null,null,null,{"$f":"HISTO!P1973","v":0},{"$f":"IF(AC1973=\"\",\"Zonard\",INDEX(AB1974:AB$2008,MIN(IF(COUNTIF(AC$2:AC1973,AB1974:AB$2008),ROW(AB$2008)-ROW()+1,ROW(AB1974:AB$2008)-ROW()+1))))","v":0},0]
[null,null,null,null,null,null,null,null,null,null,null,null,null,null,null,null,null,null,null,null,null,null,null,null,null,null,null,{"$f":"HISTO!P1974","v":0},{"$f":"IF(AC1974=\"\",\"Zonard\",INDEX(AB1975:AB$2008,MIN(IF(COUNTIF(AC$2:AC1974,AB1975:AB$2008),ROW(AB$2008)-ROW()+1,ROW(AB1975:AB$2008)-ROW()+1))))","v":0},0]
[null,null,null,null,null,null,null,null,null,null,null,null,null,null,null,null,null,null,null,null,null,null,null,null,null,null,null,{"$f":"HISTO!P1975","v":0},{"$f":"IF(AC1975=\"\",\"Zonard\",INDEX(AB1976:AB$2008,MIN(IF(COUNTIF(AC$2:AC1975,AB1976:AB$2008),ROW(AB$2008)-ROW()+1,ROW(AB1976:AB$2008)-ROW()+1))))","v":0},0]
[null,null,null,null,null,null,null,null,null,null,null,null,null,null,null,null,null,null,null,null,null,null,null,null,null,null,null,{"$f":"HISTO!P1976","v":0},{"$f":"IF(AC1976=\"\",\"Zonard\",INDEX(AB1977:AB$2008,MIN(IF(COUNTIF(AC$2:AC1976,AB1977:AB$2008),ROW(AB$2008)-ROW()+1,ROW(AB1977:AB$2008)-ROW()+1))))","v":0},0]
[null,null,null,null,null,null,null,null,null,null,null,null,null,null,null,null,null,null,null,null,null,null,null,null,null,null,null,{"$f":"HISTO!P1977","v":0},{"$f":"IF(AC1977=\"\",\"Zonard\",INDEX(AB1978:AB$2008,MIN(IF(COUNTIF(AC$2:AC1977,AB1978:AB$2008),ROW(AB$2008)-ROW()+1,ROW(AB1978:AB$2008)-ROW()+1))))","v":0},0]
[null,null,null,null,null,null,null,null,null,null,null,null,null,null,null,null,null,null,null,null,null,null,null,null,null,null,null,{"$f":"HISTO!P1978","v":0},{"$f":"IF(AC1978=\"\",\"Zonard\",INDEX(AB1979:AB$2008,MIN(IF(COUNTIF(AC$2:AC1978,AB1979:AB$2008),ROW(AB$2008)-ROW()+1,ROW(AB1979:AB$2008)-ROW()+1))))","v":0},0]
[null,null,null,null,null,null,null,null,null,null,null,null,null,null,null,null,null,null,null,null,null,null,null,null,null,null,null,{"$f":"HISTO!P1979","v":0},{"$f":"IF(AC1979=\"\",\"Zonard\",INDEX(AB1980:AB$2008,MIN(IF(COUNTIF(AC$2:AC1979,AB1980:AB$2008),ROW(AB$2008)-ROW()+1,ROW(AB1980:AB$2008)-ROW()+1))))","v":0},0]
[null,null,null,null,null,null,null,null,null,null,null,null,null,null,null,null,null,null,null,null,null,null,null,null,null,null,null,{"$f":"HISTO!P1980","v":0},{"$f":"IF(AC1980=\"\",\"Zonard\",INDEX(AB1981:AB$2008,MIN(IF(COUNTIF(AC$2:AC1980,AB1981:AB$2008),ROW(AB$2008)-ROW()+1,ROW(AB1981:AB$2008)-ROW()+1))))","v":0},0]
[null,null,null,null,null,null,null,null,null,null,null,null,null,null,null,null,null,null,null,null,null,null,null,null,null,null,null,{"$f":"HISTO!P1981","v":0},{"$f":"IF(AC1981=\"\",\"Zonard\",INDEX(AB1982:AB$2008,MIN(IF(COUNTIF(AC$2:AC1981,AB1982:AB$2008),ROW(AB$2008)-ROW()+1,ROW(AB1982:AB$2008)-ROW()+1))))","v":0},0]
[null,null,null,null,null,null,null,null,null,null,null,null,null,null,null,null,null,null,null,null,null,null,null,null,null,null,null,{"$f":"HISTO!P1982","v":0},{"$f":"IF(AC1982=\"\",\"Zonard\",INDEX(AB1983:AB$2008,MIN(IF(COUNTIF(AC$2:AC1982,AB1983:AB$2008),ROW(AB$2008)-ROW()+1,ROW(AB1983:AB$2008)-ROW()+1))))","v":0},0]
[null,null,null,null,null,null,null,null,null,null,null,null,null,null,null,null,null,null,null,null,null,null,null,null,null,null,null,{"$f":"HISTO!P1983","v":0},{"$f":"IF(AC1983=\"\",\"Zonard\",INDEX(AB1984:AB$2008,MIN(IF(COUNTIF(AC$2:AC1983,AB1984:AB$2008),ROW(AB$2008)-ROW()+1,ROW(AB1984:AB$2008)-ROW()+1))))","v":0},0]
[null,null,null,null,null,null,null,null,null,null,null,null,null,null,null,null,null,null,null,null,null,null,null,null,null,null,null,{"$f":"HISTO!P1984","v":0},{"$f":"IF(AC1984=\"\",\"Zonard\",INDEX(AB1985:AB$2008,MIN(IF(COUNTIF(AC$2:AC1984,AB1985:AB$2008),ROW(AB$2008)-ROW()+1,ROW(AB1985:AB$2008)-ROW()+1))))","v":0},0]
[null,null,null,null,null,null,null,null,null,null,null,null,null,null,null,null,null,null,null,null,null,null,null,null,null,null,null,{"$f":"HISTO!P1985","v":0},{"$f":"IF(AC1985=\"\",\"Zonard\",INDEX(AB1986:AB$2008,MIN(IF(COUNTIF(AC$2:AC1985,AB1986:AB$2008),ROW(AB$2008)-ROW()+1,ROW(AB1986:AB$2008)-ROW()+1))))","v":0},0]
[null,null,null,null,null,null,null,null,null,null,null,null,null,null,null,null,null,null,null,null,null,null,null,null,null,null,null,{"$f":"HISTO!P1986","v":0},{"$f":"IF(AC1986=\"\",\"Zonard\",INDEX(AB1987:AB$2008,MIN(IF(COUNTIF(AC$2:AC1986,AB1987:AB$2008),ROW(AB$2008)-ROW()+1,ROW(AB1987:AB$2008)-ROW()+1))))","v":0},0]
[null,null,null,null,null,null,null,null,null,null,null,null,null,null,null,null,null,null,null,null,null,null,null,null,null,null,null,{"$f":"HISTO!P1987","v":0},{"$f":"IF(AC1987=\"\",\"Zonard\",INDEX(AB1988:AB$2008,MIN(IF(COUNTIF(AC$2:AC1987,AB1988:AB$2008),ROW(AB$2008)-ROW()+1,ROW(AB1988:AB$2008)-ROW()+1))))","v":0},0]
[null,null,null,null,null,null,null,null,null,null,null,null,null,null,null,null,null,null,null,null,null,null,null,null,null,null,null,{"$f":"HISTO!P1988","v":0},{"$f":"IF(AC1988=\"\",\"Zonard\",INDEX(AB1989:AB$2008,MIN(IF(COUNTIF(AC$2:AC1988,AB1989:AB$2008),ROW(AB$2008)-ROW()+1,ROW(AB1989:AB$2008)-ROW()+1))))","v":0},0]
[null,null,null,null,null,null,null,null,null,null,null,null,null,null,null,null,null,null,null,null,null,null,null,null,null,null,null,{"$f":"HISTO!P1989","v":0},{"$f":"IF(AC1989=\"\",\"Zonard\",INDEX(AB1990:AB$2008,MIN(IF(COUNTIF(AC$2:AC1989,AB1990:AB$2008),ROW(AB$2008)-ROW()+1,ROW(AB1990:AB$2008)-ROW()+1))))","v":0},0]
[null,null,null,null,null,null,null,null,null,null,null,null,null,null,null,null,null,null,null,null,null,null,null,null,null,null,null,{"$f":"HISTO!P1990","v":0},{"$f":"IF(AC1990=\"\",\"Zonard\",INDEX(AB1991:AB$2008,MIN(IF(COUNTIF(AC$2:AC1990,AB1991:AB$2008),ROW(AB$2008)-ROW()+1,ROW(AB1991:AB$2008)-ROW()+1))))","v":0},0]
[null,null,null,null,null,null,null,null,null,null,null,null,null,null,null,null,null,null,null,null,null,null,null,null,null,null,null,{"$f":"HISTO!P1991","v":0},{"$f":"IF(AC1991=\"\",\"Zonard\",INDEX(AB1992:AB$2008,MIN(IF(COUNTIF(AC$2:AC1991,AB1992:AB$2008),ROW(AB$2008)-ROW()+1,ROW(AB1992:AB$2008)-ROW()+1))))","v":0},0]
[null,null,null,null,null,null,null,null,null,null,null,null,null,null,null,null,null,null,null,null,null,null,null,null,null,null,null,{"$f":"HISTO!P1992","v":0},{"$f":"IF(AC1992=\"\",\"Zonard\",INDEX(AB1993:AB$2008,MIN(IF(COUNTIF(AC$2:AC1992,AB1993:AB$2008),ROW(AB$2008)-ROW()+1,ROW(AB1993:AB$2008)-ROW()+1))))","v":0},0]
[null,null,null,null,null,null,null,null,null,null,null,null,null,null,null,null,null,null,null,null,null,null,null,null,null,null,null,{"$f":"HISTO!P1993","v":0},{"$f":"IF(AC1993=\"\",\"Zonard\",INDEX(AB1994:AB$2008,MIN(IF(COUNTIF(AC$2:AC1993,AB1994:AB$2008),ROW(AB$2008)-ROW()+1,ROW(AB1994:AB$2008)-ROW()+1))))","v":0},0]
[null,null,null,null,null,null,null,null,null,null,null,null,null,null,null,null,null,null,null,null,null,null,null,null,null,null,null,{"$f":"HISTO!P1994","v":0},{"$f":"IF(AC1994=\"\",\"Zonard\",INDEX(AB1995:AB$2008,MIN(IF(COUNTIF(AC$2:AC1994,AB1995:AB$2008),ROW(AB$2008)-ROW()+1,ROW(AB1995:AB$2008)-ROW()+1))))","v":0},0]
[null,null,null,null,null,null,null,null,null,null,null,null,null,null,null,null,null,null,null,null,null,null,null,null,null,null,null,{"$f":"HISTO!P1995","v":0},{"$f":"IF(AC1995=\"\",\"Zonard\",INDEX(AB1996:AB$2008,MIN(IF(COUNTIF(AC$2:AC1995,AB1996:AB$2008),ROW(AB$2008)-ROW()+1,ROW(AB1996:AB$2008)-ROW()+1))))","v":0},0]
[null,null,null,null,null,null,null,null,null,null,null,null,null,null,null,null,null,null,null,null,null,null,null,null,null,null,null,{"$f":"HISTO!P1996","v":0},{"$f":"IF(AC1996=\"\",\"Zonard\",INDEX(AB1997:AB$2008,MIN(IF(COUNTIF(AC$2:AC1996,AB1997:AB$2008),ROW(AB$2008)-ROW()+1,ROW(AB1997:AB$2008)-ROW()+1))))","v":0},0]
[null,null,null,null,null,null,null,null,null,null,null,null,null,null,null,null,null,null,null,null,null,null,null,null,null,null,null,{"$f":"HISTO!P1997","v":0},{"$f":"IF(AC1997=\"\",\"Zonard\",INDEX(AB1998:AB$2008,MIN(IF(COUNTIF(AC$2:AC1997,AB1998:AB$2008),ROW(AB$2008)-ROW()+1,ROW(AB1998:AB$2008)-ROW()+1))))","v":0}]
[null,null,null,null,null,null,null,null,null,null,null,null,null,null,null,null,null,null,null,null,null,null,null,null,null,null,null,{"$f":"HISTO!P1998","v":0},{"$f":"IF(AC1998=\"\",\"Zonard\",INDEX(AB1999:AB$2008,MIN(IF(COUNTIF(AC$2:AC1998,AB1999:AB$2008),ROW(AB$2008)-ROW()+1,ROW(AB1999:AB$2008)-ROW()+1))))","v":0}]
[null,null,null,null,null,null,null,null,null,null,null,null,null,null,null,null,null,null,null,null,null,null,null,null,null,null,null,{"$f":"HISTO!P1999","v":0},{"$f":"IF(AC1999=\"\",\"Zonard\",INDEX(AB2000:AB$2008,MIN(IF(COUNTIF(AC$2:AC1999,AB2000:AB$2008),ROW(AB$2008)-ROW()+1,ROW(AB2000:AB$2008)-ROW()+1))))","v":0}]
[null,null,null,null,null,null,null,null,null,null,null,null,null,null,null,null,null,null,null,null,null,null,null,null,null,null,null,{"$f":"HISTO!P2000","v":0},{"$f":"IF(AC2000=\"\",\"Zonard\",INDEX(AB2001:AB$2008,MIN(IF(COUNTIF(AC$2:AC2000,AB2001:AB$2008),ROW(AB$2008)-ROW()+1,ROW(AB2001:AB$2008)-ROW()+1))))","v":0},0]